Rhdf5lib 0.99.13 Mike Smith
Snapshot Date: 2017-08-15 17:18:21 -0400 (Tue, 15 Aug 2017) | URL: https://hedgehog.fhcrc.org/bioconductor/trunk/madman/Rpacks/Rhdf5lib | Last Changed Rev: 131294 / Revision: 131943 | Last Changed Date: 2017-07-17 16:16:53 -0400 (Mon, 17 Jul 2017) |
| malbec1 | Linux (Ubuntu 16.04.1 LTS) / x86_64 | OK | OK | OK | | |
tokay1 | Windows Server 2012 R2 Standard / x64 | OK | OK | OK | [ OK ] | |
veracruz1 | OS X 10.11.6 El Capitan / x86_64 | OK | OK | OK | OK | |
##############################################################################
##############################################################################
###
### Running command:
###
### cd Rhdf5lib.buildbin-libdir/Rhdf5lib && zip -r ../../Rhdf5lib_0.99.13.zip . & cd ../..
###
##############################################################################
##############################################################################
adding: DESCRIPTION (332 bytes security) (deflated 31%)
adding: doc/ (372 bytes security) (stored 0%)
adding: doc/index.html (332 bytes security) (deflated 58%)
adding: doc/Rhdf5lib.html (332 bytes security) (deflated 66%)
adding: doc/Rhdf5lib.R (332 bytes security) (deflated 55%)
adding: doc/Rhdf5lib.Rmd (332 bytes security) (deflated 52%)
adding: help/ (372 bytes security) (stored 0%)
adding: help/aliases.rds (332 bytes security) (stored 0%)
adding: help/AnIndex (332 bytes security) (deflated 40%)
adding: help/paths.rds (332 bytes security) (stored 0%)
adding: help/Rhdf5lib.rdb (332 bytes security) (stored 0%)
adding: help/Rhdf5lib.rdx (332 bytes security) (stored 0%)
adding: html/ (372 bytes security) (stored 0%)
adding: html/00Index.html (332 bytes security) (deflated 58%)
adding: html/R.css (332 bytes security) (deflated 75%)
adding: include/ (548 bytes security) (stored 0%)
adding: include/c++/ (548 bytes security) (stored 0%)
adding: include/c++/H5AbstractDs.h (332 bytes security) (deflated 64%)
adding: include/c++/H5Alltypes.h (332 bytes security) (deflated 63%)
adding: include/c++/H5ArrayType.h (332 bytes security) (deflated 62%)
adding: include/c++/H5AtomType.h (332 bytes security) (deflated 65%)
adding: include/c++/H5Attribute.h (332 bytes security) (deflated 66%)
adding: include/c++/H5Classes.h (332 bytes security) (deflated 66%)
adding: include/c++/H5CommonFG.h (332 bytes security) (deflated 75%)
adding: include/c++/H5CompType.h (332 bytes security) (deflated 72%)
adding: include/c++/H5Cpp.h (332 bytes security) (deflated 64%)
adding: include/c++/H5CppDoc.h (332 bytes security) (deflated 66%)
adding: include/c++/H5DataSet.h (332 bytes security) (deflated 71%)
adding: include/c++/H5DataSpace.h (332 bytes security) (deflated 69%)
adding: include/c++/H5DataType.h (332 bytes security) (deflated 68%)
adding: include/c++/H5DcreatProp.h (332 bytes security) (deflated 70%)
adding: include/c++/H5DxferProp.h (332 bytes security) (deflated 70%)
adding: include/c++/H5EnumType.h (332 bytes security) (deflated 66%)
adding: include/c++/H5Exception.h (332 bytes security) (deflated 77%)
adding: include/c++/H5FaccProp.h (332 bytes security) (deflated 72%)
adding: include/c++/H5FcreatProp.h (332 bytes security) (deflated 67%)
adding: include/c++/H5File.h (332 bytes security) (deflated 68%)
adding: include/c++/H5FloatType.h (332 bytes security) (deflated 66%)
adding: include/c++/H5Group.h (332 bytes security) (deflated 61%)
adding: include/c++/H5IdComponent.h (332 bytes security) (deflated 65%)
adding: include/c++/H5Include.h (332 bytes security) (deflated 57%)
adding: include/c++/H5IntType.h (332 bytes security) (deflated 61%)
adding: include/c++/H5LaccProp.h (332 bytes security) (deflated 64%)
adding: include/c++/H5Library.h (332 bytes security) (deflated 62%)
adding: include/c++/H5Location.h (332 bytes security) (deflated 73%)
adding: include/c++/H5Object.h (332 bytes security) (deflated 65%)
adding: include/c++/H5OcreatProp.h (332 bytes security) (deflated 65%)
adding: include/c++/H5PredType.h (332 bytes security) (deflated 85%)
adding: include/c++/H5PropList.h (332 bytes security) (deflated 72%)
adding: include/c++/H5StrType.h (332 bytes security) (deflated 64%)
adding: include/c++/H5VarLenType.h (332 bytes security) (deflated 60%)
adding: include/H5ACpkg.h (332 bytes security) (deflated 69%)
adding: include/H5ACprivate.h (332 bytes security) (deflated 75%)
adding: include/H5ACpublic.h (332 bytes security) (deflated 70%)
adding: include/H5api_adpt.h (332 bytes security) (deflated 86%)
adding: include/H5Apkg.h (332 bytes security) (deflated 74%)
adding: include/H5Aprivate.h (332 bytes security) (deflated 69%)
adding: include/H5Apublic.h (332 bytes security) (deflated 75%)
adding: include/H5B2pkg.h (332 bytes security) (deflated 78%)
adding: include/H5B2private.h (332 bytes security) (deflated 72%)
adding: include/H5B2public.h (332 bytes security) (deflated 66%)
adding: include/H5Bpkg.h (332 bytes security) (deflated 62%)
adding: include/H5Bprivate.h (332 bytes security) (deflated 68%)
adding: include/H5Bpublic.h (332 bytes security) (deflated 64%)
adding: include/H5Cpkg.h (332 bytes security) (deflated 89%)
adding: include/H5Cprivate.h (332 bytes security) (deflated 74%)
adding: include/H5Cpublic.h (332 bytes security) (deflated 66%)
adding: include/H5CSprivate.h (332 bytes security) (deflated 62%)
adding: include/H5Dpkg.h (332 bytes security) (deflated 77%)
adding: include/H5Dprivate.h (332 bytes security) (deflated 69%)
adding: include/H5Dpublic.h (332 bytes security) (deflated 71%)
adding: include/H5Edefin.h (332 bytes security) (deflated 74%)
adding: include/H5Einit.h (332 bytes security) (deflated 92%)
adding: include/H5Epkg.h (332 bytes security) (deflated 67%)
adding: include/H5Eprivate.h (332 bytes security) (deflated 70%)
adding: include/H5Epubgen.h (332 bytes security) (deflated 78%)
adding: include/H5Epublic.h (332 bytes security) (deflated 71%)
adding: include/H5Eterm.h (332 bytes security) (deflated 69%)
adding: include/H5FDcore.h (332 bytes security) (deflated 59%)
adding: include/H5FDdirect.h (332 bytes security) (deflated 60%)
adding: include/H5FDfamily.h (332 bytes security) (deflated 60%)
adding: include/H5FDlog.h (332 bytes security) (deflated 66%)
adding: include/H5FDmpi.h (332 bytes security) (deflated 62%)
adding: include/H5FDmpio.h (332 bytes security) (deflated 64%)
adding: include/H5FDmulti.h (332 bytes security) (deflated 62%)
adding: include/H5FDpkg.h (332 bytes security) (deflated 64%)
adding: include/H5FDprivate.h (332 bytes security) (deflated 70%)
adding: include/H5FDpublic.h (332 bytes security) (deflated 73%)
adding: include/H5FDsec2.h (332 bytes security) (deflated 59%)
adding: include/H5FDstdio.h (332 bytes security) (deflated 59%)
adding: include/H5FDwindows.h (332 bytes security) (deflated 58%)
adding: include/H5FLprivate.h (332 bytes security) (deflated 80%)
adding: include/H5FOprivate.h (332 bytes security) (deflated 66%)
adding: include/H5Fpkg.h (332 bytes security) (deflated 71%)
adding: include/H5Fprivate.h (332 bytes security) (deflated 75%)
adding: include/H5Fpublic.h (332 bytes security) (deflated 66%)
adding: include/H5FSpkg.h (332 bytes security) (deflated 75%)
adding: include/H5FSprivate.h (332 bytes security) (deflated 75%)
adding: include/H5FSpublic.h (332 bytes security) (deflated 66%)
adding: include/H5Gpkg.h (332 bytes security) (deflated 77%)
adding: include/H5Gprivate.h (332 bytes security) (deflated 74%)
adding: include/H5Gpublic.h (332 bytes security) (deflated 69%)
adding: include/H5HFpkg.h (332 bytes security) (deflated 80%)
adding: include/H5HFprivate.h (332 bytes security) (deflated 70%)
adding: include/H5HFpublic.h (332 bytes security) (deflated 66%)
adding: include/H5HGpkg.h (332 bytes security) (deflated 64%)
adding: include/H5HGprivate.h (332 bytes security) (deflated 62%)
adding: include/H5HGpublic.h (332 bytes security) (deflated 60%)
adding: include/H5HLpkg.h (332 bytes security) (deflated 70%)
adding: include/H5HLprivate.h (332 bytes security) (deflated 64%)
adding: include/H5HLpublic.h (332 bytes security) (deflated 64%)
adding: include/H5HPprivate.h (332 bytes security) (deflated 68%)
adding: include/H5Ipkg.h (332 bytes security) (deflated 59%)
adding: include/H5Iprivate.h (332 bytes security) (deflated 68%)
adding: include/H5Ipublic.h (332 bytes security) (deflated 63%)
adding: include/H5Lpkg.h (332 bytes security) (deflated 63%)
adding: include/H5Lprivate.h (332 bytes security) (deflated 70%)
adding: include/H5Lpublic.h (332 bytes security) (deflated 73%)
adding: include/H5MFpkg.h (332 bytes security) (deflated 71%)
adding: include/H5MFprivate.h (332 bytes security) (deflated 69%)
adding: include/H5MMprivate.h (332 bytes security) (deflated 65%)
adding: include/H5MMpublic.h (332 bytes security) (deflated 63%)
adding: include/H5MPpkg.h (332 bytes security) (deflated 67%)
adding: include/H5MPprivate.h (332 bytes security) (deflated 64%)
adding: include/H5Opkg.h (332 bytes security) (deflated 75%)
adding: include/H5Oprivate.h (332 bytes security) (deflated 74%)
adding: include/H5Opublic.h (332 bytes security) (deflated 69%)
adding: include/H5Oshared.h (332 bytes security) (deflated 83%)
adding: include/H5overflow.h (332 bytes security) (deflated 94%)
adding: include/H5PLextern.h (332 bytes security) (deflated 59%)
adding: include/H5PLpkg.h (332 bytes security) (deflated 66%)
adding: include/H5PLprivate.h (332 bytes security) (deflated 65%)
adding: include/H5PLpublic.h (332 bytes security) (deflated 64%)
adding: include/H5Ppkg.h (332 bytes security) (deflated 75%)
adding: include/H5Pprivate.h (332 bytes security) (deflated 72%)
adding: include/H5Ppublic.h (332 bytes security) (deflated 80%)
adding: include/H5private.h (332 bytes security) (deflated 77%)
adding: include/H5pubconf.h (332 bytes security) (deflated 77%)
adding: include/H5public.h (332 bytes security) (deflated 70%)
adding: include/H5RCprivate.h (332 bytes security) (deflated 65%)
adding: include/H5Rpkg.h (332 bytes security) (deflated 63%)
adding: include/H5Rprivate.h (332 bytes security) (deflated 62%)
adding: include/H5Rpublic.h (332 bytes security) (deflated 61%)
adding: include/H5RSprivate.h (332 bytes security) (deflated 69%)
adding: include/H5SLprivate.h (332 bytes security) (deflated 73%)
adding: include/H5SMpkg.h (332 bytes security) (deflated 71%)
adding: include/H5SMprivate.h (332 bytes security) (deflated 66%)
adding: include/H5Spkg.h (332 bytes security) (deflated 76%)
adding: include/H5Sprivate.h (332 bytes security) (deflated 76%)
adding: include/H5Spublic.h (332 bytes security) (deflated 76%)
adding: include/H5STprivate.h (332 bytes security) (deflated 67%)
adding: include/H5Tpkg.h (332 bytes security) (deflated 90%)
adding: include/H5Tprivate.h (332 bytes security) (deflated 68%)
adding: include/H5Tpublic.h (332 bytes security) (deflated 78%)
adding: include/H5TSprivate.h (332 bytes security) (deflated 69%)
adding: include/H5version.h (332 bytes security) (deflated 82%)
adding: include/H5VMprivate.h (332 bytes security) (deflated 79%)
adding: include/H5WBprivate.h (332 bytes security) (deflated 67%)
adding: include/H5win32defs.h (332 bytes security) (deflated 63%)
adding: include/H5Zpkg.h (332 bytes security) (deflated 65%)
adding: include/H5Zprivate.h (332 bytes security) (deflated 69%)
adding: include/H5Zpublic.h (332 bytes security) (deflated 67%)
adding: include/hdf5.h (332 bytes security) (deflated 66%)
adding: INDEX (332 bytes security) (deflated 46%)
adding: lib/ (548 bytes security) (stored 0%)
adding: lib/i386/ (548 bytes security) (stored 0%)
adding: lib/i386/libhdf5.a (332 bytes security) (deflated 70%)
adding: lib/i386/libhdf5_cpp.a (332 bytes security) (deflated 77%)
adding: lib/i386/libszip.a (332 bytes security) (deflated 56%)
adding: lib/x64/ (548 bytes security) (stored 0%)
adding: lib/x64/libhdf5.a (332 bytes security) (deflated 72%)
adding: lib/x64/libhdf5_cpp.a (332 bytes security) (deflated 78%)
adding: lib/x64/libszip.a (332 bytes security) (deflated 55%)
adding: libs/ (372 bytes security) (stored 0%)
adding: libs/i386/ (372 bytes security) (stored 0%)
adding: libs/i386/Rhdf5lib.dll (332 bytes security) (deflated 66%)
adding: libs/x64/ (372 bytes security) (stored 0%)
adding: libs/x64/Rhdf5lib.dll (332 bytes security) (deflated 62%)
adding: MD5 (332 bytes security) (deflated 53%)
adding: Meta/ (372 bytes security) (stored 0%)
adding: Meta/features.rds (332 bytes security) (stored 0%)
adding: Meta/hsearch.rds (332 bytes security) (stored 0%)
adding: Meta/links.rds (332 bytes security) (stored 0%)
adding: Meta/nsInfo.rds (332 bytes security) (stored 0%)
adding: Meta/package.rds (332 bytes security) (stored 0%)
adding: Meta/Rd.rds (332 bytes security) (stored 0%)
adding: Meta/vignette.rds (332 bytes security) (stored 0%)
adding: NAMESPACE (332 bytes security) (deflated 7%)
adding: NEWS (332 bytes security) (deflated 34%)
adding: R/ (372 bytes security) (stored 0%)
adding: R/Rhdf5lib (332 bytes security) (deflated 41%)
adding: R/Rhdf5lib.rdb (332 bytes security) (deflated 9%)
adding: R/Rhdf5lib.rdx (332 bytes security) (stored 0%)