##############################################################################
##############################################################################
###
### Running command:
###
### /Library/Frameworks/R.framework/Versions/Current/Resources/bin/R CMD build --keep-empty-dirs --no-resave-data RareVariantVis
###
##############################################################################
##############################################################################
* checking for file ‘RareVariantVis/DESCRIPTION’ ... OK
* preparing ‘RareVariantVis’:
* checking DESCRIPTION meta-information ... OK
* installing the package to build vignettes
* creating vignettes ... OK
* checking for LF line-endings in source and make files
* checking for empty or unneeded directories
WARNING: directory ‘RareVariantVis/tests’ is empty
* building ‘RareVariantVis_2.4.0.tar.gz’