GUIDEseq 1.7.3 Lihua Julie Zhu
Snapshot Date: 2017-08-15 17:18:21 -0400 (Tue, 15 Aug 2017) | URL: https://hedgehog.fhcrc.org/bioconductor/trunk/madman/Rpacks/GUIDEseq | Last Changed Rev: 131340 / Revision: 131943 | Last Changed Date: 2017-07-18 22:39:57 -0400 (Tue, 18 Jul 2017) |
| malbec1 | Linux (Ubuntu 16.04.1 LTS) / x86_64 | OK | OK | OK | | |
tokay1 | Windows Server 2012 R2 Standard / x64 | [ OK ] | OK | OK | OK | |
veracruz1 | OS X 10.11.6 El Capitan / x86_64 | OK | OK | OK | OK | |
##############################################################################
##############################################################################
###
### Running command:
###
### rm -rf GUIDEseq.buildbin-libdir && mkdir GUIDEseq.buildbin-libdir && C:\cygwin\bin\curl.exe -O https://malbec1.bioconductor.org/BBS/3.6/bioc/src/contrib/GUIDEseq_1.7.3.tar.gz && C:\Users\biocbuild\bbs-3.6-bioc\R\bin\R.exe CMD INSTALL --build --library=GUIDEseq.buildbin-libdir --merge-multiarch GUIDEseq_1.7.3.tar.gz && C:\Users\biocbuild\bbs-3.6-bioc\R\bin\R.exe CMD INSTALL GUIDEseq_1.7.3.zip && rm GUIDEseq_1.7.3.tar.gz GUIDEseq_1.7.3.zip
###
##############################################################################
##############################################################################
% Total % Received % Xferd Average Speed Time Time Time Current
Dload Upload Total Spent Left Speed
0 0 0 0 0 0 0 0 --:--:-- --:--:-- --:--:-- 0
100 4529k 100 4529k 0 0 19.2M 0 --:--:-- --:--:-- --:--:-- 19.4M
install for i386
* installing *source* package 'GUIDEseq' ...
Warning in .write_description(db, file.path(outDir, "DESCRIPTION")) :
Unknown encoding with non-ASCII data: converting to ASCII
** R
** data
** inst
** preparing package for lazy loading
** help
*** installing help indices
** building package indices
** installing vignettes
** testing if installed package can be loaded
install for x64
* installing *source* package 'GUIDEseq' ...
** testing if installed package can be loaded
* MD5 sums
packaged installation of 'GUIDEseq' as GUIDEseq_1.7.3.zip
* DONE (GUIDEseq)
* installing to library 'C:/Users/biocbuild/bbs-3.6-bioc/R/library'
package 'GUIDEseq' successfully unpacked and MD5 sums checked