DelayedArray 0.3.19 Hervé Pagès
Snapshot Date: 2017-08-15 17:18:21 -0400 (Tue, 15 Aug 2017) | URL: https://hedgehog.fhcrc.org/bioconductor/trunk/madman/Rpacks/DelayedArray | Last Changed Rev: 131615 / Revision: 131943 | Last Changed Date: 2017-07-27 09:41:52 -0400 (Thu, 27 Jul 2017) |
| malbec1 | Linux (Ubuntu 16.04.1 LTS) / x86_64 | OK | OK | WARNINGS | | |
tokay1 | Windows Server 2012 R2 Standard / x64 | OK | OK | WARNINGS | [ OK ] | |
veracruz1 | OS X 10.11.6 El Capitan / x86_64 | OK | OK | WARNINGS | OK | |
##############################################################################
##############################################################################
###
### Running command:
###
### cd DelayedArray.buildbin-libdir/DelayedArray && zip -r ../../DelayedArray_0.3.19.zip . & cd ../..
###
##############################################################################
##############################################################################
adding: DESCRIPTION (332 bytes security) (deflated 47%)
adding: doc/ (372 bytes security) (stored 0%)
adding: doc/index.html (332 bytes security) (deflated 60%)
adding: doc/Working_with_large_arrays.pdf (332 bytes security) (deflated 48%)
adding: doc/Working_with_large_arrays.R (332 bytes security) (deflated 80%)
adding: doc/Working_with_large_arrays.Rnw (332 bytes security) (deflated 77%)
adding: help/ (372 bytes security) (stored 0%)
adding: help/aliases.rds (332 bytes security) (stored 0%)
adding: help/AnIndex (332 bytes security) (deflated 87%)
adding: help/DelayedArray.rdb (332 bytes security) (deflated 1%)
adding: help/DelayedArray.rdx (332 bytes security) (stored 0%)
adding: help/paths.rds (332 bytes security) (stored 0%)
adding: html/ (372 bytes security) (stored 0%)
adding: html/00Index.html (332 bytes security) (deflated 92%)
adding: html/R.css (332 bytes security) (deflated 75%)
adding: INDEX (332 bytes security) (deflated 57%)
adding: MD5 (332 bytes security) (deflated 47%)
adding: Meta/ (372 bytes security) (stored 0%)
adding: Meta/features.rds (332 bytes security) (stored 0%)
adding: Meta/hsearch.rds (332 bytes security) (stored 0%)
adding: Meta/links.rds (332 bytes security) (stored 0%)
adding: Meta/nsInfo.rds (332 bytes security) (stored 0%)
adding: Meta/package.rds (332 bytes security) (stored 0%)
adding: Meta/Rd.rds (332 bytes security) (stored 0%)
adding: Meta/vignette.rds (332 bytes security) (stored 0%)
adding: NAMESPACE (332 bytes security) (deflated 72%)
adding: R/ (372 bytes security) (stored 0%)
adding: R/DelayedArray (332 bytes security) (deflated 41%)
adding: R/DelayedArray.rdb (332 bytes security) (deflated 32%)
adding: R/DelayedArray.rdx (332 bytes security) (deflated 4%)
adding: unitTests/ (372 bytes security) (stored 0%)
adding: unitTests/test_ArrayGrid-class.R (332 bytes security) (deflated 91%)
adding: unitTests/test_cbind-methods.R (332 bytes security) (deflated 79%)
adding: unitTests/test_DelayedArray-class.R (332 bytes security) (deflated 83%)
adding: unitTests/test_DelayedArray-utils.R (332 bytes security) (deflated 80%)
adding: unitTests/test_DelayedMatrix-stats.R (332 bytes security) (deflated 68%)
adding: unitTests/test_DelayedMatrix-utils.R (332 bytes security) (deflated 73%)
adding: unitTests/test_RleArray-class.R (332 bytes security) (deflated 60%)