BiocCheck 1.13.1 Bioconductor Package Maintainer
Snapshot Date: 2017-08-15 17:18:21 -0400 (Tue, 15 Aug 2017) | URL: https://hedgehog.fhcrc.org/bioconductor/trunk/madman/Rpacks/BiocCheck | Last Changed Rev: 129432 / Revision: 131943 | Last Changed Date: 2017-05-05 17:38:11 -0400 (Fri, 05 May 2017) |
| malbec1 | Linux (Ubuntu 16.04.1 LTS) / x86_64 | OK | OK | OK | | |
tokay1 | Windows Server 2012 R2 Standard / x64 | OK | OK | OK | [ OK ] | |
veracruz1 | OS X 10.11.6 El Capitan / x86_64 | OK | OK | OK | OK | |
##############################################################################
##############################################################################
###
### Running command:
###
### cd BiocCheck.buildbin-libdir/BiocCheck && zip -r ../../BiocCheck_1.13.1.zip . & cd ../..
###
##############################################################################
##############################################################################
adding: DESCRIPTION (332 bytes security) (deflated 45%)
adding: doc/ (372 bytes security) (stored 0%)
adding: doc/BiocCheck.html (332 bytes security) (deflated 65%)
adding: doc/BiocCheck.R (332 bytes security) (deflated 63%)
adding: doc/BiocCheck.Rmd (332 bytes security) (deflated 63%)
adding: doc/index.html (332 bytes security) (deflated 59%)
adding: help/ (372 bytes security) (stored 0%)
adding: help/aliases.rds (332 bytes security) (stored 0%)
adding: help/AnIndex (332 bytes security) (deflated 39%)
adding: help/BiocCheck.rdb (332 bytes security) (stored 0%)
adding: help/BiocCheck.rdx (332 bytes security) (stored 0%)
adding: help/paths.rds (332 bytes security) (stored 0%)
adding: html/ (372 bytes security) (stored 0%)
adding: html/00Index.html (332 bytes security) (deflated 56%)
adding: html/R.css (332 bytes security) (deflated 75%)
adding: INDEX (332 bytes security) (deflated 37%)
adding: MD5 (332 bytes security) (deflated 50%)
adding: Meta/ (372 bytes security) (stored 0%)
adding: Meta/features.rds (332 bytes security) (stored 0%)
adding: Meta/hsearch.rds (332 bytes security) (stored 0%)
adding: Meta/links.rds (332 bytes security) (stored 0%)
adding: Meta/nsInfo.rds (332 bytes security) (stored 0%)
adding: Meta/package.rds (332 bytes security) (stored 0%)
adding: Meta/Rd.rds (332 bytes security) (stored 0%)
adding: Meta/vignette.rds (332 bytes security) (stored 0%)
adding: NAMESPACE (332 bytes security) (deflated 43%)
adding: NEWS (332 bytes security) (deflated 21%)
adding: R/ (372 bytes security) (stored 0%)
adding: R/BiocCheck (332 bytes security) (deflated 41%)
adding: R/BiocCheck.rdb (332 bytes security) (deflated 2%)
adding: R/BiocCheck.rdx (332 bytes security) (stored 0%)
adding: script/ (372 bytes security) (stored 0%)
adding: script/BiocCheck (332 bytes security) (deflated 39%)
adding: script/BiocCheck.bat (332 bytes security) (deflated 30%)
adding: script/checkBadDeps.R (332 bytes security) (deflated 47%)
adding: testfiles/ (372 bytes security) (stored 0%)
adding: testfiles/directSlotAccess.Rmd (332 bytes security) (deflated 21%)
adding: testfiles/noDirectSlotAccess.Rmd (332 bytes security) (deflated 20%)
adding: testpackages/ (372 bytes security) (stored 0%)
adding: testpackages/testpkg0/ (372 bytes security) (stored 0%)
adding: testpackages/testpkg0/DESCRIPTION (332 bytes security) (deflated 19%)
adding: testpackages/testpkg0/man/ (372 bytes security) (stored 0%)
adding: testpackages/testpkg0/man/a.Rd (332 bytes security) (deflated 46%)
adding: testpackages/testpkg0/man/baddep.Rd (332 bytes security) (deflated 43%)
adding: testpackages/testpkg0/man/has-devel.Rd (332 bytes security) (deflated 43%)
adding: testpackages/testpkg0/NAMESPACE (332 bytes security) (deflated 7%)
adding: testpackages/testpkg0/R/ (372 bytes security) (stored 0%)
adding: testpackages/testpkg0/R/baddeps.R (332 bytes security) (deflated 21%)
adding: testpackages/testpkg0/R/has-devel.r (332 bytes security) (deflated 45%)
adding: testpackages/testpkg0/R/morebadcode.R (332 bytes security) (deflated 36%)
adding: testpackages/testpkg0/R/morecode.R (332 bytes security) (deflated 37%)
adding: testpackages/testpkg0/R/parseme.R (332 bytes security) (deflated 55%)
adding: testpackages/testpkg0/R/requireme.R (332 bytes security) (deflated 69%)
adding: testpackages/testpkg0/vignettes/ (372 bytes security) (stored 0%)
adding: testpackages/testpkg0/vignettes/testpkg0.Rmd (332 bytes security) (deflated 27%)
adding: testpackages/testpkg1/ (372 bytes security) (stored 0%)
adding: testpackages/testpkg1/DESCRIPTION (332 bytes security) (deflated 16%)
adding: testpackages/testpkg1/NAMESPACE (332 bytes security) (stored 0%)
adding: testpackages/testpkg1/R/ (372 bytes security) (stored 0%)
adding: testpackages/testpkg1/R/zzz.R (332 bytes security) (deflated 35%)
adding: testpackages/testpkg1/src/ (372 bytes security) (stored 0%)
adding: testpackages/testpkg1/src/testpkg1.c (332 bytes security) (deflated 11%)
adding: testpackages/testpkg1/src-i386/ (372 bytes security) (stored 0%)
adding: testpackages/testpkg1/src-i386/testpkg1.c (332 bytes security) (deflated 11%)
adding: testpackages/testpkg1/src-i386/testpkg1.dll (332 bytes security) (deflated 64%)
adding: testpackages/testpkg1/src-i386/testpkg1.o (332 bytes security) (deflated 54%)
adding: testpackages/testpkg1/src-x64/ (372 bytes security) (stored 0%)
adding: testpackages/testpkg1/src-x64/testpkg1.c (332 bytes security) (deflated 11%)
adding: testpackages/testpkg1/src-x64/testpkg1.dll (332 bytes security) (deflated 62%)
adding: testpackages/testpkg1/src-x64/testpkg1.o (332 bytes security) (deflated 57%)
adding: unitTests/ (372 bytes security) (stored 0%)
adding: unitTests/IRangesParsedCode.rda (332 bytes security) (deflated 5%)
adding: unitTests/test_BiocCheck.R (332 bytes security) (deflated 81%)