missMethyl 1.10.0 Belinda Phipson
Snapshot Date: 2017-08-15 17:17:57 -0400 (Tue, 15 Aug 2017) | URL: https://hedgehog.fhcrc.org/bioconductor/branches/RELEASE_3_5/madman/Rpacks/missMethyl | Last Changed Rev: 129126 / Revision: 131943 | Last Changed Date: 2017-04-24 15:25:24 -0400 (Mon, 24 Apr 2017) |
| malbec2 | Linux (Ubuntu 16.04.1 LTS) / x86_64 | OK | OK | OK | | |
tokay2 | Windows Server 2012 R2 Standard / x64 | OK | OK | OK | OK | |
veracruz2 | OS X 10.11.6 El Capitan / x86_64 | OK | OK | [ OK ] | OK | |
##############################################################################
##############################################################################
###
### Running command:
###
### /Library/Frameworks/R.framework/Versions/Current/Resources/bin/R CMD check --no-vignettes --timings missMethyl_1.10.0.tar.gz
###
##############################################################################
##############################################################################
* using log directory ‘/Users/biocbuild/bbs-3.5-bioc/meat/missMethyl.Rcheck’
* using R version 3.4.1 (2017-06-30)
* using platform: x86_64-apple-darwin15.6.0 (64-bit)
* using session charset: UTF-8
* using option ‘--no-vignettes’
* checking for file ‘missMethyl/DESCRIPTION’ ... OK
* checking extension type ... Package
* this is package ‘missMethyl’ version ‘1.10.0’
* checking package namespace information ... OK
* checking package dependencies ... OK
* checking if this is a source package ... OK
* checking if there is a namespace ... OK
* checking for hidden files and directories ... OK
* checking for portable file names ... OK
* checking for sufficient/correct file permissions ... OK
* checking whether package ‘missMethyl’ can be installed ... OK
* checking installed package size ... OK
* checking package directory ... OK
* checking ‘build’ directory ... OK
* checking DESCRIPTION meta-information ... OK
* checking top-level files ... OK
* checking for left-over files ... OK
* checking index information ... OK
* checking package subdirectories ... OK
* checking R files for non-ASCII characters ... OK
* checking R files for syntax errors ... OK
* checking whether the package can be loaded ... OK
* checking whether the package can be loaded with stated dependencies ... OK
* checking whether the package can be unloaded cleanly ... OK
* checking whether the namespace can be loaded with stated dependencies ... OK
* checking whether the namespace can be unloaded cleanly ... OK
* checking dependencies in R code ... NOTE
Namespace in Imports field not imported from: ‘IlluminaHumanMethylationEPICmanifest’
All declared Imports should be used.
* checking S3 generic/method consistency ... OK
* checking replacement functions ... OK
* checking foreign function calls ... OK
* checking R code for possible problems ... NOTE
.aveQuantile: no visible global function definition for ‘approx’
.flattenAnn: no visible binding for global variable
‘IlluminaHumanMethylation450kanno.ilmn12.hg19’
.flattenAnn: no visible binding for global variable
‘IlluminaHumanMethylationEPICanno.ilm10b2.hg19’
.plotBias: no visible global function definition for ‘par’
.plotBias: no visible global function definition for ‘plot’
.plotBias: no visible global function definition for ‘lines’
.plotBias: no visible global function definition for ‘lowess’
.subsetQuantileNorm: no visible global function definition for ‘approx’
SWAN.MethyLumiSet: no visible global function definition for
‘DataFrame’
SWAN.MethyLumiSet: no visible global function definition for
‘phenoData’
SWAN.MethyLumiSet: no visible global function definition for
‘packageVersion’
SWAN.default: no visible binding for global variable
‘IlluminaHumanMethylation450kmanifest’
SWAN.default: no visible binding for global variable
‘IlluminaHumanMethylationEPICmanifest’
SWAN.default: no visible global function definition for ‘colData’
SWAN.default: no visible global function definition for
‘packageVersion’
densityByProbeType: no visible binding for global variable
‘IlluminaHumanMethylation450kmanifest’
densityByProbeType: no visible binding for global variable
‘IlluminaHumanMethylationEPICmanifest’
densityByProbeType : <anonymous>: no visible global function definition
for ‘density’
densityByProbeType: no visible global function definition for ‘plot’
densityByProbeType: no visible global function definition for ‘density’
densityByProbeType: no visible global function definition for ‘lines’
densityByProbeType: no visible global function definition for ‘legend’
gometh: no visible global function definition for ‘p.adjust’
gsameth: no visible global function definition for ‘phyper’
gsameth: no visible global function definition for ‘p.adjust’
topVar: no visible global function definition for ‘p.adjust’
Undefined global functions or variables:
DataFrame IlluminaHumanMethylation450kanno.ilmn12.hg19
IlluminaHumanMethylation450kmanifest
IlluminaHumanMethylationEPICanno.ilm10b2.hg19
IlluminaHumanMethylationEPICmanifest approx colData density legend
lines lowess p.adjust packageVersion par phenoData phyper plot
Consider adding
importFrom("graphics", "legend", "lines", "par", "plot")
importFrom("stats", "approx", "density", "lowess", "p.adjust",
"phyper")
importFrom("utils", "packageVersion")
to your NAMESPACE file.
* checking Rd files ... OK
* checking Rd metadata ... OK
* checking Rd cross-references ... OK
* checking for missing documentation entries ... OK
* checking for code/documentation mismatches ... OK
* checking Rd \usage sections ... OK
* checking Rd contents ... OK
* checking for unstated dependencies in examples ... OK
* checking installed files from ‘inst/doc’ ... OK
* checking files in ‘vignettes’ ... OK
* checking examples ... OK
Examples with CPU or elapsed time > 5s
user system elapsed
gometh 61.216 3.212 71.167
SWAN 46.980 4.052 51.968
densityByProbeType 22.085 2.276 24.739
topGSA 18.711 0.927 19.938
gsameth 16.762 0.894 17.970
getMappedEntrezIDs 16.460 1.086 17.793
RUVadj 14.196 1.033 15.641
RUVfit 11.123 0.930 12.367
topRUV 10.653 0.987 11.800
* checking for unstated dependencies in vignettes ... OK
* checking package vignettes in ‘inst/doc’ ... OK
* checking running R code from vignettes ... SKIPPED
* checking re-building of vignette outputs ... SKIPPED
* checking PDF version of manual ... OK
* DONE
Status: 2 NOTEs
See
‘/Users/biocbuild/bbs-3.5-bioc/meat/missMethyl.Rcheck/00check.log’
for details.