ncdfFlow 2.20.2 Mike Jiang
Snapshot Date: 2017-04-14 17:17:13 -0400 (Fri, 14 Apr 2017) | URL: https://hedgehog.fhcrc.org/bioconductor/branches/RELEASE_3_4/madman/Rpacks/ncdfFlow | Last Changed Rev: 127538 / Revision: 128728 | Last Changed Date: 2017-03-20 19:02:34 -0400 (Mon, 20 Mar 2017) |
| malbec1 | Linux (Ubuntu 16.04.1 LTS) / x86_64 | OK | OK | WARNINGS | | ![UNNEEDED, same version exists in internal repository UNNEEDED, same version exists in internal repository](../120px-Blue_Light_Icon.svg.png) |
tokay1 | Windows Server 2012 R2 Standard / x64 | OK | [ OK ] | WARNINGS | OK | ![UNNEEDED, same version exists in internal repository UNNEEDED, same version exists in internal repository](../120px-Blue_Light_Icon.svg.png) |
morelia | Mac OS X Mavericks (10.9.5) / x86_64 | OK | OK | WARNINGS | OK | ![UNNEEDED, same version exists in internal repository UNNEEDED, same version exists in internal repository](../120px-Blue_Light_Icon.svg.png) |
##############################################################################
##############################################################################
###
### Running command:
###
### chmod a+r ncdfFlow -R && C:\Users\biocbuild\bbs-3.4-bioc\R\bin\R.exe CMD build --keep-empty-dirs --no-resave-data ncdfFlow
###
##############################################################################
##############################################################################
* checking for file 'ncdfFlow/DESCRIPTION' ... OK
* preparing 'ncdfFlow':
* checking DESCRIPTION meta-information ... OK
* cleaning src
* installing the package to build vignettes
* creating vignettes ... OK
* cleaning src
* checking for LF line-endings in source and make files
* checking for empty or unneeded directories
WARNING: directory 'ncdfFlow/inst/include' is empty
WARNING: directory 'ncdfFlow/inst/tests' is empty
* building 'ncdfFlow_2.20.2.tar.gz'
Warning: file 'ncdfFlow/cleanup' did not have execute permissions: corrected
Warning: file 'ncdfFlow/configure' did not have execute permissions: corrected