MSGFplus 1.8.0 Thomas Lin Pedersen
Snapshot Date: 2017-04-14 17:17:13 -0400 (Fri, 14 Apr 2017) | URL: https://hedgehog.fhcrc.org/bioconductor/branches/RELEASE_3_4/madman/Rpacks/MSGFplus | Last Changed Rev: 122710 / Revision: 128728 | Last Changed Date: 2016-10-17 14:45:06 -0400 (Mon, 17 Oct 2016) |
| malbec1 | Linux (Ubuntu 16.04.1 LTS) / x86_64 | OK | OK | OK | | ![UNNEEDED, same version exists in internal repository UNNEEDED, same version exists in internal repository](../120px-Blue_Light_Icon.svg.png) |
tokay1 | Windows Server 2012 R2 Standard / x64 | OK | OK | OK | [ OK ] | ![UNNEEDED, same version exists in internal repository UNNEEDED, same version exists in internal repository](../120px-Blue_Light_Icon.svg.png) |
morelia | Mac OS X Mavericks (10.9.5) / x86_64 | OK | OK | OK | OK | ![UNNEEDED, same version exists in internal repository UNNEEDED, same version exists in internal repository](../120px-Blue_Light_Icon.svg.png) |
##############################################################################
##############################################################################
###
### Running command:
###
### cd MSGFplus.buildbin-libdir/MSGFplus && zip -r ../../MSGFplus_1.8.0.zip . & cd ../..
###
##############################################################################
##############################################################################
adding: DESCRIPTION (284 bytes security) (deflated 47%)
adding: doc/ (324 bytes security) (stored 0%)
adding: doc/index.html (284 bytes security) (deflated 59%)
adding: doc/Using_MSGFplus.html (284 bytes security) (deflated 72%)
adding: doc/Using_MSGFplus.R (284 bytes security) (deflated 71%)
adding: doc/Using_MSGFplus.Rmd (284 bytes security) (deflated 59%)
adding: extdata/ (324 bytes security) (stored 0%)
adding: extdata/milk-proteins.fasta (284 bytes security) (deflated 52%)
adding: help/ (324 bytes security) (stored 0%)
adding: help/aliases.rds (284 bytes security) (stored 0%)
adding: help/AnIndex (284 bytes security) (deflated 86%)
adding: help/MSGFplus.rdb (284 bytes security) (deflated 3%)
adding: help/MSGFplus.rdx (284 bytes security) (stored 0%)
adding: help/paths.rds (284 bytes security) (stored 0%)
adding: html/ (324 bytes security) (stored 0%)
adding: html/00Index.html (284 bytes security) (deflated 91%)
adding: html/R.css (284 bytes security) (deflated 75%)
adding: INDEX (284 bytes security) (deflated 75%)
adding: MD5 (284 bytes security) (deflated 42%)
adding: Meta/ (324 bytes security) (stored 0%)
adding: Meta/hsearch.rds (284 bytes security) (stored 0%)
adding: Meta/links.rds (284 bytes security) (stored 0%)
adding: Meta/nsInfo.rds (284 bytes security) (stored 0%)
adding: Meta/package.rds (284 bytes security) (stored 0%)
adding: Meta/Rd.rds (284 bytes security) (stored 0%)
adding: Meta/vignette.rds (284 bytes security) (stored 0%)
adding: modification_temp.txt (284 bytes security) (deflated 1%)
adding: NAMESPACE (284 bytes security) (deflated 70%)
adding: NEWS (284 bytes security) (deflated 73%)
adding: R/ (324 bytes security) (stored 0%)
adding: R/MSGFplus (284 bytes security) (deflated 41%)
adding: R/MSGFplus.rdb (284 bytes security) (deflated 32%)
adding: R/MSGFplus.rdx (284 bytes security) (deflated 1%)