frma 1.23.0 Matthew N. McCall
 | Snapshot Date: 2015-10-26 20:20:04 -0400 (Mon, 26 Oct 2015) |  | URL: https://hedgehog.fhcrc.org/bioconductor/trunk/madman/Rpacks/frma |  | Last Changed Rev: 109592 / Revision: 109948 |  | Last Changed Date: 2015-10-13 15:59:53 -0400 (Tue, 13 Oct 2015) |  
  | linux2.bioconductor.org  | Linux (Ubuntu 14.04.2 LTS) / x86_64  |  OK  |  OK  |  OK  |  |   | 
| windows2.bioconductor.org  | Windows Server 2012 R2 Enterprise SP1 (64-bit) / x64  |  OK  |  OK  |  OK  | [ OK ] |   | 
##############################################################################
##############################################################################
###
### Running command:
###
###   cd frma.buildbin-libdir/frma && zip -r ../../frma_1.23.0.zip . & cd ../..
###
##############################################################################
##############################################################################
  adding: CITATION (188 bytes security) (deflated 70%)
  adding: DESCRIPTION (188 bytes security) (deflated 37%)
  adding: doc/ (208 bytes security) (stored 0%)
  adding: doc/frma.pdf (188 bytes security) (deflated 10%)
  adding: doc/frma.R (188 bytes security) (deflated 83%)
  adding: doc/frma.Rnw (188 bytes security) (deflated 66%)
  adding: doc/index.html (188 bytes security) (deflated 57%)
  adding: help/ (208 bytes security) (stored 0%)
  adding: help/aliases.rds (188 bytes security) (stored 0%)
  adding: help/AnIndex (188 bytes security) (deflated 84%)
  adding: help/frma.rdb (188 bytes security) (deflated 0%)
  adding: help/frma.rdx (188 bytes security) (stored 0%)
  adding: help/paths.rds (188 bytes security) (stored 0%)
  adding: html/ (208 bytes security) (stored 0%)
  adding: html/00Index.html (188 bytes security) (deflated 84%)
  adding: html/R.css (188 bytes security) (deflated 75%)
  adding: INDEX (188 bytes security) (deflated 46%)
  adding: MD5 (188 bytes security) (deflated 41%)
  adding: Meta/ (208 bytes security) (stored 0%)
  adding: Meta/hsearch.rds (188 bytes security) (stored 0%)
  adding: Meta/links.rds (188 bytes security) (stored 0%)
  adding: Meta/nsInfo.rds (188 bytes security) (stored 0%)
  adding: Meta/package.rds (188 bytes security) (stored 0%)
  adding: Meta/Rd.rds (188 bytes security) (stored 0%)
  adding: Meta/vignette.rds (188 bytes security) (stored 0%)
  adding: NAMESPACE (188 bytes security) (deflated 58%)
  adding: NEWS.Rd (188 bytes security) (deflated 50%)
  adding: R/ (208 bytes security) (stored 0%)
  adding: R/frma (188 bytes security) (deflated 41%)
  adding: R/frma.rdb (188 bytes security) (deflated 27%)
  adding: R/frma.rdx (188 bytes security) (stored 0%)