Ringo 1.35.0 J. Toedling
 | Snapshot Date: 2015-10-26 20:20:04 -0400 (Mon, 26 Oct 2015) |  | URL: https://hedgehog.fhcrc.org/bioconductor/trunk/madman/Rpacks/Ringo |  | Last Changed Rev: 109592 / Revision: 109948 |  | Last Changed Date: 2015-10-13 15:59:53 -0400 (Tue, 13 Oct 2015) |  
  | linux2.bioconductor.org  | Linux (Ubuntu 14.04.2 LTS) / x86_64  |  OK  |  OK  |  OK  |  |   | 
| windows2.bioconductor.org  | Windows Server 2012 R2 Enterprise SP1 (64-bit) / x64  | [ OK ] |  OK  |  OK  |  OK  |   | 
##############################################################################
##############################################################################
###
### Running command:
###
###   C:\cygwin64\bin\curl.exe -O http://linux2.bioconductor.org/BBS/3.3/bioc/src/contrib/Ringo_1.35.0.tar.gz && c:\biocbld\bbs-3.3-bioc\R\bin\R.exe CMD INSTALL --merge-multiarch Ringo_1.35.0.tar.gz && rm Ringo_1.35.0.tar.gz
###
##############################################################################
##############################################################################
  % Total    % Received % Xferd  Average Speed   Time    Time     Time  Current
                                 Dload  Upload   Total   Spent    Left  Speed
  0     0    0     0    0     0      0      0 --:--:-- --:--:-- --:--:--     0
100  571k  100  571k    0     0  62.4M      0 --:--:-- --:--:-- --:--:--  111M
install for i386
* installing to library 'c:/biocbld/bbs-3.3-bioc/R/library'
* installing *source* package 'Ringo' ...
** libs
g++ -m32 -I"c:/biocbld/BBS-3˜1.3-B/R/include" -DNDEBUG     -I"d:/RCompile/r-compiling/local/local320/include"     -O2 -Wall  -mtune=core2 -c mmeansd.cpp -o mmeansd.o
mmeansd.cpp: In function 'SEXPREC* moving_mean_sd(SEXP, SEXP, SEXP)':
mmeansd.cpp:27:24: warning: variable 'is' set but not used [-Wunused-but-set-variable]
g++ -m32 -I"c:/biocbld/BBS-3˜1.3-B/R/include" -DNDEBUG     -I"d:/RCompile/r-compiling/local/local320/include"     -O2 -Wall  -mtune=core2 -c mmedian.cpp -o mmedian.o
gcc -m32 -I"c:/biocbld/BBS-3˜1.3-B/R/include" -DNDEBUG     -I"d:/RCompile/r-compiling/local/local320/include"     -O3 -Wall  -std=gnu99 -mtune=core2 -c region_overlap.c -o region_overlap.o
gcc -m32 -I"c:/biocbld/BBS-3˜1.3-B/R/include" -DNDEBUG     -I"d:/RCompile/r-compiling/local/local320/include"     -O3 -Wall  -std=gnu99 -mtune=core2 -c ringo_init.c -o ringo_init.o
g++ -m32 -shared -s -static-libgcc -o Ringo.dll tmp.def mmeansd.o mmedian.o region_overlap.o ringo_init.o -Ld:/RCompile/r-compiling/local/local320/lib/i386 -Ld:/RCompile/r-compiling/local/local320/lib -Lc:/biocbld/BBS-3˜1.3-B/R/bin/i386 -lR
installing to c:/biocbld/bbs-3.3-bioc/R/library/Ringo/libs/i386
** R
** inst
** preparing package for lazy loading
Creating a generic function for 'ls' from package 'base' in package 'Ringo'
** help
*** installing help indices
** building package indices
** installing vignettes
** testing if installed package can be loaded
install for x64
* installing to library 'c:/biocbld/bbs-3.3-bioc/R/library'
* installing *source* package 'Ringo' ...
** libs
g++ -m64 -I"c:/biocbld/BBS-3˜1.3-B/R/include" -DNDEBUG     -I"d:/RCompile/r-compiling/local/local320/include"     -O2 -Wall  -mtune=core2 -c mmeansd.cpp -o mmeansd.o
mmeansd.cpp: In function 'SEXPREC* moving_mean_sd(SEXP, SEXP, SEXP)':
mmeansd.cpp:27:24: warning: variable 'is' set but not used [-Wunused-but-set-variable]
g++ -m64 -I"c:/biocbld/BBS-3˜1.3-B/R/include" -DNDEBUG     -I"d:/RCompile/r-compiling/local/local320/include"     -O2 -Wall  -mtune=core2 -c mmedian.cpp -o mmedian.o
gcc -m64 -I"c:/biocbld/BBS-3˜1.3-B/R/include" -DNDEBUG     -I"d:/RCompile/r-compiling/local/local320/include"     -O2 -Wall  -std=gnu99 -mtune=core2 -c region_overlap.c -o region_overlap.o
gcc -m64 -I"c:/biocbld/BBS-3˜1.3-B/R/include" -DNDEBUG     -I"d:/RCompile/r-compiling/local/local320/include"     -O2 -Wall  -std=gnu99 -mtune=core2 -c ringo_init.c -o ringo_init.o
g++ -m64 -shared -s -static-libgcc -o Ringo.dll tmp.def mmeansd.o mmedian.o region_overlap.o ringo_init.o -Ld:/RCompile/r-compiling/local/local320/lib/x64 -Ld:/RCompile/r-compiling/local/local320/lib -Lc:/biocbld/BBS-3˜1.3-B/R/bin/x64 -lR
installing to c:/biocbld/bbs-3.3-bioc/R/library/Ringo/libs/x64
** testing if installed package can be loaded
* DONE (Ringo)