CellNOptR 1.17.0 T.Cokelaer
 | Snapshot Date: 2015-10-26 20:20:04 -0400 (Mon, 26 Oct 2015) |  | URL: https://hedgehog.fhcrc.org/bioconductor/trunk/madman/Rpacks/CellNOptR |  | Last Changed Rev: 109592 / Revision: 109948 |  | Last Changed Date: 2015-10-13 15:59:53 -0400 (Tue, 13 Oct 2015) |  
  | linux2.bioconductor.org  | Linux (Ubuntu 14.04.2 LTS) / x86_64  |  OK  |  OK  |  OK  |  |   | 
| windows2.bioconductor.org  | Windows Server 2012 R2 Enterprise SP1 (64-bit) / x64  |  OK  |  OK  |  OK  | [ OK ] |   | 
##############################################################################
##############################################################################
###
### Running command:
###
###   cd CellNOptR.buildbin-libdir/CellNOptR && zip -r ../../CellNOptR_1.17.0.zip . & cd ../..
###
##############################################################################
##############################################################################
  adding: data/ (208 bytes security) (stored 0%)
  adding: data/CNOlistDREAM.RData (188 bytes security) (stored 0%)
  adding: data/CNOlistToy.RData (188 bytes security) (stored 0%)
  adding: data/CNOlistToy2.RData (188 bytes security) (stored 0%)
  adding: data/CNOlistToyMMB.RData (188 bytes security) (stored 0%)
  adding: data/DreamModel.RData (188 bytes security) (stored 0%)
  adding: data/ToyModel.RData (188 bytes security) (stored 0%)
  adding: data/ToyModel2.RData (188 bytes security) (stored 0%)
  adding: DESCRIPTION (188 bytes security) (deflated 38%)
  adding: doc/ (208 bytes security) (stored 0%)
  adding: doc/CellNOptR-vignette.pdf (188 bytes security) (deflated 13%)
  adding: doc/CellNOptR-vignette.R (188 bytes security) (deflated 83%)
  adding: doc/CellNOptR-vignette.Rnw (188 bytes security) (deflated 67%)
  adding: doc/index.html (188 bytes security) (deflated 59%)
  adding: DREAMmodel/ (208 bytes security) (stored 0%)
  adding: DREAMmodel/LiverDataDREAMMIDAS.csv (188 bytes security) (deflated 83%)
  adding: DREAMmodel/LiverPKNDREAM.sif (188 bytes security) (deflated 60%)
  adding: help/ (208 bytes security) (stored 0%)
  adding: help/aliases.rds (188 bytes security) (stored 0%)
  adding: help/AnIndex (188 bytes security) (deflated 76%)
  adding: help/CellNOptR.rdb (188 bytes security) (deflated 2%)
  adding: help/CellNOptR.rdx (188 bytes security) (stored 0%)
  adding: help/paths.rds (188 bytes security) (stored 0%)
  adding: html/ (208 bytes security) (stored 0%)
  adding: html/00Index.html (188 bytes security) (deflated 83%)
  adding: html/R.css (188 bytes security) (deflated 75%)
  adding: INDEX (188 bytes security) (deflated 69%)
  adding: libs/ (208 bytes security) (stored 0%)
  adding: libs/i386/ (208 bytes security) (stored 0%)
  adding: libs/i386/CellNOptR.dll (188 bytes security) (deflated 55%)
  adding: libs/x64/ (208 bytes security) (stored 0%)
  adding: libs/x64/CellNOptR.dll (188 bytes security) (deflated 51%)
  adding: MD5 (188 bytes security) (deflated 46%)
  adding: Meta/ (208 bytes security) (stored 0%)
  adding: Meta/data.rds (188 bytes security) (stored 0%)
  adding: Meta/hsearch.rds (188 bytes security) (stored 0%)
  adding: Meta/links.rds (188 bytes security) (stored 0%)
  adding: Meta/nsInfo.rds (188 bytes security) (stored 0%)
  adding: Meta/package.rds (188 bytes security) (stored 0%)
  adding: Meta/Rd.rds (188 bytes security) (stored 0%)
  adding: Meta/vignette.rds (188 bytes security) (stored 0%)
  adding: NAMESPACE (188 bytes security) (deflated 64%)
  adding: NEWS.Rd (188 bytes security) (deflated 67%)
  adding: R/ (208 bytes security) (stored 0%)
  adding: R/CellNOptR (188 bytes security) (deflated 41%)
  adding: R/CellNOptR.rdb (188 bytes security) (deflated 14%)
  adding: R/CellNOptR.rdx (188 bytes security) (stored 0%)
  adding: templates/ (208 bytes security) (stored 0%)
  adding: templates/bordercorner.jpg (188 bytes security) (stored 0%)
  adding: templates/bordercorner2.jpg (188 bytes security) (deflated 31%)
  adding: templates/CNOR.css (188 bytes security) (deflated 69%)
  adding: templates/logo_saezrodriguez_mid.gif (188 bytes security) (deflated 23%)
  adding: templates/phinou.jpeg (188 bytes security) (deflated 6%)
  adding: templates/Rlogo.png (188 bytes security) (deflated 0%)
  adding: ToyModel/ (208 bytes security) (stored 0%)
  adding: ToyModel/ToyDataMMB.csv (188 bytes security) (deflated 78%)
  adding: ToyModel/ToyModelMMB2.sif (188 bytes security) (deflated 39%)
  adding: ToyModel/ToyPKNMMB.sif (188 bytes security) (deflated 38%)
  adding: ToyModelT3/ (208 bytes security) (stored 0%)
  adding: ToyModelT3/ToyDataT3.csv (188 bytes security) (deflated 79%)
  adding: ToyModelT3/ToyModelT3.sif (188 bytes security) (deflated 48%)