Back to Multiple platform build/check report for BioC 3.21: simplified long |
|
This page was generated on 2025-02-05 11:43 -0500 (Wed, 05 Feb 2025).
Hostname | OS | Arch (*) | R version | Installed pkgs |
---|---|---|---|---|
nebbiolo1 | Linux (Ubuntu 24.04.1 LTS) | x86_64 | R Under development (unstable) (2025-01-20 r87609) -- "Unsuffered Consequences" | 4717 |
palomino7 | Windows Server 2022 Datacenter | x64 | R Under development (unstable) (2025-01-21 r87610 ucrt) -- "Unsuffered Consequences" | 4478 |
lconway | macOS 12.7.1 Monterey | x86_64 | R Under development (unstable) (2025-01-22 r87618) -- "Unsuffered Consequences" | 4489 |
kjohnson3 | macOS 13.7.1 Ventura | arm64 | R Under development (unstable) (2025-01-20 r87609) -- "Unsuffered Consequences" | 4442 |
Click on any hostname to see more info about the system (e.g. compilers) (*) as reported by 'uname -p', except on Windows and Mac OS X |
Package 2257/2295 | Hostname | OS / Arch | INSTALL | BUILD | CHECK | BUILD BIN | ||||||||
visiumStitched 0.99.15 (landing page) Nicholas J. Eagles
| nebbiolo1 | Linux (Ubuntu 24.04.1 LTS) / x86_64 | OK | OK | OK | ![]() | ||||||||
palomino7 | Windows Server 2022 Datacenter / x64 | OK | OK | OK | OK | ![]() | ||||||||
lconway | macOS 12.7.1 Monterey / x86_64 | OK | OK | OK | OK | ![]() | ||||||||
kjohnson3 | macOS 13.7.1 Ventura / arm64 | OK | OK | OK | OK | ![]() | ||||||||
To the developers/maintainers of the visiumStitched package: - Allow up to 24 hours (and sometimes 48 hours) for your latest push to git@git.bioconductor.org:packages/visiumStitched.git to reflect on this report. See Troubleshooting Build Report for more information. - Use the following Renviron settings to reproduce errors and warnings. - If 'R CMD check' started to fail recently on the Linux builder(s) over a missing dependency, add the missing dependency to 'Suggests:' in your DESCRIPTION file. See Renviron.bioc for more information. |
Package: visiumStitched |
Version: 0.99.15 |
Command: /Library/Frameworks/R.framework/Resources/bin/R CMD check --install=check:visiumStitched.install-out.txt --library=/Library/Frameworks/R.framework/Resources/library --no-vignettes --timings visiumStitched_0.99.15.tar.gz |
StartedAt: 2025-02-05 00:03:20 -0500 (Wed, 05 Feb 2025) |
EndedAt: 2025-02-05 00:16:47 -0500 (Wed, 05 Feb 2025) |
EllapsedTime: 807.7 seconds |
RetCode: 0 |
Status: OK |
CheckDir: visiumStitched.Rcheck |
Warnings: 0 |
############################################################################## ############################################################################## ### ### Running command: ### ### /Library/Frameworks/R.framework/Resources/bin/R CMD check --install=check:visiumStitched.install-out.txt --library=/Library/Frameworks/R.framework/Resources/library --no-vignettes --timings visiumStitched_0.99.15.tar.gz ### ############################################################################## ############################################################################## * using log directory ‘/Users/biocbuild/bbs-3.21-bioc/meat/visiumStitched.Rcheck’ * using R Under development (unstable) (2025-01-22 r87618) * using platform: x86_64-apple-darwin20 * R was compiled by Apple clang version 14.0.0 (clang-1400.0.29.202) GNU Fortran (GCC) 14.2.0 * running under: macOS Monterey 12.7.6 * using session charset: UTF-8 * using option ‘--no-vignettes’ * checking for file ‘visiumStitched/DESCRIPTION’ ... OK * this is package ‘visiumStitched’ version ‘0.99.15’ * package encoding: UTF-8 * checking package namespace information ... OK * checking package dependencies ...Warning: unable to access index for repository https://CRAN.R-project.org/src/contrib: cannot open URL 'https://CRAN.R-project.org/src/contrib/PACKAGES' OK * checking if this is a source package ... OK * checking if there is a namespace ... OK * checking for hidden files and directories ... OK * checking for portable file names ... OK * checking for sufficient/correct file permissions ... OK * checking whether package ‘visiumStitched’ can be installed ... OK * checking installed package size ... OK * checking package directory ... OK * checking ‘build’ directory ... OK * checking DESCRIPTION meta-information ... OK * checking top-level files ... OK * checking for left-over files ... OK * checking index information ... OK * checking package subdirectories ... OK * checking code files for non-ASCII characters ... OK * checking R files for syntax errors ... OK * checking whether the package can be loaded ... OK * checking whether the package can be loaded with stated dependencies ... OK * checking whether the package can be unloaded cleanly ... OK * checking whether the namespace can be loaded with stated dependencies ... OK * checking whether the namespace can be unloaded cleanly ... OK * checking dependencies in R code ... OK * checking S3 generic/method consistency ... OK * checking replacement functions ... OK * checking foreign function calls ... OK * checking R code for possible problems ... OK * checking Rd files ... OK * checking Rd metadata ... OK * checking Rd cross-references ... OK * checking for missing documentation entries ... OK * checking for code/documentation mismatches ... OK * checking Rd \usage sections ... OK * checking Rd contents ... OK * checking for unstated dependencies in examples ... OK * checking files in ‘vignettes’ ... OK * checking examples ... OK Examples with CPU (user + system) or elapsed time > 5s user system elapsed build_SpatialExperiment 63.300 3.492 73.660 add_array_coords 20.407 4.108 34.278 prep_fiji 13.496 3.094 16.592 merge_overlapping 13.947 0.825 14.915 rescale_fiji_inputs 10.081 1.592 11.929 as.Seurat 10.059 1.041 14.871 * checking for unstated dependencies in ‘tests’ ... OK * checking tests ... Running ‘testthat.R’ OK * checking for unstated dependencies in vignettes ... OK * checking package vignettes ... OK * checking running R code from vignettes ... SKIPPED * checking re-building of vignette outputs ... SKIPPED * checking PDF version of manual ... OK * DONE Status: OK
visiumStitched.Rcheck/00install.out
############################################################################## ############################################################################## ### ### Running command: ### ### /Library/Frameworks/R.framework/Resources/bin/R CMD INSTALL visiumStitched ### ############################################################################## ############################################################################## * installing to library ‘/Library/Frameworks/R.framework/Versions/4.5-x86_64/Resources/library’ * installing *source* package ‘visiumStitched’ ... ** this is package ‘visiumStitched’ version ‘0.99.15’ ** using staged installation ** R ** inst ** byte-compile and prepare package for lazy loading ** help *** installing help indices *** copying figures ** building package indices ** installing vignettes ** testing if installed package can be loaded from temporary location ** testing if installed package can be loaded from final location ** testing if installed package keeps a record of temporary installation path * DONE (visiumStitched)
visiumStitched.Rcheck/tests/testthat.Rout
R Under development (unstable) (2025-01-22 r87618) -- "Unsuffered Consequences" Copyright (C) 2025 The R Foundation for Statistical Computing Platform: x86_64-apple-darwin20 R is free software and comes with ABSOLUTELY NO WARRANTY. You are welcome to redistribute it under certain conditions. Type 'license()' or 'licence()' for distribution details. R is a collaborative project with many contributors. Type 'contributors()' for more information and 'citation()' on how to cite R or R packages in publications. Type 'demo()' for some demos, 'help()' for on-line help, or 'help.start()' for an HTML browser interface to help. Type 'q()' to quit R. > # This file is part of the standard setup for testthat. > # It is recommended that you do not modify it. > # > # Where should you do additional test configuration? > # Learn more about the roles of various files in: > # * https://r-pkgs.org/testing-design.html#sec-tests-files-overview > # * https://testthat.r-lib.org/articles/special-files.html > > library(testthat) > library(visiumStitched) Loading required package: SpatialExperiment Loading required package: SingleCellExperiment Loading required package: SummarizedExperiment Loading required package: MatrixGenerics Loading required package: matrixStats Attaching package: 'MatrixGenerics' The following objects are masked from 'package:matrixStats': colAlls, colAnyNAs, colAnys, colAvgsPerRowSet, colCollapse, colCounts, colCummaxs, colCummins, colCumprods, colCumsums, colDiffs, colIQRDiffs, colIQRs, colLogSumExps, colMadDiffs, colMads, colMaxs, colMeans2, colMedians, colMins, colOrderStats, colProds, colQuantiles, colRanges, colRanks, colSdDiffs, colSds, colSums2, colTabulates, colVarDiffs, colVars, colWeightedMads, colWeightedMeans, colWeightedMedians, colWeightedSds, colWeightedVars, rowAlls, rowAnyNAs, rowAnys, rowAvgsPerColSet, rowCollapse, rowCounts, rowCummaxs, rowCummins, rowCumprods, rowCumsums, rowDiffs, rowIQRDiffs, rowIQRs, rowLogSumExps, rowMadDiffs, rowMads, rowMaxs, rowMeans2, rowMedians, rowMins, rowOrderStats, rowProds, rowQuantiles, rowRanges, rowRanks, rowSdDiffs, rowSds, rowSums2, rowTabulates, rowVarDiffs, rowVars, rowWeightedMads, rowWeightedMeans, rowWeightedMedians, rowWeightedSds, rowWeightedVars Loading required package: GenomicRanges Loading required package: stats4 Loading required package: BiocGenerics Loading required package: generics Attaching package: 'generics' The following objects are masked from 'package:base': as.difftime, as.factor, as.ordered, intersect, is.element, setdiff, setequal, union Attaching package: 'BiocGenerics' The following objects are masked from 'package:stats': IQR, mad, sd, var, xtabs The following objects are masked from 'package:base': Filter, Find, Map, Position, Reduce, anyDuplicated, aperm, append, as.data.frame, basename, cbind, colnames, dirname, do.call, duplicated, eval, evalq, get, grep, grepl, is.unsorted, lapply, mapply, match, mget, order, paste, pmax, pmax.int, pmin, pmin.int, rank, rbind, rownames, sapply, saveRDS, table, tapply, unique, unsplit, which.max, which.min Loading required package: S4Vectors Attaching package: 'S4Vectors' The following object is masked from 'package:utils': findMatches The following objects are masked from 'package:base': I, expand.grid, unname Loading required package: IRanges Loading required package: GenomeInfoDb Loading required package: Biobase Welcome to Bioconductor Vignettes contain introductory material; view with 'browseVignettes()'. To cite Bioconductor, see 'citation("Biobase")', and for packages 'citation("pkgname")'. Attaching package: 'Biobase' The following object is masked from 'package:MatrixGenerics': rowMedians The following objects are masked from 'package:matrixStats': anyMissing, rowMedians > > test_check("visiumStitched") 2025-02-05 00:14:12.767999 loading file /Users/biocbuild/Library/Caches/org.R-project.R/R/BiocFileCache/147123b162abf_visiumStitched_brain_spe.rds%3Frlkey%3Dnq6a82u23xuu9hohr86oodwdi%26dl%3D1 2025-02-05 00:14:17.976065 loading file /Users/biocbuild/Library/Caches/org.R-project.R/R/BiocFileCache/147122c507fe7_visiumStitched_brain_spaceranger.zip%3Frlkey%3Dbdgjc6mgy1ierdad6h6v5g29c%26dl%3D1 2025-02-05 00:14:21.039816 loading file /Users/biocbuild/Library/Caches/org.R-project.R/R/BiocFileCache/1471258fd2d6b_visiumStitched_brain_fiji_out.zip%3Frlkey%3Dptwal8f5zxakzejwd0oqw0lhj%26dl%3D1 2025-02-05 00:14:37.753584 loading file /Users/biocbuild/Library/Caches/org.R-project.R/R/BiocFileCache/147123b162abf_visiumStitched_brain_spe.rds%3Frlkey%3Dnq6a82u23xuu9hohr86oodwdi%26dl%3D1 2025-02-05 00:14:42.36733 loading file /Users/biocbuild/Library/Caches/org.R-project.R/R/BiocFileCache/147123b162abf_visiumStitched_brain_spe.rds%3Frlkey%3Dnq6a82u23xuu9hohr86oodwdi%26dl%3D1 2025-02-05 00:14:45.00832 loading file /Users/biocbuild/Library/Caches/org.R-project.R/R/BiocFileCache/1471255b0f971_spatialDLPFC_spe_subset_example.rds%3Fdl%3D1 Overwriting 'spe$key'. Set 'overwrite = FALSE' if you do not want to overwrite it. 2025-02-05 00:14:52.180236 loading file /Users/biocbuild/Library/Caches/org.R-project.R/R/BiocFileCache/147122c507fe7_visiumStitched_brain_spaceranger.zip%3Frlkey%3Dbdgjc6mgy1ierdad6h6v5g29c%26dl%3D1 2025-02-05 00:14:54.932065 loading file /Users/biocbuild/Library/Caches/org.R-project.R/R/BiocFileCache/1471258fd2d6b_visiumStitched_brain_fiji_out.zip%3Frlkey%3Dptwal8f5zxakzejwd0oqw0lhj%26dl%3D1 Building SpatialExperiment using capture area as sample ID 2025-02-05 00:15:07.238588 SpatialExperiment::read10xVisium: reading basic data from SpaceRanger 2025-02-05 00:15:16.114499 read10xVisiumAnalysis: reading analysis output from SpaceRanger 2025-02-05 00:15:16.598825 add10xVisiumAnalysis: adding analysis output from SpaceRanger 2025-02-05 00:15:16.952194 rtracklayer::import: reading the reference GTF file 2025-02-05 00:15:55.917913 adding gene information to the SPE object 2025-02-05 00:15:56.613515 adding information used by spatialLIBD Overwriting imgData(spe) with merged images (one per group) Adding array coordinates and overlap info 2025-02-05 00:16:01.504487 loading file /Users/biocbuild/Library/Caches/org.R-project.R/R/BiocFileCache/147123b162abf_visiumStitched_brain_spe.rds%3Frlkey%3Dnq6a82u23xuu9hohr86oodwdi%26dl%3D1 'sample_id's are duplicated across 'SpatialExperiment' objects to cbind; appending sample indices. 2025-02-05 00:16:15.453718 loading file /Users/biocbuild/Library/Caches/org.R-project.R/R/BiocFileCache/147122c507fe7_visiumStitched_brain_spaceranger.zip%3Frlkey%3Dbdgjc6mgy1ierdad6h6v5g29c%26dl%3D1 2025-02-05 00:16:19.645694 loading file /Users/biocbuild/Library/Caches/org.R-project.R/R/BiocFileCache/1471258fd2d6b_visiumStitched_brain_fiji_out.zip%3Frlkey%3Dptwal8f5zxakzejwd0oqw0lhj%26dl%3D1 2025-02-05 00:16:31.324723 loading file /Users/biocbuild/Library/Caches/org.R-project.R/R/BiocFileCache/147122c507fe7_visiumStitched_brain_spaceranger.zip%3Frlkey%3Dbdgjc6mgy1ierdad6h6v5g29c%26dl%3D1 [ FAIL 0 | WARN 0 | SKIP 0 | PASS 30 ] > > proc.time() user system elapsed 148.109 14.542 163.294
visiumStitched.Rcheck/visiumStitched-Ex.timings
name | user | system | elapsed | |
add_array_coords | 20.407 | 4.108 | 34.278 | |
add_overlap_info | 2.882 | 0.266 | 3.280 | |
as.Seurat | 10.059 | 1.041 | 14.871 | |
build_SpatialExperiment | 63.300 | 3.492 | 73.660 | |
merge_overlapping | 13.947 | 0.825 | 14.915 | |
prep_fiji | 13.496 | 3.094 | 16.592 | |
rescale_fiji_inputs | 10.081 | 1.592 | 11.929 | |