Back to Multiple platform build/check report for BioC 3.21:   simplified   long
ABCDEFGH[I]JKLMNOPQRSTUVWXYZ

This page was generated on 2025-02-05 11:41 -0500 (Wed, 05 Feb 2025).

HostnameOSArch (*)R versionInstalled pkgs
nebbiolo1Linux (Ubuntu 24.04.1 LTS)x86_64R Under development (unstable) (2025-01-20 r87609) -- "Unsuffered Consequences" 4717
palomino7Windows Server 2022 Datacenterx64R Under development (unstable) (2025-01-21 r87610 ucrt) -- "Unsuffered Consequences" 4478
lconwaymacOS 12.7.1 Montereyx86_64R Under development (unstable) (2025-01-22 r87618) -- "Unsuffered Consequences" 4489
kjohnson3macOS 13.7.1 Venturaarm64R Under development (unstable) (2025-01-20 r87609) -- "Unsuffered Consequences" 4442
Click on any hostname to see more info about the system (e.g. compilers)      (*) as reported by 'uname -p', except on Windows and Mac OS X

Package 1000/2295HostnameOS / ArchINSTALLBUILDCHECKBUILD BIN
iCheck 1.37.0  (landing page)
Weiliang Qiu
Snapshot Date: 2025-02-04 13:40 -0500 (Tue, 04 Feb 2025)
git_url: https://git.bioconductor.org/packages/iCheck
git_branch: devel
git_last_commit: 3a391bf
git_last_commit_date: 2024-10-29 10:04:12 -0500 (Tue, 29 Oct 2024)
nebbiolo1Linux (Ubuntu 24.04.1 LTS) / x86_64  OK    OK    OK  UNNEEDED, same version is already published
palomino7Windows Server 2022 Datacenter / x64  OK    OK    OK    OK  UNNEEDED, same version is already published
lconwaymacOS 12.7.1 Monterey / x86_64  OK    OK    OK    OK  UNNEEDED, same version is already published
kjohnson3macOS 13.7.1 Ventura / arm64  OK    OK    OK    OK  UNNEEDED, same version is already published


BUILD BIN results for iCheck on palomino7

To the developers/maintainers of the iCheck package:
- Allow up to 24 hours (and sometimes 48 hours) for your latest push to git@git.bioconductor.org:packages/iCheck.git to reflect on this report. See Troubleshooting Build Report for more information.
- Use the following Renviron settings to reproduce errors and warnings.
- If 'R CMD check' started to fail recently on the Linux builder(s) over a missing dependency, add the missing dependency to 'Suggests:' in your DESCRIPTION file. See Renviron.bioc for more information.

raw results


Summary

Package: iCheck
Version: 1.37.0
Command: rm -rf iCheck.buildbin-libdir && mkdir iCheck.buildbin-libdir && E:\biocbuild\bbs-3.21-bioc\R\bin\R.exe CMD INSTALL --build --library=iCheck.buildbin-libdir iCheck_1.37.0.tar.gz
StartedAt: 2025-02-05 08:08:18 -0500 (Wed, 05 Feb 2025)
EndedAt: 2025-02-05 08:09:36 -0500 (Wed, 05 Feb 2025)
EllapsedTime: 78.1 seconds
RetCode: 0
Status:   OK  
PackageFile: iCheck_1.37.0.zip
PackageFileSize: 599.3 KiB

Command output

##############################################################################
##############################################################################
###
### Running command:
###
###   rm -rf iCheck.buildbin-libdir && mkdir iCheck.buildbin-libdir && E:\biocbuild\bbs-3.21-bioc\R\bin\R.exe CMD INSTALL --build --library=iCheck.buildbin-libdir iCheck_1.37.0.tar.gz
###
##############################################################################
##############################################################################


* installing *source* package 'iCheck' ...
** this is package 'iCheck' version '1.37.0'
** using staged installation
** R
** inst
** byte-compile and prepare package for lazy loading
No methods found in package 'RSQLite' for request: 'dbListFields' when loading 'lumi'
** help
*** installing help indices
** building package indices
** installing vignettes
** testing if installed package can be loaded from temporary location
No methods found in package 'RSQLite' for request: 'dbListFields' when loading 'lumi'
** testing if installed package can be loaded from final location
No methods found in package 'RSQLite' for request: 'dbListFields' when loading 'lumi'
** testing if installed package keeps a record of temporary installation path
* MD5 sums
packaged installation of 'iCheck' as iCheck_1.37.0.zip
* DONE (iCheck)