Back to Multiple platform build/check report for BioC 3.21: simplified long |
|
This page was generated on 2025-02-05 11:42 -0500 (Wed, 05 Feb 2025).
Hostname | OS | Arch (*) | R version | Installed pkgs |
---|---|---|---|---|
nebbiolo1 | Linux (Ubuntu 24.04.1 LTS) | x86_64 | R Under development (unstable) (2025-01-20 r87609) -- "Unsuffered Consequences" | 4717 |
palomino7 | Windows Server 2022 Datacenter | x64 | R Under development (unstable) (2025-01-21 r87610 ucrt) -- "Unsuffered Consequences" | 4478 |
lconway | macOS 12.7.1 Monterey | x86_64 | R Under development (unstable) (2025-01-22 r87618) -- "Unsuffered Consequences" | 4489 |
kjohnson3 | macOS 13.7.1 Ventura | arm64 | R Under development (unstable) (2025-01-20 r87609) -- "Unsuffered Consequences" | 4442 |
Click on any hostname to see more info about the system (e.g. compilers) (*) as reported by 'uname -p', except on Windows and Mac OS X |
Package 955/2295 | Hostname | OS / Arch | INSTALL | BUILD | CHECK | BUILD BIN | ||||||||
HiCBricks 1.25.0 (landing page) Koustav Pal
| nebbiolo1 | Linux (Ubuntu 24.04.1 LTS) / x86_64 | OK | OK | OK | |||||||||
palomino7 | Windows Server 2022 Datacenter / x64 | OK | OK | OK | OK | |||||||||
lconway | macOS 12.7.1 Monterey / x86_64 | OK | OK | OK | OK | |||||||||
kjohnson3 | macOS 13.7.1 Ventura / arm64 | OK | OK | OK | OK | |||||||||
To the developers/maintainers of the HiCBricks package: - Allow up to 24 hours (and sometimes 48 hours) for your latest push to git@git.bioconductor.org:packages/HiCBricks.git to reflect on this report. See Troubleshooting Build Report for more information. - Use the following Renviron settings to reproduce errors and warnings. - If 'R CMD check' started to fail recently on the Linux builder(s) over a missing dependency, add the missing dependency to 'Suggests:' in your DESCRIPTION file. See Renviron.bioc for more information. |
Package: HiCBricks |
Version: 1.25.0 |
Command: /Library/Frameworks/R.framework/Resources/bin/R CMD check --install=check:HiCBricks.install-out.txt --library=/Library/Frameworks/R.framework/Resources/library --no-vignettes --timings HiCBricks_1.25.0.tar.gz |
StartedAt: 2025-02-04 21:00:05 -0500 (Tue, 04 Feb 2025) |
EndedAt: 2025-02-04 21:02:57 -0500 (Tue, 04 Feb 2025) |
EllapsedTime: 171.6 seconds |
RetCode: 0 |
Status: OK |
CheckDir: HiCBricks.Rcheck |
Warnings: 0 |
############################################################################## ############################################################################## ### ### Running command: ### ### /Library/Frameworks/R.framework/Resources/bin/R CMD check --install=check:HiCBricks.install-out.txt --library=/Library/Frameworks/R.framework/Resources/library --no-vignettes --timings HiCBricks_1.25.0.tar.gz ### ############################################################################## ############################################################################## * using log directory ‘/Users/biocbuild/bbs-3.21-bioc/meat/HiCBricks.Rcheck’ * using R Under development (unstable) (2025-01-22 r87618) * using platform: x86_64-apple-darwin20 * R was compiled by Apple clang version 14.0.0 (clang-1400.0.29.202) GNU Fortran (GCC) 14.2.0 * running under: macOS Monterey 12.7.6 * using session charset: UTF-8 * using option ‘--no-vignettes’ * checking for file ‘HiCBricks/DESCRIPTION’ ... OK * checking extension type ... Package * this is package ‘HiCBricks’ version ‘1.25.0’ * package encoding: UTF-8 * checking package namespace information ... OK * checking package dependencies ... OK * checking if this is a source package ... OK * checking if there is a namespace ... OK * checking for hidden files and directories ... OK * checking for portable file names ... OK * checking for sufficient/correct file permissions ... OK * checking whether package ‘HiCBricks’ can be installed ... OK * checking installed package size ... OK * checking package directory ... OK * checking ‘build’ directory ... OK * checking DESCRIPTION meta-information ... OK * checking top-level files ... OK * checking for left-over files ... OK * checking index information ... OK * checking package subdirectories ... OK * checking code files for non-ASCII characters ... OK * checking R files for syntax errors ... OK * checking whether the package can be loaded ... OK * checking whether the package can be loaded with stated dependencies ... OK * checking whether the package can be unloaded cleanly ... OK * checking whether the namespace can be loaded with stated dependencies ... OK * checking whether the namespace can be unloaded cleanly ... OK * checking dependencies in R code ... OK * checking S3 generic/method consistency ... OK * checking replacement functions ... OK * checking foreign function calls ... OK * checking R code for possible problems ... OK * checking Rd files ... OK * checking Rd metadata ... OK * checking Rd cross-references ... OK * checking for missing documentation entries ... OK * checking for code/documentation mismatches ... OK * checking Rd \usage sections ... OK * checking Rd contents ... OK * checking for unstated dependencies in examples ... OK * checking files in ‘vignettes’ ... OK * checking examples ... OK * checking for unstated dependencies in vignettes ... OK * checking package vignettes ... OK * checking running R code from vignettes ... SKIPPED * checking re-building of vignette outputs ... SKIPPED * checking PDF version of manual ... OK * DONE Status: OK
HiCBricks.Rcheck/00install.out
############################################################################## ############################################################################## ### ### Running command: ### ### /Library/Frameworks/R.framework/Resources/bin/R CMD INSTALL HiCBricks ### ############################################################################## ############################################################################## * installing to library ‘/Library/Frameworks/R.framework/Versions/4.5-x86_64/Resources/library’ * installing *source* package ‘HiCBricks’ ... ** this is package ‘HiCBricks’ version ‘1.25.0’ ** using staged installation ** R ** inst ** byte-compile and prepare package for lazy loading ** help *** installing help indices ** building package indices ** installing vignettes ** testing if installed package can be loaded from temporary location ** testing if installed package can be loaded from final location ** testing if installed package keeps a record of temporary installation path * DONE (HiCBricks)
HiCBricks.Rcheck/HiCBricks-Ex.timings
name | user | system | elapsed | |
BrickContainer_change_experiment_name | 1.175 | 0.107 | 1.299 | |
BrickContainer_change_output_directory | 0.930 | 0.083 | 1.017 | |
BrickContainer_get_path_to_file | 0.811 | 0.076 | 0.898 | |
BrickContainer_list_chromosomes | 0.807 | 0.076 | 0.905 | |
BrickContainer_list_experiment_name | 0.809 | 0.072 | 0.889 | |
BrickContainer_list_files | 0.838 | 0.067 | 0.913 | |
BrickContainer_list_output_directory | 0.810 | 0.072 | 0.887 | |
BrickContainer_list_resolutions | 0.839 | 0.072 | 0.922 | |
BrickContainer_unlink_resolution | 1.831 | 0.167 | 2.021 | |
Brick_add_ranges | 1.879 | 0.116 | 2.015 | |
Brick_call_compartments | 1.359 | 0.211 | 1.590 | |
Brick_export_to_sparse | 2.435 | 0.301 | 2.755 | |
Brick_fetch_range_index | 0.993 | 0.075 | 1.078 | |
Brick_fetch_row_vector | 1.512 | 0.220 | 1.750 | |
Brick_get_bintable | 0.875 | 0.074 | 0.955 | |
Brick_get_chrominfo | 0.781 | 0.071 | 0.856 | |
Brick_get_entire_matrix | 1.254 | 0.225 | 1.494 | |
Brick_get_matrix | 1.630 | 0.311 | 1.960 | |
Brick_get_matrix_mcols | 1.216 | 0.234 | 1.466 | |
Brick_get_matrix_within_coords | 1.766 | 0.313 | 2.126 | |
Brick_get_ranges | 0.887 | 0.080 | 0.975 | |
Brick_get_values_by_distance | 1.308 | 0.268 | 1.592 | |
Brick_get_vector_values | 1.190 | 0.232 | 1.447 | |
Brick_list_matrices | 0.810 | 0.078 | 0.896 | |
Brick_list_matrix_mcols | 0.820 | 0.077 | 0.905 | |
Brick_list_mcool_normalisations | 0 | 0 | 0 | |
Brick_list_mcool_resolutions | 0 | 0 | 0 | |
Brick_list_rangekeys | 0.791 | 0.079 | 0.876 | |
Brick_list_ranges_mcols | 0.788 | 0.075 | 0.867 | |
Brick_load_cis_matrix_till_distance | 1.070 | 0.288 | 1.373 | |
Brick_load_data_from_mcool | 0.000 | 0.000 | 0.001 | |
Brick_load_data_from_sparse | 0.000 | 0.001 | 0.000 | |
Brick_load_matrix | 1.188 | 0.262 | 1.463 | |
Brick_local_score_differentiator | 1.782 | 0.327 | 2.133 | |
Brick_make_ranges | 0.009 | 0.000 | 0.009 | |
Brick_matrix_dimensions | 1.127 | 0.192 | 1.331 | |
Brick_matrix_exists | 1.123 | 0.197 | 1.338 | |
Brick_matrix_filename | 1.102 | 0.294 | 1.406 | |
Brick_matrix_isdone | 1.145 | 0.214 | 1.369 | |
Brick_matrix_issparse | 1.097 | 0.186 | 1.291 | |
Brick_matrix_maxdist | 1.101 | 0.185 | 1.302 | |
Brick_matrix_minmax | 1.176 | 0.242 | 1.434 | |
Brick_mcool_normalisation_exists | 0 | 0 | 0 | |
Brick_rangekey_exists | 0.824 | 0.082 | 0.913 | |
Brick_return_region_position | 0.892 | 0.080 | 0.980 | |
Brick_vizart_plot_heatmap | 2.124 | 0.371 | 2.514 | |
Create_many_Bricks | 0.780 | 0.086 | 0.873 | |
Create_many_Bricks_from_mcool | 0.000 | 0.000 | 0.001 | |
load_BrickContainer | 0.836 | 0.075 | 0.914 | |