Back to Multiple platform build/check report for BioC 3.21:   simplified   long
ABCD[E]FGHIJKLMNOPQRSTUVWXYZ

This page was generated on 2025-02-05 11:42 -0500 (Wed, 05 Feb 2025).

HostnameOSArch (*)R versionInstalled pkgs
nebbiolo1Linux (Ubuntu 24.04.1 LTS)x86_64R Under development (unstable) (2025-01-20 r87609) -- "Unsuffered Consequences" 4717
palomino7Windows Server 2022 Datacenterx64R Under development (unstable) (2025-01-21 r87610 ucrt) -- "Unsuffered Consequences" 4478
lconwaymacOS 12.7.1 Montereyx86_64R Under development (unstable) (2025-01-22 r87618) -- "Unsuffered Consequences" 4489
kjohnson3macOS 13.7.1 Venturaarm64R Under development (unstable) (2025-01-20 r87609) -- "Unsuffered Consequences" 4442
Click on any hostname to see more info about the system (e.g. compilers)      (*) as reported by 'uname -p', except on Windows and Mac OS X

Package 627/2295HostnameOS / ArchINSTALLBUILDCHECKBUILD BIN
EBSeq 2.5.2  (landing page)
Xiuyu Ma
Snapshot Date: 2025-02-04 13:40 -0500 (Tue, 04 Feb 2025)
git_url: https://git.bioconductor.org/packages/EBSeq
git_branch: devel
git_last_commit: e80d996
git_last_commit_date: 2025-01-28 04:53:12 -0500 (Tue, 28 Jan 2025)
nebbiolo1Linux (Ubuntu 24.04.1 LTS) / x86_64  OK    OK    OK  UNNEEDED, same version is already published
palomino7Windows Server 2022 Datacenter / x64  OK    OK    OK    OK  UNNEEDED, same version is already published
lconwaymacOS 12.7.1 Monterey / x86_64  OK    OK    OK    OK  UNNEEDED, same version is already published
kjohnson3macOS 13.7.1 Ventura / arm64  OK    OK    OK    OK  UNNEEDED, same version is already published


CHECK results for EBSeq on lconway

To the developers/maintainers of the EBSeq package:
- Allow up to 24 hours (and sometimes 48 hours) for your latest push to git@git.bioconductor.org:packages/EBSeq.git to reflect on this report. See Troubleshooting Build Report for more information.
- Use the following Renviron settings to reproduce errors and warnings.
- If 'R CMD check' started to fail recently on the Linux builder(s) over a missing dependency, add the missing dependency to 'Suggests:' in your DESCRIPTION file. See Renviron.bioc for more information.

raw results


Summary

Package: EBSeq
Version: 2.5.2
Command: /Library/Frameworks/R.framework/Resources/bin/R CMD check --install=check:EBSeq.install-out.txt --library=/Library/Frameworks/R.framework/Resources/library --no-vignettes --timings EBSeq_2.5.2.tar.gz
StartedAt: 2025-02-04 20:16:26 -0500 (Tue, 04 Feb 2025)
EndedAt: 2025-02-04 20:17:35 -0500 (Tue, 04 Feb 2025)
EllapsedTime: 69.2 seconds
RetCode: 0
Status:   OK  
CheckDir: EBSeq.Rcheck
Warnings: 0

Command output

##############################################################################
##############################################################################
###
### Running command:
###
###   /Library/Frameworks/R.framework/Resources/bin/R CMD check --install=check:EBSeq.install-out.txt --library=/Library/Frameworks/R.framework/Resources/library --no-vignettes --timings EBSeq_2.5.2.tar.gz
###
##############################################################################
##############################################################################


* using log directory ‘/Users/biocbuild/bbs-3.21-bioc/meat/EBSeq.Rcheck’
* using R Under development (unstable) (2025-01-22 r87618)
* using platform: x86_64-apple-darwin20
* R was compiled by
    Apple clang version 14.0.0 (clang-1400.0.29.202)
    GNU Fortran (GCC) 14.2.0
* running under: macOS Monterey 12.7.6
* using session charset: UTF-8
* using option ‘--no-vignettes’
* checking for file ‘EBSeq/DESCRIPTION’ ... OK
* checking extension type ... Package
* this is package ‘EBSeq’ version ‘2.5.2’
* checking package namespace information ... OK
* checking package dependencies ... OK
* checking if this is a source package ... OK
* checking if there is a namespace ... OK
* checking for hidden files and directories ... OK
* checking for portable file names ... OK
* checking for sufficient/correct file permissions ... OK
* checking whether package ‘EBSeq’ can be installed ... OK
* used C++ compiler: ‘Apple clang version 14.0.0 (clang-1400.0.29.202)’
* used SDK: ‘MacOSX11.3.sdk’
* checking C++ specification ... NOTE
  Specified C++14: please drop specification unless essential
* checking installed package size ... OK
* checking package directory ... OK
* checking DESCRIPTION meta-information ... NOTE
Malformed Description field: should contain one or more complete sentences.
* checking top-level files ... OK
* checking for left-over files ... OK
* checking index information ... OK
* checking package subdirectories ... OK
* checking code files for non-ASCII characters ... OK
* checking R files for syntax errors ... OK
* checking whether the package can be loaded ... OK
* checking whether the package can be loaded with stated dependencies ... OK
* checking whether the package can be unloaded cleanly ... OK
* checking whether the namespace can be loaded with stated dependencies ... OK
* checking whether the namespace can be unloaded cleanly ... OK
* checking dependencies in R code ... OK
* checking S3 generic/method consistency ... OK
* checking replacement functions ... OK
* checking foreign function calls ... OK
* checking R code for possible problems ... NOTE
DenNHist: no visible global function definition for ‘hist’
DenNHist: no visible global function definition for ‘lines’
DenNHist: no visible global function definition for ‘dbeta’
DenNHist: no visible global function definition for ‘legend’
EBMultiTest : <anonymous>: no visible global function definition for
  ‘quantile’
EBMultiTest: no visible binding for global variable ‘var’
EBMultiTest: no visible binding for global variable ‘NumBin’
EBMultiTest: no visible global function definition for ‘quantile’
EBMultiTest: no visible binding for global variable ‘PoolLower’
EBMultiTest: no visible binding for global variable ‘PoolUpper’
EBMultiTest : <anonymous>: no visible binding for global variable ‘var’
EBMultiTest: no visible binding for global variable ‘Print’
EBTest : <anonymous>: no visible global function definition for
  ‘quantile’
EBTest: no visible binding for global variable ‘var’
EBTest: no visible global function definition for ‘quantile’
EBTest: no visible binding for global variable ‘PoolLower’
EBTest: no visible binding for global variable ‘PoolUpper’
EBTest: no visible binding for global variable ‘Print’
GetDEResults: no visible binding for global variable ‘median’
LogN: no visible global function definition for ‘optim’
LogNMulti: no visible global function definition for ‘optim’
MedianNorm : <anonymous>: no visible global function definition for
  ‘median’
MedianNorm : <anonymous> : <anonymous>: no visible global function
  definition for ‘median’
PlotPattern: no visible global function definition for ‘par’
PlotPattern: no visible global function definition for ‘rainbow’
PlotPattern: no visible global function definition for ‘heatmap’
PlotPostVsRawFC: no visible global function definition for ‘par’
PlotPostVsRawFC: no visible global function definition for ‘abline’
PlotPostVsRawFC: no visible global function definition for ‘rect’
PolyFitPlot: no visible global function definition for ‘lm’
PolyFitPlot: no visible global function definition for ‘smoothScatter’
PolyFitPlot: no visible global function definition for ‘axis’
PolyFitPlot: no visible global function definition for ‘lines’
QQP: no visible global function definition for ‘rbeta’
QQP: no visible global function definition for ‘qqplot’
QQP: no visible global function definition for ‘lm’
QQP: no visible global function definition for ‘abline’
QuantileNorm : <anonymous>: no visible global function definition for
  ‘quantile’
beta.mom: no visible global function definition for ‘var’
Undefined global functions or variables:
  NumBin PoolLower PoolUpper Print abline axis dbeta heatmap hist
  legend lines lm median optim par qqplot quantile rainbow rbeta rect
  smoothScatter var
Consider adding
  importFrom("grDevices", "rainbow")
  importFrom("graphics", "abline", "axis", "hist", "legend", "lines",
             "par", "rect", "smoothScatter")
  importFrom("stats", "dbeta", "heatmap", "lm", "median", "optim",
             "qqplot", "quantile", "rbeta", "var")
to your NAMESPACE file.
* checking Rd files ... NOTE
checkRd: (-1) EBTest.Rd:56: Lost braces; missing escapes or markup?
    56 | X_{gis}|mu_{gi} ~ NB (r_{gi0} * l_s, q_{gi})
       |   ^
checkRd: (-1) EBTest.Rd:56: Lost braces; missing escapes or markup?
    56 | X_{gis}|mu_{gi} ~ NB (r_{gi0} * l_s, q_{gi})
       |            ^
checkRd: (-1) EBTest.Rd:56: Lost braces; missing escapes or markup?
    56 | X_{gis}|mu_{gi} ~ NB (r_{gi0} * l_s, q_{gi})
       |                         ^
checkRd: (-1) EBTest.Rd:56: Lost braces; missing escapes or markup?
    56 | X_{gis}|mu_{gi} ~ NB (r_{gi0} * l_s, q_{gi})
       |                                        ^
checkRd: (-1) EBTest.Rd:60: Lost braces; missing escapes or markup?
    60 | The function will test "H0: q_{gi}^{C1} = q_{gi}^{C2}" and "H1: q_{gi}^{C1} != q_{gi}^{C2}."
       |                               ^
checkRd: (-1) EBTest.Rd:60: Lost braces; missing escapes or markup?
    60 | The function will test "H0: q_{gi}^{C1} = q_{gi}^{C2}" and "H1: q_{gi}^{C1} != q_{gi}^{C2}."
       |                                    ^
checkRd: (-1) EBTest.Rd:60: Lost braces; missing escapes or markup?
    60 | The function will test "H0: q_{gi}^{C1} = q_{gi}^{C2}" and "H1: q_{gi}^{C1} != q_{gi}^{C2}."
       |                                             ^
checkRd: (-1) EBTest.Rd:60: Lost braces; missing escapes or markup?
    60 | The function will test "H0: q_{gi}^{C1} = q_{gi}^{C2}" and "H1: q_{gi}^{C1} != q_{gi}^{C2}."
       |                                                  ^
checkRd: (-1) EBTest.Rd:60: Lost braces; missing escapes or markup?
    60 | The function will test "H0: q_{gi}^{C1} = q_{gi}^{C2}" and "H1: q_{gi}^{C1} != q_{gi}^{C2}."
       |                                                                   ^
checkRd: (-1) EBTest.Rd:60: Lost braces; missing escapes or markup?
    60 | The function will test "H0: q_{gi}^{C1} = q_{gi}^{C2}" and "H1: q_{gi}^{C1} != q_{gi}^{C2}."
       |                                                                        ^
checkRd: (-1) EBTest.Rd:60: Lost braces; missing escapes or markup?
    60 | The function will test "H0: q_{gi}^{C1} = q_{gi}^{C2}" and "H1: q_{gi}^{C1} != q_{gi}^{C2}."
       |                                                                                  ^
checkRd: (-1) EBTest.Rd:60: Lost braces; missing escapes or markup?
    60 | The function will test "H0: q_{gi}^{C1} = q_{gi}^{C2}" and "H1: q_{gi}^{C1} != q_{gi}^{C2}."
       |                                                                                       ^
checkRd: (-1) MedianNorm.Rd:21: Lost braces
    21 | hat{l_1} = median_g [ X_g1 / (X_g1*X_g2*...*X_gS)^{-S} ]     (1)
       |    ^
checkRd: (-1) MedianNorm.Rd:21: Lost braces; missing escapes or markup?
    21 | hat{l_1} = median_g [ X_g1 / (X_g1*X_g2*...*X_gS)^{-S} ]     (1)
       |                                                   ^
checkRd: (-1) MedianNorm.Rd:23: Lost braces; missing escapes or markup?
    23 | which estimates l_1 / (l_1 * l_2 * ... * l_S)^{-S}. 
       |                                               ^
checkRd: (-1) MedianNorm.Rd:27: Lost braces
    27 | hat{l_1}  = median_g [ (X_g1/X_g1 * X_g1/X_g2 * .... * X_g1/X_gS)^{-S}]
       |    ^
checkRd: (-1) MedianNorm.Rd:27: Lost braces; missing escapes or markup?
    27 | hat{l_1}  = median_g [ (X_g1/X_g1 * X_g1/X_g2 * .... * X_g1/X_gS)^{-S}]
       |                                                                   ^
checkRd: (-1) MedianNorm.Rd:31: Lost braces; missing escapes or markup?
    31 | Then estimate l_1 = l_1 / (l_1 * l_2 * ... * l_S)^{-S} by taking the
       |                                                   ^
checkRd: (-1) MedianNorm.Rd:34: Lost braces
    34 | hat{l_1} = [ median_g(X_g1/X_g1) * median_g(X_g1/X_g2) *
       |    ^
checkRd: (-1) MedianNorm.Rd:35: Lost braces; missing escapes or markup?
    35 | median_g(X_g1/X_g3) * ... * median_g(X_g1/X_gS) ] ^{-S}
       |                                                    ^
* checking Rd metadata ... NOTE
Invalid package aliases in Rd file 'EBSeq_NingLeng-package.Rd':
  ‘EBSeq_NingLeng-package’
* checking Rd cross-references ... OK
* checking for missing documentation entries ... OK
* checking for code/documentation mismatches ... OK
* checking Rd \usage sections ... OK
* checking Rd contents ... OK
* checking for unstated dependencies in examples ... OK
* checking contents of ‘data’ directory ... OK
* checking data for non-ASCII characters ... OK
* checking data for ASCII and uncompressed saves ... OK
* checking line endings in C/C++/Fortran sources/headers ... OK
* checking line endings in Makefiles ... OK
* checking compilation flags in Makevars ... OK
* checking for GNU extensions in Makefiles ... OK
* checking for portable use of $(BLAS_LIBS) and $(LAPACK_LIBS) ... OK
* checking use of PKG_*FLAGS in Makefiles ... OK
* checking compiled code ... NOTE
Note: information on .o files is not available
* checking sizes of PDF files under ‘inst/doc’ ... OK
* checking installed files from ‘inst/doc’ ... OK
* checking files in ‘vignettes’ ... OK
* checking examples ... OK
* checking for unstated dependencies in vignettes ... OK
* checking package vignettes ... OK
* checking running R code from vignettes ... SKIPPED
* checking re-building of vignette outputs ... SKIPPED
* checking PDF version of manual ... OK
* DONE

Status: 6 NOTEs
See
  ‘/Users/biocbuild/bbs-3.21-bioc/meat/EBSeq.Rcheck/00check.log’
for details.


Installation output

EBSeq.Rcheck/00install.out

##############################################################################
##############################################################################
###
### Running command:
###
###   /Library/Frameworks/R.framework/Resources/bin/R CMD INSTALL EBSeq
###
##############################################################################
##############################################################################


* installing to library ‘/Library/Frameworks/R.framework/Versions/4.5-x86_64/Resources/library’
* installing *source* package ‘EBSeq’ ...
** this is package ‘EBSeq’ version ‘2.5.2’
** using staged installation
** libs
using C++ compiler: ‘Apple clang version 14.0.0 (clang-1400.0.29.202)’
using C++14
using SDK: ‘MacOSX11.3.sdk’
clang++ -arch x86_64 -std=gnu++14 -I"/Library/Frameworks/R.framework/Resources/include" -DNDEBUG  -I'/Library/Frameworks/R.framework/Versions/4.5-x86_64/Resources/library/Rcpp/include' -I'/Library/Frameworks/R.framework/Versions/4.5-x86_64/Resources/library/RcppEigen/include' -I'/Library/Frameworks/R.framework/Versions/4.5-x86_64/Resources/library/BH/include' -I/opt/R/x86_64/include    -fPIC  -falign-functions=64 -Wall -g -O2  -DR_NO_REMAP -c Rexport.cpp -o Rexport.o
In file included from Rexport.cpp:11:
./negativeBinomial.hpp:139:26: warning: variable 'maxholder' set but not used [-Wunused-but-set-variable]
                    auto maxholder = add.maxCoeff(&maxRow, &maxCol);
                         ^
1 warning generated.
clang++ -arch x86_64 -std=gnu++14 -dynamiclib -Wl,-headerpad_max_install_names -undefined dynamic_lookup -L/Library/Frameworks/R.framework/Resources/lib -L/opt/R/x86_64/lib -o EBSeq.so Rexport.o -F/Library/Frameworks/R.framework/.. -framework R -Wl,-framework -Wl,CoreFoundation
installing to /Library/Frameworks/R.framework/Versions/4.5-x86_64/Resources/library/00LOCK-EBSeq/00new/EBSeq/libs
** R
** data
** demo
** inst
** byte-compile and prepare package for lazy loading
** help
*** installing help indices
** building package indices
** installing vignettes
** testing if installed package can be loaded from temporary location
** checking absolute paths in shared objects and dynamic libraries
** testing if installed package can be loaded from final location
** testing if installed package keeps a record of temporary installation path
* DONE (EBSeq)

Tests output


Example timings

EBSeq.Rcheck/EBSeq-Ex.timings

nameusersystemelapsed
DenNHist0.6820.0200.713
EBMultiTest0.1720.0040.176
EBSeq_NingLeng-package0.0990.0030.102
EBTest0.2720.0050.279
GeneMat0.0020.0010.003
GetDEResults0.0950.0040.100
GetMultiFC0.0590.0030.062
GetMultiPP0.0580.0020.061
GetNg0.0050.0010.006
GetNormalizedMat0.0070.0020.009
GetPPMat0.0970.0030.099
GetPatterns0.0010.0010.001
GetSelectedPatterns0.1540.0030.156
IsoList0.0040.0010.005
IsoMultiList0.0020.0010.003
Likefun000
LikefunMulti0.0000.0010.001
LogN000
LogNMulti0.0010.0000.000
MedianNorm0.0040.0020.006
MultiGeneMat0.0020.0010.003
PlotPattern0.0090.0010.010
PlotPostVsRawFC0.1120.0040.117
PolyFitPlot0.0110.0020.014
PostFC0.1010.0030.105
QQP0.1970.0060.205
QuantileNorm0.0060.0010.007
RankNorm0.0080.0020.010
beta.mom0.0000.0000.001
crit_fun0.0800.0020.083
f0000
f1000