Back to Multiple platform build/check report for BioC 3.21: simplified long |
|
This page was generated on 2025-02-05 11:43 -0500 (Wed, 05 Feb 2025).
Hostname | OS | Arch (*) | R version | Installed pkgs |
---|---|---|---|---|
nebbiolo1 | Linux (Ubuntu 24.04.1 LTS) | x86_64 | R Under development (unstable) (2025-01-20 r87609) -- "Unsuffered Consequences" | 4717 |
palomino7 | Windows Server 2022 Datacenter | x64 | R Under development (unstable) (2025-01-21 r87610 ucrt) -- "Unsuffered Consequences" | 4478 |
lconway | macOS 12.7.1 Monterey | x86_64 | R Under development (unstable) (2025-01-22 r87618) -- "Unsuffered Consequences" | 4489 |
kjohnson3 | macOS 13.7.1 Ventura | arm64 | R Under development (unstable) (2025-01-20 r87609) -- "Unsuffered Consequences" | 4442 |
Click on any hostname to see more info about the system (e.g. compilers) (*) as reported by 'uname -p', except on Windows and Mac OS X |
Package 170/2295 | Hostname | OS / Arch | INSTALL | BUILD | CHECK | BUILD BIN | ||||||||
BindingSiteFinder 2.5.2 (landing page) Mirko Brüggemann
| nebbiolo1 | Linux (Ubuntu 24.04.1 LTS) / x86_64 | OK | OK | OK | |||||||||
palomino7 | Windows Server 2022 Datacenter / x64 | OK | OK | OK | OK | |||||||||
lconway | macOS 12.7.1 Monterey / x86_64 | OK | OK | OK | OK | |||||||||
kjohnson3 | macOS 13.7.1 Ventura / arm64 | OK | OK | OK | OK | |||||||||
To the developers/maintainers of the BindingSiteFinder package: - Allow up to 24 hours (and sometimes 48 hours) for your latest push to git@git.bioconductor.org:packages/BindingSiteFinder.git to reflect on this report. See Troubleshooting Build Report for more information. - Use the following Renviron settings to reproduce errors and warnings. - If 'R CMD check' started to fail recently on the Linux builder(s) over a missing dependency, add the missing dependency to 'Suggests:' in your DESCRIPTION file. See Renviron.bioc for more information. |
Package: BindingSiteFinder |
Version: 2.5.2 |
Command: /Library/Frameworks/R.framework/Resources/bin/R CMD check --install=check:BindingSiteFinder.install-out.txt --library=/Library/Frameworks/R.framework/Resources/library --no-vignettes --timings BindingSiteFinder_2.5.2.tar.gz |
StartedAt: 2025-02-04 18:14:06 -0500 (Tue, 04 Feb 2025) |
EndedAt: 2025-02-04 18:18:56 -0500 (Tue, 04 Feb 2025) |
EllapsedTime: 289.6 seconds |
RetCode: 0 |
Status: OK |
CheckDir: BindingSiteFinder.Rcheck |
Warnings: 0 |
############################################################################## ############################################################################## ### ### Running command: ### ### /Library/Frameworks/R.framework/Resources/bin/R CMD check --install=check:BindingSiteFinder.install-out.txt --library=/Library/Frameworks/R.framework/Resources/library --no-vignettes --timings BindingSiteFinder_2.5.2.tar.gz ### ############################################################################## ############################################################################## * using log directory ‘/Users/biocbuild/bbs-3.21-bioc/meat/BindingSiteFinder.Rcheck’ * using R Under development (unstable) (2025-01-20 r87609) * using platform: aarch64-apple-darwin20 * R was compiled by Apple clang version 14.0.0 (clang-1400.0.29.202) GNU Fortran (GCC) 14.2.0 * running under: macOS Ventura 13.7.1 * using session charset: UTF-8 * using option ‘--no-vignettes’ * checking for file ‘BindingSiteFinder/DESCRIPTION’ ... OK * checking extension type ... Package * this is package ‘BindingSiteFinder’ version ‘2.5.2’ * package encoding: UTF-8 * checking package namespace information ... OK * checking package dependencies ... OK * checking if this is a source package ... OK * checking if there is a namespace ... OK * checking for hidden files and directories ... OK * checking for portable file names ... OK * checking for sufficient/correct file permissions ... OK * checking whether package ‘BindingSiteFinder’ can be installed ... OK * checking installed package size ... OK * checking package directory ... OK * checking ‘build’ directory ... OK * checking DESCRIPTION meta-information ... OK * checking top-level files ... OK * checking for left-over files ... OK * checking index information ... OK * checking package subdirectories ... OK * checking code files for non-ASCII characters ... OK * checking R files for syntax errors ... OK * checking whether the package can be loaded ... OK * checking whether the package can be loaded with stated dependencies ... OK * checking whether the package can be unloaded cleanly ... OK * checking whether the namespace can be loaded with stated dependencies ... OK * checking whether the namespace can be unloaded cleanly ... OK * checking dependencies in R code ... OK * checking S3 generic/method consistency ... OK * checking replacement functions ... OK * checking foreign function calls ... OK * checking R code for possible problems ... OK * checking Rd files ... OK * checking Rd metadata ... OK * checking Rd cross-references ... NOTE Found the following Rd file(s) with Rd \link{} targets missing package anchors: BSFind.Rd: GenomicRanges, CompressedGRangesList annotateWithScore.Rd: GenomicRanges assignToGenes.Rd: GenomicRanges, overlaps assignToTranscriptRegions.Rd: CompressedGRangesList, overlaps bindingSiteDefinednessPlot.Rd: ggplot calculateBsBackground.Rd: GenomicRanges duplicatedSitesPlot.Rd: ggplot estimateBsWidth.Rd: GenomicRanges estimateBsWidthPlot.Rd: ggplot geneOverlapsPlot.Rd: ggplot globalScorePlot.Rd: ggplot makeBsSummaryPlot.Rd: ggplot mergeCrosslinkDiagnosticsPlot.Rd: ggplot plotBsBackgroundFilter.Rd: ggplot plotBsMA.Rd: ggplot plotBsVolcano.Rd: ggplot processingStepsFlowChart.Rd: ggplot pureClipGeneWiseFilter.Rd: GenomicRanges, overlaps pureClipGlobalFilter.Rd: GenomicRanges pureClipGlobalFilterPlot.Rd: ggplot reproducibilityFilterPlot.Rd: ggplot reproducibilitySamplesPlot.Rd: ggplot targetGeneSpectrumPlot.Rd: ggplot transcriptRegionOverlapsPlot.Rd: ggplot transcriptRegionSpectrumPlot.Rd: ggplot Please provide package anchors for all Rd \link{} targets not in the package itself and the base packages. * checking for missing documentation entries ... OK * checking for code/documentation mismatches ... OK * checking Rd \usage sections ... OK * checking Rd contents ... OK * checking for unstated dependencies in examples ... OK * checking files in ‘vignettes’ ... OK * checking examples ... OK Examples with CPU (user + system) or elapsed time > 5s user system elapsed quickFigure 9.396 0.161 9.624 BSFind 8.607 0.192 9.031 processingStepsFlowChart 8.529 0.148 8.715 bindingSiteDefinednessPlot 7.821 0.120 7.949 calculateBsFoldChange 6.607 0.123 6.783 * checking for unstated dependencies in ‘tests’ ... OK * checking tests ... Running ‘testthat.R’ OK * checking for unstated dependencies in vignettes ... OK * checking package vignettes ... OK * checking running R code from vignettes ... SKIPPED * checking re-building of vignette outputs ... SKIPPED * checking PDF version of manual ... OK * DONE Status: 1 NOTE See ‘/Users/biocbuild/bbs-3.21-bioc/meat/BindingSiteFinder.Rcheck/00check.log’ for details.
BindingSiteFinder.Rcheck/00install.out
############################################################################## ############################################################################## ### ### Running command: ### ### /Library/Frameworks/R.framework/Resources/bin/R CMD INSTALL BindingSiteFinder ### ############################################################################## ############################################################################## * installing to library ‘/Library/Frameworks/R.framework/Versions/4.5-arm64/Resources/library’ * installing *source* package ‘BindingSiteFinder’ ... ** this is package ‘BindingSiteFinder’ version ‘2.5.2’ ** using staged installation ** R ** inst ** byte-compile and prepare package for lazy loading ** help *** installing help indices ** building package indices ** installing vignettes ** testing if installed package can be loaded from temporary location ** testing if installed package can be loaded from final location ** testing if installed package keeps a record of temporary installation path * DONE (BindingSiteFinder)
BindingSiteFinder.Rcheck/tests/testthat.Rout
R Under development (unstable) (2025-01-20 r87609) -- "Unsuffered Consequences" Copyright (C) 2025 The R Foundation for Statistical Computing Platform: aarch64-apple-darwin20 R is free software and comes with ABSOLUTELY NO WARRANTY. You are welcome to redistribute it under certain conditions. Type 'license()' or 'licence()' for distribution details. R is a collaborative project with many contributors. Type 'contributors()' for more information and 'citation()' on how to cite R or R packages in publications. Type 'demo()' for some demos, 'help()' for on-line help, or 'help.start()' for an HTML browser interface to help. Type 'q()' to quit R. > library("testthat") > library("BindingSiteFinder") Loading required package: GenomicRanges Loading required package: stats4 Loading required package: BiocGenerics Loading required package: generics Attaching package: 'generics' The following objects are masked from 'package:base': as.difftime, as.factor, as.ordered, intersect, is.element, setdiff, setequal, union Attaching package: 'BiocGenerics' The following objects are masked from 'package:stats': IQR, mad, sd, var, xtabs The following objects are masked from 'package:base': Filter, Find, Map, Position, Reduce, anyDuplicated, aperm, append, as.data.frame, basename, cbind, colnames, dirname, do.call, duplicated, eval, evalq, get, grep, grepl, is.unsorted, lapply, mapply, match, mget, order, paste, pmax, pmax.int, pmin, pmin.int, rank, rbind, rownames, sapply, saveRDS, table, tapply, unique, unsplit, which.max, which.min Loading required package: S4Vectors Attaching package: 'S4Vectors' The following object is masked from 'package:utils': findMatches The following objects are masked from 'package:base': I, expand.grid, unname Loading required package: IRanges Loading required package: GenomeInfoDb > test_check("BindingSiteFinder") [1] "make bs" [1] "calc ratio" [1] "make bs" [1] "calc ratio" [ FAIL 0 | WARN 0 | SKIP 0 | PASS 240 ] > > proc.time() user system elapsed 81.462 1.730 83.508
BindingSiteFinder.Rcheck/BindingSiteFinder-Ex.timings
name | user | system | elapsed | |
BSFDataSet | 0.057 | 0.002 | 0.061 | |
BSFind | 8.607 | 0.192 | 9.031 | |
add-BSFDataSet | 0.687 | 0.113 | 1.011 | |
annotateWithScore | 0.444 | 0.017 | 0.490 | |
assignToGenes | 0.626 | 0.008 | 0.638 | |
assignToTranscriptRegions | 0.714 | 0.010 | 0.724 | |
bindingSiteCoveragePlot | 3.824 | 0.103 | 3.988 | |
bindingSiteDefinednessPlot | 7.821 | 0.120 | 7.949 | |
calculateBsBackground | 1.497 | 0.043 | 1.554 | |
calculateBsFoldChange | 6.607 | 0.123 | 6.783 | |
calculateSignalToFlankScore | 0.423 | 0.011 | 0.434 | |
clipCoverage | 0.517 | 0.010 | 0.527 | |
collapseReplicates | 0.058 | 0.003 | 0.061 | |
combineBSF | 1.404 | 0.030 | 1.434 | |
coverageOverRanges | 0.320 | 0.016 | 0.335 | |
duplicatedSitesPlot | 0.181 | 0.002 | 0.182 | |
estimateBsWidth | 2.876 | 0.088 | 2.983 | |
estimateBsWidthPlot | 3.443 | 0.107 | 3.572 | |
exportTargetGenes | 0.009 | 0.000 | 0.011 | |
exportToBED | 0.009 | 0.001 | 0.010 | |
filterBsBackground | 1.184 | 0.015 | 1.200 | |
geneOverlapsPlot | 0.859 | 0.015 | 0.876 | |
getMeta | 0.011 | 0.001 | 0.011 | |
getName | 0.01 | 0.00 | 0.01 | |
getRanges | 0.015 | 0.000 | 0.016 | |
getSignal | 0.021 | 0.001 | 0.022 | |
getSummary | 0.374 | 0.022 | 0.394 | |
globalScorePlot | 0.456 | 0.025 | 0.482 | |
imputeBsDifferencesForTestdata | 0.674 | 0.010 | 0.687 | |
makeBindingSites | 0.744 | 0.010 | 0.753 | |
makeBsSummaryPlot | 0.395 | 0.007 | 0.401 | |
mergeCrosslinkDiagnosticsPlot | 0.445 | 0.007 | 0.452 | |
mergeSummaryPlot | 1.161 | 0.024 | 1.191 | |
plotBsBackgroundFilter | 1.558 | 0.026 | 1.587 | |
plotBsMA | 4.202 | 0.043 | 4.250 | |
plotBsVolcano | 3.903 | 0.074 | 4.006 | |
processingStepsFlowChart | 8.529 | 0.148 | 8.715 | |
processingStepsTable | 0.022 | 0.001 | 0.027 | |
pureClipGeneWiseFilter | 0.118 | 0.003 | 0.123 | |
pureClipGlobalFilter | 0.021 | 0.002 | 0.023 | |
pureClipGlobalFilterPlot | 0.091 | 0.002 | 0.096 | |
quickFigure | 9.396 | 0.161 | 9.624 | |
rangeCoveragePlot | 1.706 | 0.063 | 1.783 | |
reproducibilityCutoffPlot | 0.789 | 0.018 | 0.808 | |
reproducibilityFilter | 0.493 | 0.020 | 0.526 | |
reproducibilityFilterPlot | 0.566 | 0.011 | 0.578 | |
reproducibilitySamplesPlot | 0.534 | 0.010 | 0.547 | |
reproducibilityScatterPlot | 1.116 | 0.018 | 1.149 | |
setMeta | 0.011 | 0.000 | 0.012 | |
setName | 0.010 | 0.000 | 0.011 | |
setRanges | 0.018 | 0.001 | 0.019 | |
setSignal | 0.019 | 0.001 | 0.019 | |
setSummary | 0.010 | 0.000 | 0.011 | |
show | 0.010 | 0.001 | 0.011 | |
subset-BSFDataSet | 0.015 | 0.001 | 0.016 | |
summary | 0.017 | 0.001 | 0.019 | |
supportRatio | 1.030 | 0.013 | 1.043 | |
supportRatioPlot | 1.612 | 0.051 | 1.679 | |
targetGeneSpectrumPlot | 0.643 | 0.007 | 0.650 | |
transcriptRegionOverlapsPlot | 0.780 | 0.015 | 0.800 | |
transcriptRegionSpectrumPlot | 0.773 | 0.017 | 0.827 | |