Back to Multiple platform build/check report for BioC 3.21:   simplified   long
[A]BCDEFGHIJKLMNOPQRSTUVWXYZ

This page was generated on 2025-02-05 11:43 -0500 (Wed, 05 Feb 2025).

HostnameOSArch (*)R versionInstalled pkgs
nebbiolo1Linux (Ubuntu 24.04.1 LTS)x86_64R Under development (unstable) (2025-01-20 r87609) -- "Unsuffered Consequences" 4717
palomino7Windows Server 2022 Datacenterx64R Under development (unstable) (2025-01-21 r87610 ucrt) -- "Unsuffered Consequences" 4478
lconwaymacOS 12.7.1 Montereyx86_64R Under development (unstable) (2025-01-22 r87618) -- "Unsuffered Consequences" 4489
kjohnson3macOS 13.7.1 Venturaarm64R Under development (unstable) (2025-01-20 r87609) -- "Unsuffered Consequences" 4442
Click on any hostname to see more info about the system (e.g. compilers)      (*) as reported by 'uname -p', except on Windows and Mac OS X

Package 58/2295HostnameOS / ArchINSTALLBUILDCHECKBUILD BIN
AlpsNMR 4.9.0  (landing page)
Sergio Oller Moreno
Snapshot Date: 2025-02-04 13:40 -0500 (Tue, 04 Feb 2025)
git_url: https://git.bioconductor.org/packages/AlpsNMR
git_branch: devel
git_last_commit: f8b70f5
git_last_commit_date: 2024-10-29 10:53:23 -0500 (Tue, 29 Oct 2024)
nebbiolo1Linux (Ubuntu 24.04.1 LTS) / x86_64  OK    OK    OK  UNNEEDED, same version is already published
palomino7Windows Server 2022 Datacenter / x64  OK    OK    OK    OK  UNNEEDED, same version is already published
lconwaymacOS 12.7.1 Monterey / x86_64  OK    OK    OK    OK  UNNEEDED, same version is already published
kjohnson3macOS 13.7.1 Ventura / arm64  OK    OK    OK    OK  UNNEEDED, same version is already published


CHECK results for AlpsNMR on kjohnson3

To the developers/maintainers of the AlpsNMR package:
- Allow up to 24 hours (and sometimes 48 hours) for your latest push to git@git.bioconductor.org:packages/AlpsNMR.git to reflect on this report. See Troubleshooting Build Report for more information.
- Use the following Renviron settings to reproduce errors and warnings.
- If 'R CMD check' started to fail recently on the Linux builder(s) over a missing dependency, add the missing dependency to 'Suggests:' in your DESCRIPTION file. See Renviron.bioc for more information.

raw results


Summary

Package: AlpsNMR
Version: 4.9.0
Command: /Library/Frameworks/R.framework/Resources/bin/R CMD check --install=check:AlpsNMR.install-out.txt --library=/Library/Frameworks/R.framework/Resources/library --no-vignettes --timings AlpsNMR_4.9.0.tar.gz
StartedAt: 2025-02-04 18:02:33 -0500 (Tue, 04 Feb 2025)
EndedAt: 2025-02-04 18:03:44 -0500 (Tue, 04 Feb 2025)
EllapsedTime: 70.9 seconds
RetCode: 0
Status:   OK  
CheckDir: AlpsNMR.Rcheck
Warnings: 0

Command output

##############################################################################
##############################################################################
###
### Running command:
###
###   /Library/Frameworks/R.framework/Resources/bin/R CMD check --install=check:AlpsNMR.install-out.txt --library=/Library/Frameworks/R.framework/Resources/library --no-vignettes --timings AlpsNMR_4.9.0.tar.gz
###
##############################################################################
##############################################################################


* using log directory ‘/Users/biocbuild/bbs-3.21-bioc/meat/AlpsNMR.Rcheck’
* using R Under development (unstable) (2025-01-20 r87609)
* using platform: aarch64-apple-darwin20
* R was compiled by
    Apple clang version 14.0.0 (clang-1400.0.29.202)
    GNU Fortran (GCC) 14.2.0
* running under: macOS Ventura 13.7.1
* using session charset: UTF-8
* using option ‘--no-vignettes’
* checking for file ‘AlpsNMR/DESCRIPTION’ ... OK
* checking extension type ... Package
* this is package ‘AlpsNMR’ version ‘4.9.0’
* package encoding: UTF-8
* checking package namespace information ... OK
* checking package dependencies ... INFO
Imports includes 26 non-default packages.
Importing from so many packages makes the package vulnerable to any of
them becoming unavailable.  Move as many as possible to Suggests and
use conditionally.
* checking if this is a source package ... OK
* checking if there is a namespace ... OK
* checking for hidden files and directories ... OK
* checking for portable file names ... OK
* checking for sufficient/correct file permissions ... OK
* checking whether package ‘AlpsNMR’ can be installed ... OK
* checking installed package size ... OK
* checking package directory ... OK
* checking ‘build’ directory ... OK
* checking DESCRIPTION meta-information ... OK
* checking top-level files ... OK
* checking for left-over files ... OK
* checking index information ... OK
* checking package subdirectories ... OK
* checking code files for non-ASCII characters ... OK
* checking R files for syntax errors ... OK
* checking whether the package can be loaded ... OK
* checking whether the package can be loaded with stated dependencies ... OK
* checking whether the package can be unloaded cleanly ... OK
* checking whether the namespace can be loaded with stated dependencies ... OK
* checking whether the namespace can be unloaded cleanly ... OK
* checking dependencies in R code ... OK
* checking S3 generic/method consistency ... OK
* checking replacement functions ... OK
* checking foreign function calls ... OK
* checking R code for possible problems ... OK
* checking Rd files ... OK
* checking Rd metadata ... OK
* checking Rd cross-references ... NOTE
Found the following Rd file(s) with Rd \link{} targets missing package
anchors:
  filter.nmr_dataset_family.Rd: dplyr
Please provide package anchors for all Rd \link{} targets not in the
package itself and the base packages.
* checking for missing documentation entries ... OK
* checking for code/documentation mismatches ... OK
* checking Rd \usage sections ... OK
* checking Rd contents ... OK
* checking for unstated dependencies in examples ... OK
* checking contents of ‘data’ directory ... OK
* checking data for non-ASCII characters ... OK
* checking data for ASCII and uncompressed saves ... OK
* checking sizes of PDF files under ‘inst/doc’ ... OK
* checking files in ‘vignettes’ ... OK
* checking examples ... OK
* checking for unstated dependencies in ‘tests’ ... OK
* checking tests ...
  Running ‘testthat.R’
 OK
* checking for unstated dependencies in vignettes ... OK
* checking package vignettes ... OK
* checking running R code from vignettes ... SKIPPED
* checking re-building of vignette outputs ... SKIPPED
* checking PDF version of manual ... OK
* DONE

Status: 1 NOTE
See
  ‘/Users/biocbuild/bbs-3.21-bioc/meat/AlpsNMR.Rcheck/00check.log’
for details.


Installation output

AlpsNMR.Rcheck/00install.out

##############################################################################
##############################################################################
###
### Running command:
###
###   /Library/Frameworks/R.framework/Resources/bin/R CMD INSTALL AlpsNMR
###
##############################################################################
##############################################################################


* installing to library ‘/Library/Frameworks/R.framework/Versions/4.5-arm64/Resources/library’
* installing *source* package ‘AlpsNMR’ ...
** this is package ‘AlpsNMR’ version ‘4.9.0’
** using staged installation
** R
** data
** inst
** byte-compile and prepare package for lazy loading
** help
*** installing help indices
*** copying figures
** building package indices
** installing vignettes
** testing if installed package can be loaded from temporary location
** testing if installed package can be loaded from final location
** testing if installed package keeps a record of temporary installation path
* DONE (AlpsNMR)

Tests output

AlpsNMR.Rcheck/tests/testthat.Rout


R Under development (unstable) (2025-01-20 r87609) -- "Unsuffered Consequences"
Copyright (C) 2025 The R Foundation for Statistical Computing
Platform: aarch64-apple-darwin20

R is free software and comes with ABSOLUTELY NO WARRANTY.
You are welcome to redistribute it under certain conditions.
Type 'license()' or 'licence()' for distribution details.

R is a collaborative project with many contributors.
Type 'contributors()' for more information and
'citation()' on how to cite R or R packages in publications.

Type 'demo()' for some demos, 'help()' for on-line help, or
'help.start()' for an HTML browser interface to help.
Type 'q()' to quit R.

> library(testthat)
> library(AlpsNMR)

Attaching package: 'AlpsNMR'

The following object is masked from 'package:stats':

    filter

> 
> test_check("AlpsNMR")
[ FAIL 0 | WARN 0 | SKIP 1 | PASS 93 ]

══ Skipped tests (1) ═══════════════════════════════════════════════════════════
• On Bioconductor (1): 'test_rDolphin.R:2:5'

[ FAIL 0 | WARN 0 | SKIP 1 | PASS 93 ]
> 
> proc.time()
   user  system elapsed 
  9.788   4.169   9.461 

Example timings

AlpsNMR.Rcheck/AlpsNMR-Ex.timings

nameusersystemelapsed
AlpsNMR-package0.7050.2100.685
HMDB_blood0.0020.0010.004
HMDB_cell0.0000.0000.001
HMDB_urine0.0020.0010.002
Parameters_blood0.0000.0010.001
Parameters_cell0.0010.0010.001
Parameters_urine0.0000.0000.001
Peak_detection2.7530.8992.618
Pipelines0.0010.0000.000
ROI_blood0.0010.0010.001
ROI_cell0.0010.0010.001
ROI_urine0.0010.0000.002
SummarizedExperiment_to_nmr_data_1r2.4850.2822.532
SummarizedExperiment_to_nmr_dataset_peak_table0.4110.3000.406
bp_VIP_analysis0.4920.4130.418
bp_kfold_VIP_analysis0.2180.2780.266
download_MTBLS242000
file_lister0.0220.0170.039
files_to_rDolphin0.0000.0000.001
filter.nmr_dataset_family0.3300.2460.314
format.nmr_dataset1.4230.9571.069
format.nmr_dataset_1D0.2490.2080.250
format.nmr_dataset_peak_table0.2780.2460.265
get_integration_with_metadata0.0090.0040.016
hmdb0.0180.0050.023
is.nmr_dataset0.2470.3030.243
is.nmr_dataset_1D0.2580.2150.244
is.nmr_dataset_peak_table0.2790.1960.271
load_and_save_functions0.2390.1890.205
models_stability_plot_bootstrap0.0000.0010.001
models_stability_plot_plsda0.1360.1940.176
new_nmr_dataset0.0000.0000.001
new_nmr_dataset_1D0.0010.0010.001
new_nmr_dataset_peak_table0.2960.2530.298
nmr_autophase0.0760.0560.148
nmr_baseline_estimation0.0030.0030.006
nmr_baseline_removal0.0020.0000.003
nmr_baseline_threshold0.0000.0000.001
nmr_baseline_threshold_plot0.0660.0220.087
nmr_batman0.0020.0000.001
nmr_batman_options000
nmr_build_peak_table0.0110.0020.013
nmr_data0.0140.0030.017
nmr_data_1r_to_SummarizedExperiment0.3660.2980.388
nmr_data_analysis0.1380.2130.191
nmr_dataset0.0000.0010.000
nmr_dataset_1D0.0000.0000.001
nmr_dataset_peak_table_to_SummarizedExperiment0.3900.3440.419
nmr_exclude_region0.0090.0040.012
nmr_export_data_1r0.2400.2010.229
nmr_get_peak_distances0.0030.0020.005
nmr_identify_regions_blood0.0090.0080.017
nmr_identify_regions_cell0.0030.0010.004
nmr_identify_regions_urine0.0040.0020.007
nmr_integrate_regions0.0030.0010.004
nmr_interpolate_1D0.5080.4020.476
nmr_meta_add0.6080.4800.592
nmr_meta_export0.2460.2760.244
nmr_meta_get0.2310.2390.225
nmr_meta_get_column0.2310.2090.219
nmr_meta_groups0.2620.2460.255
nmr_normalize0.0730.0290.102
nmr_pca_build_model1.8341.1731.552
nmr_pca_outliers0.2760.1930.260
nmr_pca_outliers_filter0.2880.2180.294
nmr_pca_outliers_plot000
nmr_pca_outliers_robust1.6350.2551.678
nmr_pca_plots0.1010.0050.106
nmr_peak_clustering0.0290.0020.030
nmr_ppm_resolution0.0030.0010.004
nmr_read_bruker_fid0.0000.0000.001
nmr_read_samples0.4390.4030.380
nmr_zip_bruker_samples0.1100.0180.132
peaklist_accept_peaks0.0020.0010.003
permutation_test_model0.2320.2710.570
permutation_test_plot1.5101.0420.674
plot.nmr_dataset_1D0.0000.0010.001
plot_bootstrap_multimodel0.3000.1780.010
plot_interactive0.3060.3000.307
plot_plsda_multimodel0.0870.1700.139
plot_plsda_samples0.0400.0590.098
plot_vip_scores0.0000.0010.000
plot_webgl0.0010.0000.000
plsda_auroc_vip_compare0.1380.1560.286
plsda_auroc_vip_method000
ppm_resolution0.0010.0000.002
print.nmr_dataset0.2580.2560.234
print.nmr_dataset_1D0.2610.2210.255
print.nmr_dataset_peak_table0.4090.3880.437
random_subsampling0.0010.0020.002
save_files_to_rDolphin000
save_profiling_output000
sub-.nmr_dataset0.2140.2250.207
sub-.nmr_dataset_1D0.2610.3190.307
sub-.nmr_dataset_peak_table0.2970.3190.351
tidy.nmr_dataset_1D0.2940.2770.300
to_ASICS0.3770.0670.446
to_ChemoSpec0.2990.2640.311
validate_nmr_dataset0.5840.7570.611
validate_nmr_dataset_family0.3110.3520.320
validate_nmr_dataset_peak_table000
zzz0.000.002.01