Back to Build/check report for BioC 3.20 experimental data
ABCDEFGHIJKLMNOPQR[S]TUVWXYZ

This page was generated on 2025-02-13 15:42 -0500 (Thu, 13 Feb 2025).

HostnameOSArch (*)R versionInstalled pkgs
nebbiolo2Linux (Ubuntu 24.04.1 LTS)x86_644.4.2 (2024-10-31) -- "Pile of Leaves" 4767
Click on any hostname to see more info about the system (e.g. compilers)      (*) as reported by 'uname -p', except on Windows and Mac OS X

Package 356/431HostnameOS / ArchINSTALLBUILDCHECK
scRNAseq 2.20.0  (landing page)
Aaron Lun
Snapshot Date: 2025-02-13 07:30 -0500 (Thu, 13 Feb 2025)
git_url: https://git.bioconductor.org/packages/scRNAseq
git_branch: RELEASE_3_20
git_last_commit: 40e3e5b
git_last_commit_date: 2024-10-29 09:46:12 -0500 (Tue, 29 Oct 2024)
nebbiolo2Linux (Ubuntu 24.04.1 LTS) / x86_64  OK    OK    OK  UNNEEDED, same version is already published


CHECK results for scRNAseq on nebbiolo2

To the developers/maintainers of the scRNAseq package:
- Use the following Renviron settings to reproduce errors and warnings.
- If 'R CMD check' started to fail recently on the Linux builder(s) over a missing dependency, add the missing dependency to 'Suggests:' in your DESCRIPTION file. See Renviron.bioc for more information.

raw results


Summary

Package: scRNAseq
Version: 2.20.0
Command: /home/biocbuild/bbs-3.20-bioc/R/bin/R CMD check --install=check:scRNAseq.install-out.txt --library=/home/biocbuild/bbs-3.20-bioc/R/site-library --timings scRNAseq_2.20.0.tar.gz
StartedAt: 2025-02-13 12:37:23 -0500 (Thu, 13 Feb 2025)
EndedAt: 2025-02-13 12:51:45 -0500 (Thu, 13 Feb 2025)
EllapsedTime: 861.9 seconds
RetCode: 0
Status:   OK  
CheckDir: scRNAseq.Rcheck
Warnings: 0

Command output

##############################################################################
##############################################################################
###
### Running command:
###
###   /home/biocbuild/bbs-3.20-bioc/R/bin/R CMD check --install=check:scRNAseq.install-out.txt --library=/home/biocbuild/bbs-3.20-bioc/R/site-library --timings scRNAseq_2.20.0.tar.gz
###
##############################################################################
##############################################################################


* using log directory ‘/home/biocbuild/bbs-3.20-data-experiment/meat/scRNAseq.Rcheck’
* using R version 4.4.2 (2024-10-31)
* using platform: x86_64-pc-linux-gnu
* R was compiled by
    gcc (Ubuntu 13.2.0-23ubuntu4) 13.2.0
    GNU Fortran (Ubuntu 13.2.0-23ubuntu4) 13.2.0
* running under: Ubuntu 24.04.2 LTS
* using session charset: UTF-8
* checking for file ‘scRNAseq/DESCRIPTION’ ... OK
* this is package ‘scRNAseq’ version ‘2.20.0’
* package encoding: UTF-8
* checking package namespace information ... OK
* checking package dependencies ... OK
* checking if this is a source package ... OK
* checking if there is a namespace ... OK
* checking for hidden files and directories ... NOTE
Found the following hidden files and directories:
  .BBSoptions
These were most likely included in error. See section ‘Package
structure’ in the ‘Writing R Extensions’ manual.
* checking for portable file names ... OK
* checking for sufficient/correct file permissions ... OK
* checking whether package ‘scRNAseq’ can be installed ... OK
* checking installed package size ... OK
* checking package directory ... OK
* checking ‘build’ directory ... OK
* checking DESCRIPTION meta-information ... OK
* checking top-level files ... OK
* checking for left-over files ... OK
* checking index information ... OK
* checking package subdirectories ... OK
* checking code files for non-ASCII characters ... OK
* checking R files for syntax errors ... OK
* checking whether the package can be loaded ... OK
* checking whether the package can be loaded with stated dependencies ... OK
* checking whether the package can be unloaded cleanly ... OK
* checking whether the namespace can be loaded with stated dependencies ... OK
* checking whether the namespace can be unloaded cleanly ... OK
* checking loading without being on the library search path ... OK
* checking dependencies in R code ... OK
* checking S3 generic/method consistency ... OK
* checking replacement functions ... OK
* checking foreign function calls ... OK
* checking R code for possible problems ... OK
* checking Rd files ... OK
* checking Rd metadata ... OK
* checking Rd cross-references ... OK
* checking for missing documentation entries ... OK
* checking for code/documentation mismatches ... OK
* checking Rd \usage sections ... OK
* checking Rd contents ... OK
* checking for unstated dependencies in examples ... OK
* checking files in ‘vignettes’ ... OK
* checking examples ... OK
Examples with CPU (user + system) or elapsed time > 5s
                           user system elapsed
BhaduriOrganoidData      23.852  8.923  33.698
BacherTCellData          16.718  6.208  23.074
ZeiselNervousData        13.490  6.490  20.610
HeOrganAtlasData         11.583  6.441  18.231
JessaBrainData            9.822  4.485  14.959
ErnstSpermatogenesisData 10.086  3.988  14.958
StoeckiusHashingData      9.036  2.082  11.950
BachMammaryData           7.234  1.414   9.707
ZhaoImmuneLiverData       5.184  2.839   8.111
AztekinTailData           6.596  0.583   7.209
GiladiHSCData             4.694  2.313   7.087
LunSpikeInData            5.838  0.697   7.021
ZilionisLungData          4.176  1.529   5.809
NestorowaHSCData          4.364  0.735   5.407
* checking for unstated dependencies in ‘tests’ ... OK
* checking tests ...
  Running ‘testthat.R’
 OK
* checking for unstated dependencies in vignettes ... OK
* checking package vignettes ... OK
* checking re-building of vignette outputs ... OK
* checking PDF version of manual ... OK
* DONE

Status: 1 NOTE
See
  ‘/home/biocbuild/bbs-3.20-data-experiment/meat/scRNAseq.Rcheck/00check.log’
for details.


Installation output

scRNAseq.Rcheck/00install.out

##############################################################################
##############################################################################
###
### Running command:
###
###   /home/biocbuild/bbs-3.20-bioc/R/bin/R CMD INSTALL scRNAseq
###
##############################################################################
##############################################################################


* installing to library ‘/home/biocbuild/bbs-3.20-bioc/R/site-library’
* installing *source* package ‘scRNAseq’ ...
** using staged installation
** R
** inst
** byte-compile and prepare package for lazy loading
** help
*** installing help indices
** building package indices
** installing vignettes
** testing if installed package can be loaded from temporary location
** testing if installed package can be loaded from final location
** testing if installed package keeps a record of temporary installation path
* DONE (scRNAseq)

Tests output

scRNAseq.Rcheck/tests/testthat.Rout


R version 4.4.2 (2024-10-31) -- "Pile of Leaves"
Copyright (C) 2024 The R Foundation for Statistical Computing
Platform: x86_64-pc-linux-gnu

R is free software and comes with ABSOLUTELY NO WARRANTY.
You are welcome to redistribute it under certain conditions.
Type 'license()' or 'licence()' for distribution details.

R is a collaborative project with many contributors.
Type 'contributors()' for more information and
'citation()' on how to cite R or R packages in publications.

Type 'demo()' for some demos, 'help()' for on-line help, or
'help.start()' for an HTML browser interface to help.
Type 'q()' to quit R.

> library(testthat)
> library(scRNAseq)
Loading required package: SingleCellExperiment
Loading required package: SummarizedExperiment
Loading required package: MatrixGenerics
Loading required package: matrixStats

Attaching package: 'MatrixGenerics'

The following objects are masked from 'package:matrixStats':

    colAlls, colAnyNAs, colAnys, colAvgsPerRowSet, colCollapse,
    colCounts, colCummaxs, colCummins, colCumprods, colCumsums,
    colDiffs, colIQRDiffs, colIQRs, colLogSumExps, colMadDiffs,
    colMads, colMaxs, colMeans2, colMedians, colMins, colOrderStats,
    colProds, colQuantiles, colRanges, colRanks, colSdDiffs, colSds,
    colSums2, colTabulates, colVarDiffs, colVars, colWeightedMads,
    colWeightedMeans, colWeightedMedians, colWeightedSds,
    colWeightedVars, rowAlls, rowAnyNAs, rowAnys, rowAvgsPerColSet,
    rowCollapse, rowCounts, rowCummaxs, rowCummins, rowCumprods,
    rowCumsums, rowDiffs, rowIQRDiffs, rowIQRs, rowLogSumExps,
    rowMadDiffs, rowMads, rowMaxs, rowMeans2, rowMedians, rowMins,
    rowOrderStats, rowProds, rowQuantiles, rowRanges, rowRanks,
    rowSdDiffs, rowSds, rowSums2, rowTabulates, rowVarDiffs, rowVars,
    rowWeightedMads, rowWeightedMeans, rowWeightedMedians,
    rowWeightedSds, rowWeightedVars

Loading required package: GenomicRanges
Loading required package: stats4
Loading required package: BiocGenerics

Attaching package: 'BiocGenerics'

The following objects are masked from 'package:stats':

    IQR, mad, sd, var, xtabs

The following objects are masked from 'package:base':

    Filter, Find, Map, Position, Reduce, anyDuplicated, aperm, append,
    as.data.frame, basename, cbind, colnames, dirname, do.call,
    duplicated, eval, evalq, get, grep, grepl, intersect, is.unsorted,
    lapply, mapply, match, mget, order, paste, pmax, pmax.int, pmin,
    pmin.int, rank, rbind, rownames, sapply, saveRDS, setdiff, table,
    tapply, union, unique, unsplit, which.max, which.min

Loading required package: S4Vectors

Attaching package: 'S4Vectors'

The following object is masked from 'package:utils':

    findMatches

The following objects are masked from 'package:base':

    I, expand.grid, unname

Loading required package: IRanges
Loading required package: GenomeInfoDb
Loading required package: Biobase
Welcome to Bioconductor

    Vignettes contain introductory material; view with
    'browseVignettes()'. To cite Bioconductor, see
    'citation("Biobase")', and for packages 'citation("pkgname")'.


Attaching package: 'Biobase'

The following object is masked from 'package:MatrixGenerics':

    rowMedians

The following objects are masked from 'package:matrixStats':

    anyMissing, rowMedians

> test_check("scRNAseq")
[ FAIL 0 | WARN 35 | SKIP 1 | PASS 176 ]

══ Skipped tests (1) ═══════════════════════════════════════════════════════════
• is.null(gh_token) is TRUE (1): 'test-uploadDirectory.R:59:5'

[ FAIL 0 | WARN 35 | SKIP 1 | PASS 176 ]
Warning message:
call dbDisconnect() when finished working with a connection 
> 
> proc.time()
   user  system elapsed 
273.228  30.212 321.139 

Example timings

scRNAseq.Rcheck/scRNAseq-Ex.timings

nameusersystemelapsed
AztekinTailData6.5960.5837.209
BachMammaryData7.2341.4149.707
BacherTCellData16.718 6.20823.074
BaronPancreasData0.9750.1381.156
BhaduriOrganoidData23.852 8.92333.698
BuettnerESCData3.0100.3733.760
BunisHSPCData0.9740.4091.407
CampbellBrainData1.8371.0752.946
ChenBrainData0.9530.4781.450
DarmanisBrainData0.2340.0570.296
ERCCSpikeInConcentrations0.0180.0010.021
ErnstSpermatogenesisData10.086 3.98814.958
FletcherOlfactoryData0.8130.3011.123
GiladiHSCData4.6942.3137.087
GrunHSCData0.2160.0440.266
GrunPancreasData0.4930.0850.584
HeOrganAtlasData11.583 6.44118.231
HermannSpermatogenesisData0.8180.1741.005
HuCortexData0.4930.0830.586
JessaBrainData 9.822 4.48514.959
KolodziejczykESCData3.2350.7364.229
KotliarovPBMCData2.5010.7243.286
LaMannoBrainData2.8181.2594.104
LawlorPancreasData0.7790.0690.879
LedergorMyelomaData1.3370.2051.596
LengESCData0.5030.0650.608
LunSpikeInData5.8380.6977.021
MacoskoRetinaData1.6140.3992.055
MairPBMCData0.4480.1020.557
MarquesBrainData0.7720.1760.959
MessmerESCData3.9250.7764.978
MuraroPancreasData0.9220.7421.675
NestorowaHSCData4.3640.7355.407
NowakowskiCortexData1.5340.9752.520
PaulHSCData2.8400.5593.413
PollenGliaData0.2120.0730.288
ReprocessedData1.9710.3342.402
RichardTCellData3.1390.4793.864
RomanovBrainData0.5020.1120.622
SegerstolpePancreasData1.1600.3321.510
ShekharRetinaData2.1210.5632.755
StoeckiusHashingData 9.036 2.08211.950
TasicBrainData1.7960.4052.258
UsoskinBrainData0.7080.2861.002
WuKidneyData0.3830.2100.601
XinPancreasData1.2370.4301.678
ZeiselBrainData1.5430.6182.176
ZeiselNervousData13.49 6.4920.61
ZhaoImmuneLiverData5.1842.8398.111
ZhongPrefrontalData0.5960.1790.785
ZilionisLungData4.1761.5295.809
countErccMolecules0.0350.0010.035
fetchDataset0.4070.0150.422
listDatasets0.0100.0000.011
listVersions0.0700.0030.697
polishDataset0.1100.0060.115
saveDataset0.9770.0250.877
searchDatasets1.3320.0161.539
surveyDatasets0.9720.0090.980