Back to Multiple platform build/check report for BioC 3.19: simplified long |
|
This page was generated on 2024-05-08 11:41:31 -0400 (Wed, 08 May 2024).
Hostname | OS | Arch (*) | R version | Installed pkgs |
---|---|---|---|---|
nebbiolo1 | Linux (Ubuntu 22.04.3 LTS) | x86_64 | 4.4.0 (2024-04-24) -- "Puppy Cup" | 4707 |
palomino3 | Windows Server 2022 Datacenter | x64 | 4.4.0 (2024-04-24 ucrt) -- "Puppy Cup" | 4484 |
lconway | macOS 12.7.1 Monterey | x86_64 | 4.4.0 (2024-04-24) -- "Puppy Cup" | 4514 |
kunpeng2 | Linux (openEuler 22.03 LTS-SP1) | aarch64 | 4.4.0 beta (2024-04-15 r86425) -- "Puppy Cup" | 4480 |
Click on any hostname to see more info about the system (e.g. compilers) (*) as reported by 'uname -p', except on Windows and Mac OS X |
Package 2211/2300 | Hostname | OS / Arch | INSTALL | BUILD | CHECK | BUILD BIN | ||||||||
trio 3.42.0 (landing page) Holger Schwender
| nebbiolo1 | Linux (Ubuntu 22.04.3 LTS) / x86_64 | OK | OK | OK | |||||||||
palomino3 | Windows Server 2022 Datacenter / x64 | OK | ERROR | skipped | skipped | |||||||||
lconway | macOS 12.7.1 Monterey / x86_64 | OK | OK | OK | OK | |||||||||
kunpeng2 | Linux (openEuler 22.03 LTS-SP1) / aarch64 | OK | OK | OK | ||||||||||
kjohnson3 | macOS 13.6.5 Ventura / arm64 | see weekly results here | ||||||||||||
To the developers/maintainers of the trio package: - Allow up to 24 hours (and sometimes 48 hours) for your latest push to git@git.bioconductor.org:packages/trio.git to reflect on this report. See Troubleshooting Build Report for more information. - Use the following Renviron settings to reproduce errors and warnings. - If 'R CMD check' started to fail recently on the Linux builder(s) over a missing dependency, add the missing dependency to 'Suggests:' in your DESCRIPTION file. See Renviron.bioc for more information. - See Martin Grigorov's blog post for how to debug Linux ARM64 related issues on a x86_64 host. |
Package: trio |
Version: 3.42.0 |
Command: /home/biocbuild/R/R-beta-2024-04-15_r86425/bin/R CMD check --install=check:trio.install-out.txt --library=/home/biocbuild/R/R-beta-2024-04-15_r86425/site-library --no-vignettes --timings trio_3.42.0.tar.gz |
StartedAt: 2024-05-08 12:53:31 -0000 (Wed, 08 May 2024) |
EndedAt: 2024-05-08 12:56:29 -0000 (Wed, 08 May 2024) |
EllapsedTime: 178.3 seconds |
RetCode: 0 |
Status: OK |
CheckDir: trio.Rcheck |
Warnings: 0 |
############################################################################## ############################################################################## ### ### Running command: ### ### /home/biocbuild/R/R-beta-2024-04-15_r86425/bin/R CMD check --install=check:trio.install-out.txt --library=/home/biocbuild/R/R-beta-2024-04-15_r86425/site-library --no-vignettes --timings trio_3.42.0.tar.gz ### ############################################################################## ############################################################################## * using log directory ‘/home/biocbuild/bbs-3.19-bioc/meat/trio.Rcheck’ * using R version 4.4.0 beta (2024-04-15 r86425) * using platform: aarch64-unknown-linux-gnu * R was compiled by gcc (GCC) 10.3.1 GNU Fortran (GCC) 10.3.1 * running under: openEuler 22.03 (LTS-SP1) * using session charset: UTF-8 * using option ‘--no-vignettes’ * checking for file ‘trio/DESCRIPTION’ ... OK * checking extension type ... Package * this is package ‘trio’ version ‘3.42.0’ * checking package namespace information ... OK * checking package dependencies ... OK * checking if this is a source package ... OK * checking if there is a namespace ... OK * checking for hidden files and directories ... OK * checking for portable file names ... OK * checking for sufficient/correct file permissions ... OK * checking whether package ‘trio’ can be installed ... OK * checking installed package size ... OK * checking package directory ... OK * checking ‘build’ directory ... OK * checking DESCRIPTION meta-information ... OK * checking top-level files ... OK * checking for left-over files ... OK * checking index information ... OK * checking package subdirectories ... OK * checking code files for non-ASCII characters ... OK * checking R files for syntax errors ... OK * checking whether the package can be loaded ... OK * checking whether the package can be loaded with stated dependencies ... OK * checking whether the package can be unloaded cleanly ... OK * checking whether the namespace can be loaded with stated dependencies ... OK * checking whether the namespace can be unloaded cleanly ... OK * checking loading without being on the library search path ... OK * checking whether startup messages can be suppressed ... OK * checking dependencies in R code ... OK * checking S3 generic/method consistency ... OK * checking replacement functions ... OK * checking foreign function calls ... NOTE Foreign function call to a different package: .C("clogreg", ..., PACKAGE = "LogicReg") See chapter ‘System and foreign language interfaces’ in the ‘Writing R Extensions’ manual. * checking R code for possible problems ... OK * checking Rd files ... OK * checking Rd metadata ... OK * checking Rd cross-references ... OK * checking for missing documentation entries ... OK * checking for code/documentation mismatches ... OK * checking Rd \usage sections ... OK * checking Rd contents ... OK * checking for unstated dependencies in examples ... OK * checking contents of ‘data’ directory ... OK * checking data for non-ASCII characters ... OK * checking data for ASCII and uncompressed saves ... OK * checking installed files from ‘inst/doc’ ... OK * checking files in ‘vignettes’ ... OK * checking examples ... OK Examples with CPU (user + system) or elapsed time > 5s user system elapsed print.trioFS 6.332 0.104 6.449 trioFS 6.267 0.032 6.312 trio.permTest 6.014 0.087 6.114 colGxGPerms 5.668 0.028 5.707 plot.trioLR 5.166 0.243 5.441 * checking for unstated dependencies in vignettes ... OK * checking package vignettes ... OK * checking running R code from vignettes ... SKIPPED * checking re-building of vignette outputs ... SKIPPED * checking PDF version of manual ... OK * DONE Status: 1 NOTE See ‘/home/biocbuild/bbs-3.19-bioc/meat/trio.Rcheck/00check.log’ for details.
trio.Rcheck/00install.out
############################################################################## ############################################################################## ### ### Running command: ### ### /home/biocbuild/R/R-beta-2024-04-15_r86425/bin/R CMD INSTALL trio ### ############################################################################## ############################################################################## * installing to library ‘/home/biocbuild/R/R-beta-2024-04-15_r86425/site-library’ * installing *source* package ‘trio’ ... ** using staged installation ** R ** data ** inst ** byte-compile and prepare package for lazy loading ** help *** installing help indices ** building package indices ** installing vignettes ** testing if installed package can be loaded from temporary location ** testing if installed package can be loaded from final location ** testing if installed package keeps a record of temporary installation path * DONE (trio)
trio.Rcheck/trio-Ex.timings
name | user | system | elapsed | |
allelicTDT | 0.03 | 0.00 | 0.03 | |
colEMlrt | 0.114 | 0.004 | 0.119 | |
colGxE | 0.009 | 0.000 | 0.008 | |
colGxGPerms | 5.668 | 0.028 | 5.707 | |
colPOlrt | 0.017 | 0.000 | 0.017 | |
colTDTmaxTest | 0.072 | 0.000 | 0.072 | |
colTDTsam | 0.049 | 0.000 | 0.050 | |
findLDblocks | 0.023 | 0.004 | 0.028 | |
getLD | 0.019 | 0.000 | 0.019 | |
getMatPseudo | 0.008 | 0.000 | 0.007 | |
lrControl | 0.001 | 0.000 | 0.000 | |
ped2geno | 0 | 0 | 0 | |
plot.LDblocks | 0.071 | 0.000 | 0.072 | |
plot.getLD | 0.034 | 0.000 | 0.035 | |
plot.trioLR | 5.166 | 0.243 | 5.441 | |
poly4root | 0.001 | 0.000 | 0.001 | |
print.colGxE | 0.071 | 0.000 | 0.071 | |
print.trioFS | 6.332 | 0.104 | 6.449 | |
print.trioLR | 3.416 | 0.028 | 3.451 | |
probTDT | 0.042 | 0.000 | 0.042 | |
read.pedfile | 0 | 0 | 0 | |
removeSNPs | 0.004 | 0.003 | 0.006 | |
scoreTDT | 0.012 | 0.000 | 0.012 | |
tdt | 0.024 | 0.000 | 0.024 | |
tdtGxG | 1.612 | 0.004 | 1.619 | |
trio.check | 1.034 | 0.000 | 1.037 | |
trio.data | 0.005 | 0.000 | 0.005 | |
trio.permTest | 6.014 | 0.087 | 6.114 | |
trio.power | 0.015 | 0.000 | 0.016 | |
trio.prepare | 3.368 | 0.009 | 3.383 | |
trio.sim | 0.460 | 0.006 | 0.467 | |
trioFS | 6.267 | 0.032 | 6.312 | |
trioLR | 3.487 | 0.004 | 3.498 | |