Back to Multiple platform build/check report for BioC 3.19:   simplified   long
ABCDEFGHIJKLMNOPQR[S]TUVWXYZ

This page was generated on 2024-08-27 17:43 -0400 (Tue, 27 Aug 2024).

HostnameOSArch (*)R versionInstalled pkgs
nebbiolo1Linux (Ubuntu 22.04.3 LTS)x86_644.4.1 (2024-06-14) -- "Race for Your Life" 4757
palomino7Windows Server 2022 Datacenterx644.4.1 (2024-06-14 ucrt) -- "Race for Your Life" 4494
merida1macOS 12.7.5 Montereyx86_644.4.1 (2024-06-14) -- "Race for Your Life" 4523
kjohnson1macOS 13.6.6 Venturaarm644.4.1 (2024-06-14) -- "Race for Your Life" 4472
Click on any hostname to see more info about the system (e.g. compilers)      (*) as reported by 'uname -p', except on Windows and Mac OS X

Package 2047/2300HostnameOS / ArchINSTALLBUILDCHECKBUILD BIN
spicyR 1.16.3  (landing page)
Ellis Patrick
Snapshot Date: 2024-08-25 14:00 -0400 (Sun, 25 Aug 2024)
git_url: https://git.bioconductor.org/packages/spicyR
git_branch: RELEASE_3_19
git_last_commit: cde294f
git_last_commit_date: 2024-08-07 00:36:15 -0400 (Wed, 07 Aug 2024)
nebbiolo1Linux (Ubuntu 22.04.3 LTS) / x86_64  OK    OK    OK  UNNEEDED, same version is already published
palomino7Windows Server 2022 Datacenter / x64  OK    OK    OK    OK  UNNEEDED, same version is already published
merida1macOS 12.7.5 Monterey / x86_64  OK    OK    OK    OK  UNNEEDED, same version is already published
kjohnson1macOS 13.6.6 Ventura / arm64  OK    OK    OK    NA  


CHECK results for spicyR on merida1

To the developers/maintainers of the spicyR package:
- Allow up to 24 hours (and sometimes 48 hours) for your latest push to git@git.bioconductor.org:packages/spicyR.git to reflect on this report. See Troubleshooting Build Report for more information.
- Use the following Renviron settings to reproduce errors and warnings.
- If 'R CMD check' started to fail recently on the Linux builder(s) over a missing dependency, add the missing dependency to 'Suggests:' in your DESCRIPTION file. See Renviron.bioc for more information.

raw results


Summary

Package: spicyR
Version: 1.16.3
Command: /Library/Frameworks/R.framework/Resources/bin/R CMD check --install=check:spicyR.install-out.txt --library=/Library/Frameworks/R.framework/Resources/library --no-vignettes --timings spicyR_1.16.3.tar.gz
StartedAt: 2024-08-26 12:40:48 -0400 (Mon, 26 Aug 2024)
EndedAt: 2024-08-26 12:51:39 -0400 (Mon, 26 Aug 2024)
EllapsedTime: 651.4 seconds
RetCode: 0
Status:   OK  
CheckDir: spicyR.Rcheck
Warnings: 0

Command output

##############################################################################
##############################################################################
###
### Running command:
###
###   /Library/Frameworks/R.framework/Resources/bin/R CMD check --install=check:spicyR.install-out.txt --library=/Library/Frameworks/R.framework/Resources/library --no-vignettes --timings spicyR_1.16.3.tar.gz
###
##############################################################################
##############################################################################


* using log directory ‘/Users/biocbuild/bbs-3.19-bioc/meat/spicyR.Rcheck’
* using R version 4.4.1 (2024-06-14)
* using platform: x86_64-apple-darwin20
* R was compiled by
    Apple clang version 14.0.0 (clang-1400.0.29.202)
    GNU Fortran (GCC) 12.2.0
* running under: macOS Monterey 12.7.5
* using session charset: UTF-8
* using option ‘--no-vignettes’
* checking for file ‘spicyR/DESCRIPTION’ ... OK
* checking extension type ... Package
* this is package ‘spicyR’ version ‘1.16.3’
* package encoding: UTF-8
* checking package namespace information ... OK
* checking package dependencies ... OK
* checking if this is a source package ... OK
* checking if there is a namespace ... OK
* checking for hidden files and directories ... OK
* checking for portable file names ... OK
* checking for sufficient/correct file permissions ... OK
* checking whether package ‘spicyR’ can be installed ... OK
* checking installed package size ... OK
* checking package directory ... OK
* checking ‘build’ directory ... OK
* checking DESCRIPTION meta-information ... OK
* checking top-level files ... OK
* checking for left-over files ... OK
* checking index information ... OK
* checking package subdirectories ... OK
* checking code files for non-ASCII characters ... OK
* checking R files for syntax errors ... OK
* checking whether the package can be loaded ... OK
* checking whether the package can be loaded with stated dependencies ... OK
* checking whether the package can be unloaded cleanly ... OK
* checking whether the namespace can be loaded with stated dependencies ... OK
* checking whether the namespace can be unloaded cleanly ... OK
* checking dependencies in R code ... OK
* checking S3 generic/method consistency ... OK
* checking replacement functions ... OK
* checking foreign function calls ... OK
* checking R code for possible problems ... NOTE
.format_data: no visible binding for global variable ‘imageID’
bubblePlot: no visible binding for global variable ‘condition’
convPairs: no visible binding for global variable ‘rowname’
convPairs: no visible binding for global variable ‘cellType_from’
convPairs: no visible binding for global variable ‘cellType_to’
convPairs: no visible binding for global variable ‘one’
convPairs: no visible binding for global variable ‘n_close’
convPairs: no visible binding for global variable ‘n’
convPairs: no visible binding for global variable ‘test’
convPairs: no visible binding for global variable ‘association’
getCellSummary: no visible binding for global variable ‘cellID’
getCellSummary: no visible binding for global variable ‘imageCellID’
getCellSummary: no visible binding for global variable ‘x’
getCellSummary: no visible binding for global variable ‘y’
getCellSummary: no visible binding for global variable ‘cellType’
getCellSummary: no visible binding for global variable ‘.’
getCellType: no visible binding for global variable ‘cellType’
inhomL: no visible binding for global variable ‘j’
inhomL: no visible binding for global variable ‘value’
inhomL: no visible binding for global variable ‘i’
inhomL: no visible binding for global variable ‘d’
inhomL: no visible binding for global variable ‘cellTypeI’
inhomL: no visible binding for global variable ‘cellTypeJ’
inhomL: no visible global function definition for ‘.’
inhomL: no visible binding for global variable ‘wt’
spicyBoxPlot: no visible binding for global variable ‘condition’
spicyBoxPlot: no visible binding for global variable ‘imageID’
Undefined global functions or variables:
  . association cellID cellType cellTypeI cellTypeJ cellType_from
  cellType_to condition d i imageCellID imageID j n n_close one rowname
  test value wt x y
* checking Rd files ... OK
* checking Rd metadata ... OK
* checking Rd cross-references ... OK
* checking for missing documentation entries ... OK
* checking for code/documentation mismatches ... OK
* checking Rd \usage sections ... OK
* checking Rd contents ... OK
* checking for unstated dependencies in examples ... OK
* checking contents of ‘data’ directory ... OK
* checking data for non-ASCII characters ... OK
* checking LazyData ... OK
* checking data for ASCII and uncompressed saves ... OK
* checking files in ‘vignettes’ ... OK
* checking examples ... OK
Examples with CPU (user + system) or elapsed time > 5s
              user system elapsed
convPairs   27.967  1.508  35.213
spicy       27.739  0.380  32.443
getPairwise 11.230  0.495  13.579
signifPlot   3.276  0.168   5.311
* checking for unstated dependencies in ‘tests’ ... OK
* checking tests ...
  Running ‘testthat.R’
 OK
* checking for unstated dependencies in vignettes ... OK
* checking package vignettes ... OK
* checking running R code from vignettes ... SKIPPED
* checking re-building of vignette outputs ... SKIPPED
* checking PDF version of manual ... OK
* DONE

Status: 1 NOTE
See
  ‘/Users/biocbuild/bbs-3.19-bioc/meat/spicyR.Rcheck/00check.log’
for details.


Installation output

spicyR.Rcheck/00install.out

##############################################################################
##############################################################################
###
### Running command:
###
###   /Library/Frameworks/R.framework/Resources/bin/R CMD INSTALL spicyR
###
##############################################################################
##############################################################################


* installing to library ‘/Library/Frameworks/R.framework/Versions/4.4-x86_64/Resources/library’
* installing *source* package ‘spicyR’ ...
** using staged installation
** R
** data
*** moving datasets to lazyload DB
** inst
** byte-compile and prepare package for lazy loading
** help
*** installing help indices
** building package indices
** installing vignettes
** testing if installed package can be loaded from temporary location
** testing if installed package can be loaded from final location
** testing if installed package keeps a record of temporary installation path
* DONE (spicyR)

Tests output

spicyR.Rcheck/tests/testthat.Rout


R version 4.4.1 (2024-06-14) -- "Race for Your Life"
Copyright (C) 2024 The R Foundation for Statistical Computing
Platform: x86_64-apple-darwin20

R is free software and comes with ABSOLUTELY NO WARRANTY.
You are welcome to redistribute it under certain conditions.
Type 'license()' or 'licence()' for distribution details.

R is a collaborative project with many contributors.
Type 'contributors()' for more information and
'citation()' on how to cite R or R packages in publications.

Type 'demo()' for some demos, 'help()' for on-line help, or
'help.start()' for an HTML browser interface to help.
Type 'q()' to quit R.

> # This file is part of the standard setup for testthat.
> # It is recommended that you do not modify it.
> #
> # Where should you do additional test configuration?
> # Learn more about the roles of various files in:
> # * https://r-pkgs.org/testing-design.html#sec-tests-files-overview
> # * https://testthat.r-lib.org/articles/special-files.html
> 
> library(testthat)
> library(spicyR)
> 
> test_check("spicyR")
[ FAIL 0 | WARN 0 | SKIP 0 | PASS 6 ]
> 
> proc.time()
   user  system elapsed 
 65.832   2.135  76.536 

Example timings

spicyR.Rcheck/spicyR-Ex.timings

nameusersystemelapsed
bind0.0300.0050.039
colTest1.7110.0832.083
convPairs27.967 1.50835.213
getPairwise11.230 0.49513.579
getProp0.6130.0300.751
signifPlot3.2760.1685.311
spicy27.739 0.38032.443
spicyBoxPlot0.7900.0070.918
topPairs0.0230.0040.033