Back to Multiple platform build/check report for BioC 3.19: simplified long |
|
This page was generated on 2024-05-09 11:41:29 -0400 (Thu, 09 May 2024).
Hostname | OS | Arch (*) | R version | Installed pkgs |
---|---|---|---|---|
nebbiolo1 | Linux (Ubuntu 22.04.3 LTS) | x86_64 | 4.4.0 (2024-04-24) -- "Puppy Cup" | 4748 |
palomino3 | Windows Server 2022 Datacenter | x64 | 4.4.0 (2024-04-24 ucrt) -- "Puppy Cup" | 4484 |
lconway | macOS 12.7.1 Monterey | x86_64 | 4.4.0 (2024-04-24) -- "Puppy Cup" | 4514 |
kunpeng2 | Linux (openEuler 22.03 LTS-SP1) | aarch64 | 4.4.0 beta (2024-04-15 r86425) -- "Puppy Cup" | 4480 |
Click on any hostname to see more info about the system (e.g. compilers) (*) as reported by 'uname -p', except on Windows and Mac OS X |
Package 2017/2300 | Hostname | OS / Arch | INSTALL | BUILD | CHECK | BUILD BIN | ||||||||
snpStats 1.54.0 (landing page) David Clayton
| nebbiolo1 | Linux (Ubuntu 22.04.3 LTS) / x86_64 | OK | OK | WARNINGS | ![]() | ||||||||
palomino3 | Windows Server 2022 Datacenter / x64 | OK | ERROR | skipped | skipped | |||||||||
lconway | macOS 12.7.1 Monterey / x86_64 | OK | OK | WARNINGS | OK | ![]() | ||||||||
kunpeng2 | Linux (openEuler 22.03 LTS-SP1) / aarch64 | OK | OK | WARNINGS | ||||||||||
kjohnson3 | macOS 13.6.5 Ventura / arm64 | see weekly results here | ||||||||||||
To the developers/maintainers of the snpStats package: - Allow up to 24 hours (and sometimes 48 hours) for your latest push to git@git.bioconductor.org:packages/snpStats.git to reflect on this report. See Troubleshooting Build Report for more information. - Use the following Renviron settings to reproduce errors and warnings. - If 'R CMD check' started to fail recently on the Linux builder(s) over a missing dependency, add the missing dependency to 'Suggests:' in your DESCRIPTION file. See Renviron.bioc for more information. - See Martin Grigorov's blog post for how to debug Linux ARM64 related issues on a x86_64 host. |
Package: snpStats |
Version: 1.54.0 |
Command: /home/biocbuild/R/R-beta-2024-04-15_r86425/bin/R CMD INSTALL snpStats |
StartedAt: 2024-05-08 20:53:11 -0000 (Wed, 08 May 2024) |
EndedAt: 2024-05-08 20:53:35 -0000 (Wed, 08 May 2024) |
EllapsedTime: 24.3 seconds |
RetCode: 0 |
Status: OK |
############################################################################## ############################################################################## ### ### Running command: ### ### /home/biocbuild/R/R-beta-2024-04-15_r86425/bin/R CMD INSTALL snpStats ### ############################################################################## ############################################################################## * installing to library ‘/home/biocbuild/R/R-beta-2024-04-15_r86425/site-library’ * installing *source* package ‘snpStats’ ... ** using staged installation ** libs using C compiler: ‘gcc (GCC) 10.3.1’ gcc -I"/home/biocbuild/R/R-beta-2024-04-15_r86425/include" -DNDEBUG -I/usr/local/include -fPIC -g -O2 -Wall -c Runcertain.c -o Runcertain.o gcc -I"/home/biocbuild/R/R-beta-2024-04-15_r86425/include" -DNDEBUG -I/usr/local/include -fPIC -g -O2 -Wall -c bind.c -o bind.o bind.c: In function ‘snp_cbind’: bind.c:243:49: warning: format ‘%d’ expects argument of type ‘int’, but argument 2 has type ‘R_xlen_t’ {aka ‘long int’} [-Wformat=] 243 | error("Duplicated column name at column %d overall from column %d of object %d", ij+1, j+1, i+1); | ~^ ~~~~ | | | | int R_xlen_t {aka long int} | %ld gcc -I"/home/biocbuild/R/R-beta-2024-04-15_r86425/include" -DNDEBUG -I/usr/local/include -fPIC -g -O2 -Wall -c count_gt.c -o count_gt.o gcc -I"/home/biocbuild/R/R-beta-2024-04-15_r86425/include" -DNDEBUG -I/usr/local/include -fPIC -g -O2 -Wall -c covwin.c -o covwin.o gcc -I"/home/biocbuild/R/R-beta-2024-04-15_r86425/include" -DNDEBUG -I/usr/local/include -fPIC -g -O2 -Wall -c force_hom.c -o force_hom.o gcc -I"/home/biocbuild/R/R-beta-2024-04-15_r86425/include" -DNDEBUG -I/usr/local/include -fPIC -g -O2 -Wall -c fst.c -o fst.o gcc -I"/home/biocbuild/R/R-beta-2024-04-15_r86425/include" -DNDEBUG -I/usr/local/include -fPIC -g -O2 -Wall -c glm_test.c -o glm_test.o gcc -I"/home/biocbuild/R/R-beta-2024-04-15_r86425/include" -DNDEBUG -I/usr/local/include -fPIC -g -O2 -Wall -c glm_test_R.c -o glm_test_R.o glm_test_R.c: In function ‘snp_lhs_score’: glm_test_R.c:305:10: warning: too many arguments for format [-Wformat-extra-args] 305 | warning("Matrix not positive semi-definite in test ", t+1); | ^~~~~~~~~~~~~~~~~~~~~~~~~~~~~~~~~~~~~~~~~~~~ glm_test_R.c: In function ‘snp_rhs_score’: glm_test_R.c:805:10: warning: too many arguments for format [-Wformat-extra-args] 805 | warning("Matrix not positive semi-definite in test ", test+1); | ^~~~~~~~~~~~~~~~~~~~~~~~~~~~~~~~~~~~~~~~~~~~ glm_test_R.c:368:7: warning: unused variable ‘max_name_length’ [-Wunused-variable] 368 | int max_name_length = MAX_NAME_LENGTH -1; | ^~~~~~~~~~~~~~~ glm_test_R.c: In function ‘pool2_glm’: glm_test_R.c:937:10: warning: too many arguments for format [-Wformat-extra-args] 937 | warning("Matrix not positive semi-definite in pooled test ", i+1); | ^~~~~~~~~~~~~~~~~~~~~~~~~~~~~~~~~~~~~~~~~~~~~~~~~~~ gcc -I"/home/biocbuild/R/R-beta-2024-04-15_r86425/include" -DNDEBUG -I/usr/local/include -fPIC -g -O2 -Wall -c hash_index.c -o hash_index.o gcc -I"/home/biocbuild/R/R-beta-2024-04-15_r86425/include" -DNDEBUG -I/usr/local/include -fPIC -g -O2 -Wall -c hphase.c -o hphase.o gcc -I"/home/biocbuild/R/R-beta-2024-04-15_r86425/include" -DNDEBUG -I/usr/local/include -fPIC -g -O2 -Wall -c imputation.c -o imputation.o gcc -I"/home/biocbuild/R/R-beta-2024-04-15_r86425/include" -DNDEBUG -I/usr/local/include -fPIC -g -O2 -Wall -c in.c -o in.o gcc -I"/home/biocbuild/R/R-beta-2024-04-15_r86425/include" -DNDEBUG -I/usr/local/include -fPIC -g -O2 -Wall -c input.c -o input.o input.c: In function ‘simplify_names’: input.c:788:5: warning: ‘strncpy’ output may be truncated copying 127 bytes from a string of length 127 [-Wstringop-truncation] 788 | strncpy(back, front, MAX_FLD-1); | ^~~~~~~~~~~~~~~~~~~~~~~~~~~~~~~ input.c: In function ‘insnp_new’: input.c:442:4: warning: ‘strncpy’ output may be truncated copying 127 bytes from a string of length 127 [-Wstringop-truncation] 442 | strncpy(gtype2, field, MAX_FLD-1); | ^~~~~~~~~~~~~~~~~~~~~~~~~~~~~~~~~ input.c:438:4: warning: ‘strncpy’ output may be truncated copying 127 bytes from a string of length 127 [-Wstringop-truncation] 438 | strncpy(gtype1, field, MAX_FLD-1); | ^~~~~~~~~~~~~~~~~~~~~~~~~~~~~~~~~ input.c:435:4: warning: ‘strncpy’ output may be truncated copying 127 bytes from a string of length 127 [-Wstringop-truncation] 435 | strncpy(cscore, field, MAX_FLD-1); | ^~~~~~~~~~~~~~~~~~~~~~~~~~~~~~~~~ input.c:432:4: warning: ‘strncpy’ output may be truncated copying 127 bytes from a string of length 127 [-Wstringop-truncation] 432 | strncpy(snpid, field, MAX_FLD-1); | ^~~~~~~~~~~~~~~~~~~~~~~~~~~~~~~~ input.c:429:4: warning: ‘strncpy’ output may be truncated copying 127 bytes from a string of length 127 [-Wstringop-truncation] 429 | strncpy(sampid, field, MAX_FLD-1); | ^~~~~~~~~~~~~~~~~~~~~~~~~~~~~~~~~ gcc -I"/home/biocbuild/R/R-beta-2024-04-15_r86425/include" -DNDEBUG -I/usr/local/include -fPIC -g -O2 -Wall -c invert.c -o invert.o gcc -I"/home/biocbuild/R/R-beta-2024-04-15_r86425/include" -DNDEBUG -I/usr/local/include -fPIC -g -O2 -Wall -c ipf.c -o ipf.o gcc -I"/home/biocbuild/R/R-beta-2024-04-15_r86425/include" -DNDEBUG -I/usr/local/include -fPIC -g -O2 -Wall -c ld.c -o ld.o gcc -I"/home/biocbuild/R/R-beta-2024-04-15_r86425/include" -DNDEBUG -I/usr/local/include -fPIC -g -O2 -Wall -c misc.c -o misc.o gcc -I"/home/biocbuild/R/R-beta-2024-04-15_r86425/include" -DNDEBUG -I/usr/local/include -fPIC -g -O2 -Wall -c mla.c -o mla.o gcc -I"/home/biocbuild/R/R-beta-2024-04-15_r86425/include" -DNDEBUG -I/usr/local/include -fPIC -g -O2 -Wall -c mvphenotype.c -o mvphenotype.o gcc -I"/home/biocbuild/R/R-beta-2024-04-15_r86425/include" -DNDEBUG -I/usr/local/include -fPIC -g -O2 -Wall -c outdata.c -o outdata.o gcc -I"/home/biocbuild/R/R-beta-2024-04-15_r86425/include" -DNDEBUG -I/usr/local/include -fPIC -g -O2 -Wall -c plink.c -o plink.o gcc -I"/home/biocbuild/R/R-beta-2024-04-15_r86425/include" -DNDEBUG -I/usr/local/include -fPIC -g -O2 -Wall -c read_uncertain.c -o read_uncertain.o read_uncertain.c: In function ‘read_mach’: read_uncertain.c:103:36: warning: format ‘%d’ expects argument of type ‘int’, but argument 2 has type ‘long int’ [-Wformat=] 103 | Rprintf("Reading SnpMatrix with %d rows and %d columns\n", lines, ncol); | ~^ ~~~~~ | | | | int long int | %ld gcc -I"/home/biocbuild/R/R-beta-2024-04-15_r86425/include" -DNDEBUG -I/usr/local/include -fPIC -g -O2 -Wall -c readped.c -o readped.o readped.c: In function ‘readped’: readped.c:234:33: warning: ‘%d’ directive output may be truncated writing between 1 and 11 bytes into a region of size between 0 and 127 [-Wformat-truncation=] 234 | snprintf(fmid, MAX_ID, "%s%c%d", fid, sepchar, memi); | ^~ readped.c:234:5: note: ‘snprintf’ output between 3 and 140 bytes into a destination of size 128 234 | snprintf(fmid, MAX_ID, "%s%c%d", fid, sepchar, memi); | ^~~~~~~~~~~~~~~~~~~~~~~~~~~~~~~~~~~~~~~~~~~~~~~~~~~~ gcc -I"/home/biocbuild/R/R-beta-2024-04-15_r86425/include" -DNDEBUG -I/usr/local/include -fPIC -g -O2 -Wall -c single_snp_tests.c -o single_snp_tests.o single_snp_tests.c: In function ‘score_single’: single_snp_tests.c:223:4: warning: ‘name_index’ may be used uninitialized in this function [-Wmaybe-uninitialized] 223 | do_impute(Snps, n, NULL, subset, nsubj, name_index, Rule, gt2ht, | ^~~~~~~~~~~~~~~~~~~~~~~~~~~~~~~~~~~~~~~~~~~~~~~~~~~~~~~~~~~~~~~~ 224 | xadd, xdom); | ~~~~~~~~~~~ gcc -I"/home/biocbuild/R/R-beta-2024-04-15_r86425/include" -DNDEBUG -I/usr/local/include -fPIC -g -O2 -Wall -c snp_summary.c -o snp_summary.o gcc -I"/home/biocbuild/R/R-beta-2024-04-15_r86425/include" -DNDEBUG -I/usr/local/include -fPIC -g -O2 -Wall -c snpmpy.c -o snpmpy.o gcc -I"/home/biocbuild/R/R-beta-2024-04-15_r86425/include" -DNDEBUG -I/usr/local/include -fPIC -g -O2 -Wall -c solve_cubic.c -o solve_cubic.o gcc -I"/home/biocbuild/R/R-beta-2024-04-15_r86425/include" -DNDEBUG -I/usr/local/include -fPIC -g -O2 -Wall -c structure.c -o structure.o gcc -I"/home/biocbuild/R/R-beta-2024-04-15_r86425/include" -DNDEBUG -I/usr/local/include -fPIC -g -O2 -Wall -c subset.c -o subset.o gcc -I"/home/biocbuild/R/R-beta-2024-04-15_r86425/include" -DNDEBUG -I/usr/local/include -fPIC -g -O2 -Wall -c switch.c -o switch.o switch.c: In function ‘test_switch’: switch.c:32:8: warning: variable ‘female2’ set but not used [-Wunused-but-set-variable] 32 | int *female2 = NULL; | ^~~~~~~ gcc -I"/home/biocbuild/R/R-beta-2024-04-15_r86425/include" -DNDEBUG -I/usr/local/include -fPIC -g -O2 -Wall -c tdt.c -o tdt.o gcc -I"/home/biocbuild/R/R-beta-2024-04-15_r86425/include" -DNDEBUG -I/usr/local/include -fPIC -g -O2 -Wall -c testBig.c -o testBig.o testBig.c: In function ‘snp_big’: testBig.c:31:27: warning: ‘%d’ directive writing between 1 and 10 bytes into a region of size 9 [-Wformat-overflow=] 31 | sprintf(name, "Subject%d", i+1); | ^~ testBig.c:31:19: note: directive argument in the range [1, 2147483647] 31 | sprintf(name, "Subject%d", i+1); | ^~~~~~~~~~~ testBig.c:31:5: note: ‘sprintf’ output between 9 and 18 bytes into a destination of size 16 31 | sprintf(name, "Subject%d", i+1); | ^~~~~~~~~~~~~~~~~~~~~~~~~~~~~~~ gcc -I"/home/biocbuild/R/R-beta-2024-04-15_r86425/include" -DNDEBUG -I/usr/local/include -fPIC -g -O2 -Wall -c uncertain.c -o uncertain.o gcc -shared -L/home/biocbuild/R/R-beta-2024-04-15_r86425/lib -L/usr/local/lib -o snpStats.so Runcertain.o bind.o count_gt.o covwin.o force_hom.o fst.o glm_test.o glm_test_R.o hash_index.o hphase.o imputation.o in.o input.o invert.o ipf.o ld.o misc.o mla.o mvphenotype.o outdata.o plink.o read_uncertain.o readped.o single_snp_tests.o snp_summary.o snpmpy.o solve_cubic.o structure.o subset.o switch.o tdt.o testBig.o uncertain.o -lz -L/home/biocbuild/R/R-beta-2024-04-15_r86425/lib -lR installing to /home/biocbuild/R/R-beta-2024-04-15_r86425/site-library/00LOCK-snpStats/00new/snpStats/libs ** R ** data ** inst ** byte-compile and prepare package for lazy loading ** help *** installing help indices ** building package indices ** installing vignettes ** testing if installed package can be loaded from temporary location ** checking absolute paths in shared objects and dynamic libraries ** testing if installed package can be loaded from final location ** testing if installed package keeps a record of temporary installation path * DONE (snpStats)