Back to Multiple platform build/check report for BioC 3.19: simplified long |
|
This page was generated on 2024-06-11 14:43 -0400 (Tue, 11 Jun 2024).
Hostname | OS | Arch (*) | R version | Installed pkgs |
---|---|---|---|---|
nebbiolo1 | Linux (Ubuntu 22.04.3 LTS) | x86_64 | 4.4.0 (2024-04-24) -- "Puppy Cup" | 4757 |
palomino3 | Windows Server 2022 Datacenter | x64 | 4.4.0 (2024-04-24 ucrt) -- "Puppy Cup" | 4491 |
lconway | macOS 12.7.1 Monterey | x86_64 | 4.4.0 (2024-04-24) -- "Puppy Cup" | 4522 |
kjohnson3 | macOS 13.6.5 Ventura | arm64 | 4.4.0 (2024-04-24) -- "Puppy Cup" | 4468 |
Click on any hostname to see more info about the system (e.g. compilers) (*) as reported by 'uname -p', except on Windows and Mac OS X |
Package 1952/2300 | Hostname | OS / Arch | INSTALL | BUILD | CHECK | BUILD BIN | ||||||||
sesame 1.22.1 (landing page) Wanding Zhou
| nebbiolo1 | Linux (Ubuntu 22.04.3 LTS) / x86_64 | OK | OK | OK | |||||||||
palomino3 | Windows Server 2022 Datacenter / x64 | OK | OK | OK | OK | |||||||||
lconway | macOS 12.7.1 Monterey / x86_64 | OK | OK | OK | OK | |||||||||
kjohnson3 | macOS 13.6.5 Ventura / arm64 | OK | OK | OK | OK | |||||||||
To the developers/maintainers of the sesame package: - Allow up to 24 hours (and sometimes 48 hours) for your latest push to git@git.bioconductor.org:packages/sesame.git to reflect on this report. See Troubleshooting Build Report for more information. - Use the following Renviron settings to reproduce errors and warnings. - If 'R CMD check' started to fail recently on the Linux builder(s) over a missing dependency, add the missing dependency to 'Suggests:' in your DESCRIPTION file. See Renviron.bioc for more information. |
Package: sesame |
Version: 1.22.1 |
Command: /Library/Frameworks/R.framework/Resources/bin/R CMD check --install=check:sesame.install-out.txt --library=/Library/Frameworks/R.framework/Resources/library --no-vignettes --timings sesame_1.22.1.tar.gz |
StartedAt: 2024-06-09 23:02:41 -0400 (Sun, 09 Jun 2024) |
EndedAt: 2024-06-09 23:20:54 -0400 (Sun, 09 Jun 2024) |
EllapsedTime: 1092.9 seconds |
RetCode: 0 |
Status: OK |
CheckDir: sesame.Rcheck |
Warnings: 0 |
############################################################################## ############################################################################## ### ### Running command: ### ### /Library/Frameworks/R.framework/Resources/bin/R CMD check --install=check:sesame.install-out.txt --library=/Library/Frameworks/R.framework/Resources/library --no-vignettes --timings sesame_1.22.1.tar.gz ### ############################################################################## ############################################################################## * using log directory ‘/Users/biocbuild/bbs-3.19-bioc/meat/sesame.Rcheck’ * using R version 4.4.0 (2024-04-24) * using platform: x86_64-apple-darwin20 * R was compiled by Apple clang version 14.0.0 (clang-1400.0.29.202) GNU Fortran (GCC) 12.2.0 * running under: macOS Monterey 12.7.1 * using session charset: UTF-8 * using option ‘--no-vignettes’ * checking for file ‘sesame/DESCRIPTION’ ... OK * checking extension type ... Package * this is package ‘sesame’ version ‘1.22.1’ * package encoding: UTF-8 * checking package namespace information ... OK * checking package dependencies ... OK * checking if this is a source package ... OK * checking if there is a namespace ... OK * checking for hidden files and directories ... OK * checking for portable file names ... OK * checking for sufficient/correct file permissions ... OK * checking whether package ‘sesame’ can be installed ... OK * checking installed package size ... OK * checking package directory ... OK * checking ‘build’ directory ... OK * checking DESCRIPTION meta-information ... OK * checking top-level files ... OK * checking for left-over files ... OK * checking index information ... OK * checking package subdirectories ... OK * checking code files for non-ASCII characters ... OK * checking R files for syntax errors ... OK * checking whether the package can be loaded ... OK * checking whether the package can be loaded with stated dependencies ... OK * checking whether the package can be unloaded cleanly ... OK * checking whether the namespace can be loaded with stated dependencies ... OK * checking whether the namespace can be unloaded cleanly ... OK * checking whether startup messages can be suppressed ... OK * checking dependencies in R code ... OK * checking S3 generic/method consistency ... OK * checking replacement functions ... OK * checking foreign function calls ... OK * checking R code for possible problems ... OK * checking Rd files ... OK * checking Rd metadata ... OK * checking Rd cross-references ... OK * checking for missing documentation entries ... OK * checking for code/documentation mismatches ... OK * checking Rd \usage sections ... OK * checking Rd contents ... OK * checking for unstated dependencies in examples ... OK * checking files in ‘vignettes’ ... OK * checking examples ... OK Examples with CPU (user + system) or elapsed time > 5s user system elapsed testEnrichmentGene 127.567 6.554 137.401 imputeBetasByGenomicNeighbors 37.748 1.472 39.510 sesameQC_calcStats 24.963 2.197 27.326 inferSex 25.428 1.467 27.134 KYCG_plotMeta 24.244 0.904 25.346 sesameQC_plotHeatSNPs 21.617 2.094 23.907 imputeBetas 20.206 1.535 21.977 KYCG_plotEnrichAll 20.515 1.151 22.110 ELBAR 16.441 3.008 19.653 inferSpecies 15.369 0.787 16.599 KYCG_annoProbes 14.592 0.871 15.668 sesameQC_plotBar 14.351 0.363 14.941 diffRefSet 13.938 0.593 14.661 sesameQC_plotBetaByDesign 12.248 2.019 14.396 KYCG_plotMetaEnrichment 13.155 0.577 14.160 matchDesign 12.850 0.664 13.628 testEnrichmentSEA 12.485 0.897 13.600 getRefSet 12.531 0.592 13.298 compareMouseStrainReference 11.963 0.480 12.577 visualizeGene 11.545 0.628 12.426 sdf_read_table 10.562 1.360 12.194 compareReference 11.328 0.482 11.940 inferStrain 10.876 0.577 11.839 KYCG_buildGeneDBs 10.945 0.456 11.536 inferTissue 8.290 2.132 10.617 DML 9.162 1.191 10.669 DMR 8.949 0.266 9.340 estimateLeukocyte 8.562 0.597 9.433 getMask 7.453 0.668 8.373 openSesame 6.868 1.057 8.139 dbStats 7.228 0.642 7.989 testEnrichment 6.746 1.038 8.118 probeSuccessRate 6.579 0.503 7.407 createUCSCtrack 6.477 0.346 6.938 dyeBiasCorrMostBalanced 6.316 0.232 6.907 KYCG_plotSetEnrichment 5.814 0.490 6.575 deidentify 5.965 0.336 6.775 dyeBiasNL 5.516 0.532 6.113 reIdentify 5.487 0.272 5.950 prepSesame 4.862 0.537 5.486 bisConversionControl 5.090 0.260 5.461 * checking for unstated dependencies in ‘tests’ ... OK * checking tests ... Running ‘testthat.R’ OK * checking for unstated dependencies in vignettes ... OK * checking package vignettes ... OK * checking running R code from vignettes ... SKIPPED * checking re-building of vignette outputs ... SKIPPED * checking PDF version of manual ... OK * DONE Status: OK
sesame.Rcheck/00install.out
############################################################################## ############################################################################## ### ### Running command: ### ### /Library/Frameworks/R.framework/Resources/bin/R CMD INSTALL sesame ### ############################################################################## ############################################################################## * installing to library ‘/Library/Frameworks/R.framework/Versions/4.4-x86_64/Resources/library’ * installing *source* package ‘sesame’ ... ** using staged installation ** R ** inst ** byte-compile and prepare package for lazy loading ** help *** installing help indices ** building package indices ** installing vignettes ** testing if installed package can be loaded from temporary location ** testing if installed package can be loaded from final location ** testing if installed package keeps a record of temporary installation path * DONE (sesame)
sesame.Rcheck/tests/testthat.Rout
R version 4.4.0 (2024-04-24) -- "Puppy Cup" Copyright (C) 2024 The R Foundation for Statistical Computing Platform: x86_64-apple-darwin20 R is free software and comes with ABSOLUTELY NO WARRANTY. You are welcome to redistribute it under certain conditions. Type 'license()' or 'licence()' for distribution details. R is a collaborative project with many contributors. Type 'contributors()' for more information and 'citation()' on how to cite R or R packages in publications. Type 'demo()' for some demos, 'help()' for on-line help, or 'help.start()' for an HTML browser interface to help. Type 'q()' to quit R. > library(testthat) > library(sesame) Loading required package: sesameData Loading required package: ExperimentHub Loading required package: BiocGenerics Attaching package: 'BiocGenerics' The following objects are masked from 'package:stats': IQR, mad, sd, var, xtabs The following objects are masked from 'package:base': Filter, Find, Map, Position, Reduce, anyDuplicated, aperm, append, as.data.frame, basename, cbind, colnames, dirname, do.call, duplicated, eval, evalq, get, grep, grepl, intersect, is.unsorted, lapply, mapply, match, mget, order, paste, pmax, pmax.int, pmin, pmin.int, rank, rbind, rownames, sapply, setdiff, table, tapply, union, unique, unsplit, which.max, which.min Loading required package: AnnotationHub Loading required package: BiocFileCache Loading required package: dbplyr Loading sesameData. ---------------------------------------------------------- | SEnsible Step-wise Analysis of DNA MEthylation (SeSAMe) | -------------------------------------------------------- | Please cache auxiliary data by "sesameDataCache()". | This needs to be done only once per SeSAMe installation. ---------------------------------------------------------- > > test_check("sesame") [ FAIL 0 | WARN 0 | SKIP 0 | PASS 5 ] > > proc.time() user system elapsed 24.210 2.005 26.511
sesame.Rcheck/sesame-Ex.timings
name | user | system | elapsed | |
BetaValueToMValue | 0.001 | 0.000 | 0.000 | |
DML | 9.162 | 1.191 | 10.669 | |
DMLpredict | 1.463 | 0.120 | 1.677 | |
DMR | 8.949 | 0.266 | 9.340 | |
ELBAR | 16.441 | 3.008 | 19.653 | |
KYCG_annoProbes | 14.592 | 0.871 | 15.668 | |
KYCG_buildGeneDBs | 10.945 | 0.456 | 11.536 | |
KYCG_getDBs | 2.970 | 0.254 | 3.348 | |
KYCG_listDBGroups | 0.034 | 0.002 | 0.035 | |
KYCG_loadDBs | 0.000 | 0.001 | 0.000 | |
KYCG_plotBar | 0.204 | 0.013 | 0.219 | |
KYCG_plotDot | 0.572 | 0.020 | 0.593 | |
KYCG_plotEnrichAll | 20.515 | 1.151 | 22.110 | |
KYCG_plotLollipop | 0.184 | 0.002 | 0.188 | |
KYCG_plotManhattan | 1.386 | 0.359 | 1.756 | |
KYCG_plotMeta | 24.244 | 0.904 | 25.346 | |
KYCG_plotMetaEnrichment | 13.155 | 0.577 | 14.160 | |
KYCG_plotPointRange | 2.796 | 0.285 | 3.177 | |
KYCG_plotSetEnrichment | 5.814 | 0.490 | 6.575 | |
KYCG_plotVolcano | 0.166 | 0.005 | 0.171 | |
KYCG_plotWaterfall | 2.882 | 0.222 | 3.386 | |
MValueToBetaValue | 0 | 0 | 0 | |
SigDF | 0.332 | 0.055 | 0.438 | |
addMask | 0.121 | 0.003 | 0.124 | |
aggregateTestEnrichments | 2.510 | 0.250 | 2.763 | |
betasCollapseToPfx | 0.012 | 0.001 | 0.012 | |
bisConversionControl | 5.090 | 0.260 | 5.461 | |
calcEffectSize | 1.727 | 0.177 | 1.955 | |
checkLevels | 2.920 | 0.364 | 3.340 | |
cnSegmentation | 0.338 | 0.070 | 0.505 | |
compareMouseStrainReference | 11.963 | 0.480 | 12.577 | |
compareMouseTissueReference | 0.001 | 0.001 | 0.000 | |
compareReference | 11.328 | 0.482 | 11.940 | |
controls | 2.211 | 0.213 | 2.728 | |
createUCSCtrack | 6.477 | 0.346 | 6.938 | |
dataFrame2sesameQC | 1.226 | 0.155 | 1.439 | |
dbStats | 7.228 | 0.642 | 7.989 | |
deidentify | 5.965 | 0.336 | 6.775 | |
detectionPnegEcdf | 3.099 | 0.175 | 3.330 | |
diffRefSet | 13.938 | 0.593 | 14.661 | |
dmContrasts | 2.032 | 0.181 | 2.267 | |
dyeBiasCorr | 3.046 | 0.232 | 3.387 | |
dyeBiasCorrMostBalanced | 6.316 | 0.232 | 6.907 | |
dyeBiasL | 3.229 | 0.172 | 3.570 | |
dyeBiasNL | 5.516 | 0.532 | 6.113 | |
estimateLeukocyte | 8.562 | 0.597 | 9.433 | |
formatVCF | 2.371 | 0.282 | 2.772 | |
getAFTypeIbySumAlleles | 2.064 | 0.210 | 2.394 | |
getAFs | 1.466 | 0.130 | 1.660 | |
getBetas | 0.947 | 0.101 | 1.155 | |
getMask | 7.453 | 0.668 | 8.373 | |
getRefSet | 12.531 | 0.592 | 13.298 | |
imputeBetas | 20.206 | 1.535 | 21.977 | |
imputeBetasByGenomicNeighbors | 37.748 | 1.472 | 39.510 | |
imputeBetasMatrixByMean | 0.002 | 0.001 | 0.003 | |
inferEthnicity | 0.000 | 0.000 | 0.001 | |
inferInfiniumIChannel | 0.408 | 0.512 | 0.939 | |
inferSex | 25.428 | 1.467 | 27.134 | |
inferSpecies | 15.369 | 0.787 | 16.599 | |
inferStrain | 10.876 | 0.577 | 11.839 | |
inferTissue | 8.290 | 2.132 | 10.617 | |
initFileSet | 1.419 | 0.316 | 1.810 | |
listAvailableMasks | 1.416 | 0.140 | 1.630 | |
mLiftOver | 0.001 | 0.002 | 0.003 | |
mapFileSet | 0.037 | 0.003 | 0.040 | |
mapToMammal40 | 3.567 | 0.371 | 4.085 | |
matchDesign | 12.850 | 0.664 | 13.628 | |
meanIntensity | 3.225 | 0.559 | 3.943 | |
medianTotalIntensity | 0.948 | 0.053 | 1.126 | |
noMasked | 4.249 | 0.206 | 4.691 | |
noob | 2.072 | 0.020 | 2.097 | |
openSesame | 6.868 | 1.057 | 8.139 | |
openSesameToFile | 1.945 | 0.360 | 2.318 | |
pOOBAH | 1.663 | 0.008 | 1.675 | |
palgen | 0.058 | 0.011 | 0.073 | |
parseGEOsignalMU | 3.477 | 0.160 | 3.899 | |
predictAge | 2.985 | 0.147 | 3.191 | |
predictAgeHorvath353 | 0 | 0 | 0 | |
predictAgeSkinBlood | 0 | 0 | 0 | |
predictMouseAgeInMonth | 0 | 0 | 0 | |
prefixMask | 0.937 | 0.003 | 0.941 | |
prefixMaskButC | 0.246 | 0.001 | 0.248 | |
prefixMaskButCG | 0.109 | 0.000 | 0.110 | |
prepSesame | 4.862 | 0.537 | 5.486 | |
prepSesameList | 0.002 | 0.001 | 0.003 | |
print.DMLSummary | 3.327 | 0.842 | 4.305 | |
print.fileSet | 1.438 | 0.293 | 1.797 | |
probeID_designType | 0.000 | 0.001 | 0.000 | |
probeSuccessRate | 6.579 | 0.503 | 7.407 | |
qualityMask | 3.057 | 0.435 | 3.848 | |
reIdentify | 5.487 | 0.272 | 5.950 | |
readFileSet | 0.064 | 0.017 | 0.083 | |
readIDATpair | 0.165 | 0.003 | 0.168 | |
recommendedMaskNames | 0.001 | 0.001 | 0.001 | |
resetMask | 0.470 | 0.057 | 0.580 | |
scrub | 2.740 | 0.057 | 2.806 | |
scrubSoft | 3.762 | 0.986 | 4.816 | |
sdfPlatform | 0.347 | 0.059 | 0.465 | |
sdf_read_table | 10.562 | 1.360 | 12.194 | |
sdf_write_table | 3.100 | 0.217 | 3.458 | |
searchIDATprefixes | 0.004 | 0.003 | 0.008 | |
sesame-package | 2.219 | 0.202 | 2.494 | |
sesameAnno_buildAddressFile | 0.001 | 0.000 | 0.000 | |
sesameAnno_buildManifestGRanges | 0.000 | 0.000 | 0.001 | |
sesameAnno_download | 0 | 0 | 0 | |
sesameAnno_get | 0.000 | 0.001 | 0.000 | |
sesameAnno_readManifestTSV | 0.000 | 0.001 | 0.000 | |
sesameData_getAnno | 0.000 | 0.000 | 0.001 | |
sesameQC_calcStats | 24.963 | 2.197 | 27.326 | |
sesameQC_getStats | 2.377 | 0.013 | 2.398 | |
sesameQC_plotBar | 14.351 | 0.363 | 14.941 | |
sesameQC_plotBetaByDesign | 12.248 | 2.019 | 14.396 | |
sesameQC_plotHeatSNPs | 21.617 | 2.094 | 23.907 | |
sesameQC_plotIntensVsBetas | 2.359 | 0.555 | 3.057 | |
sesameQC_plotRedGrnQQ | 1.615 | 0.313 | 2.009 | |
sesameQC_rankStats | 4.053 | 0.388 | 4.701 | |
sesame_checkVersion | 0.004 | 0.001 | 0.005 | |
sesamize | 0 | 0 | 0 | |
setMask | 0.133 | 0.001 | 0.135 | |
signalMU | 0.993 | 0.095 | 1.156 | |
sliceFileSet | 0.29 | 0.16 | 0.46 | |
summaryExtractTest | 3.503 | 1.210 | 4.958 | |
testEnrichment | 6.746 | 1.038 | 8.118 | |
testEnrichmentGene | 127.567 | 6.554 | 137.401 | |
testEnrichmentSEA | 12.485 | 0.897 | 13.600 | |
totalIntensities | 3.706 | 0.382 | 4.311 | |
updateSigDF | 3.385 | 0.345 | 4.022 | |
visualizeGene | 11.545 | 0.628 | 12.426 | |
visualizeProbes | 1.271 | 0.008 | 1.283 | |
visualizeRegion | 4.108 | 0.253 | 4.377 | |
visualizeSegments | 1.917 | 0.932 | 2.939 | |