Back to Multiple platform build/check report for BioC 3.19: simplified long |
|
This page was generated on 2024-05-09 11:41:27 -0400 (Thu, 09 May 2024).
Hostname | OS | Arch (*) | R version | Installed pkgs |
---|---|---|---|---|
nebbiolo1 | Linux (Ubuntu 22.04.3 LTS) | x86_64 | 4.4.0 (2024-04-24) -- "Puppy Cup" | 4748 |
palomino3 | Windows Server 2022 Datacenter | x64 | 4.4.0 (2024-04-24 ucrt) -- "Puppy Cup" | 4484 |
lconway | macOS 12.7.1 Monterey | x86_64 | 4.4.0 (2024-04-24) -- "Puppy Cup" | 4514 |
kunpeng2 | Linux (openEuler 22.03 LTS-SP1) | aarch64 | 4.4.0 beta (2024-04-15 r86425) -- "Puppy Cup" | 4480 |
Click on any hostname to see more info about the system (e.g. compilers) (*) as reported by 'uname -p', except on Windows and Mac OS X |
Package 1948/2300 | Hostname | OS / Arch | INSTALL | BUILD | CHECK | BUILD BIN | ||||||||
seqsetvis 1.24.0 (landing page) Joseph R Boyd
| nebbiolo1 | Linux (Ubuntu 22.04.3 LTS) / x86_64 | OK | OK | OK | |||||||||
palomino3 | Windows Server 2022 Datacenter / x64 | OK | OK | OK | OK | |||||||||
lconway | macOS 12.7.1 Monterey / x86_64 | OK | OK | OK | OK | |||||||||
kunpeng2 | Linux (openEuler 22.03 LTS-SP1) / aarch64 | OK | OK | OK | ||||||||||
kjohnson3 | macOS 13.6.5 Ventura / arm64 | see weekly results here | ||||||||||||
To the developers/maintainers of the seqsetvis package: - Allow up to 24 hours (and sometimes 48 hours) for your latest push to git@git.bioconductor.org:packages/seqsetvis.git to reflect on this report. See Troubleshooting Build Report for more information. - Use the following Renviron settings to reproduce errors and warnings. - If 'R CMD check' started to fail recently on the Linux builder(s) over a missing dependency, add the missing dependency to 'Suggests:' in your DESCRIPTION file. See Renviron.bioc for more information. - See Martin Grigorov's blog post for how to debug Linux ARM64 related issues on a x86_64 host. |
Package: seqsetvis |
Version: 1.24.0 |
Command: /home/biocbuild/R/R-beta-2024-04-15_r86425/bin/R CMD check --install=check:seqsetvis.install-out.txt --library=/home/biocbuild/R/R-beta-2024-04-15_r86425/site-library --no-vignettes --timings seqsetvis_1.24.0.tar.gz |
StartedAt: 2024-05-09 11:53:29 -0000 (Thu, 09 May 2024) |
EndedAt: 2024-05-09 12:06:11 -0000 (Thu, 09 May 2024) |
EllapsedTime: 762.4 seconds |
RetCode: 0 |
Status: OK |
CheckDir: seqsetvis.Rcheck |
Warnings: 0 |
############################################################################## ############################################################################## ### ### Running command: ### ### /home/biocbuild/R/R-beta-2024-04-15_r86425/bin/R CMD check --install=check:seqsetvis.install-out.txt --library=/home/biocbuild/R/R-beta-2024-04-15_r86425/site-library --no-vignettes --timings seqsetvis_1.24.0.tar.gz ### ############################################################################## ############################################################################## File /home/biocbuild/BBS/3.19/Renviron.bioc contains invalid line(s) <<<<<<< Updated upstream >>>>>>> Stashed changes They were ignored * using log directory ‘/home/biocbuild/bbs-3.19-bioc/meat/seqsetvis.Rcheck’ * using R version 4.4.0 beta (2024-04-15 r86425) * using platform: aarch64-unknown-linux-gnu * R was compiled by gcc (GCC) 10.3.1 GNU Fortran (GCC) 10.3.1 * running under: openEuler 22.03 (LTS-SP1) * using session charset: UTF-8 * using option ‘--no-vignettes’ * checking for file ‘seqsetvis/DESCRIPTION’ ... OK * checking extension type ... Package * this is package ‘seqsetvis’ version ‘1.24.0’ * package encoding: UTF-8 * checking package namespace information ... OK * checking package dependencies ... OK * checking if this is a source package ... OK * checking if there is a namespace ... OK * checking for hidden files and directories ... OK * checking for portable file names ... OK * checking for sufficient/correct file permissions ... OK * checking whether package ‘seqsetvis’ can be installed ... OK * checking installed package size ... OK * checking package directory ... OK * checking ‘build’ directory ... OK * checking DESCRIPTION meta-information ... OK * checking top-level files ... OK * checking for left-over files ... OK * checking index information ... OK * checking package subdirectories ... OK * checking code files for non-ASCII characters ... OK * checking R files for syntax errors ... OK * checking whether the package can be loaded ... OK * checking whether the package can be loaded with stated dependencies ... OK * checking whether the package can be unloaded cleanly ... OK * checking whether the namespace can be loaded with stated dependencies ... OK * checking whether the namespace can be unloaded cleanly ... OK * checking loading without being on the library search path ... OK * checking dependencies in R code ... OK * checking S3 generic/method consistency ... OK * checking replacement functions ... OK * checking foreign function calls ... OK * checking R code for possible problems ... OK * checking Rd files ... OK * checking Rd metadata ... OK * checking Rd cross-references ... OK * checking for missing documentation entries ... OK * checking for code/documentation mismatches ... OK * checking Rd \usage sections ... OK * checking Rd contents ... OK * checking for unstated dependencies in examples ... OK * checking contents of ‘data’ directory ... OK * checking data for non-ASCII characters ... OK * checking LazyData ... OK * checking data for ASCII and uncompressed saves ... OK * checking files in ‘vignettes’ ... OK * checking examples ... OK Examples with CPU (user + system) or elapsed time > 5s user system elapsed ssvFeatureBinaryHeatmap 10.675 0.260 10.955 ssvFetchBam 8.646 0.068 8.729 ssvSignalBandedQuantiles 5.327 0.024 5.348 * checking for unstated dependencies in ‘tests’ ... OK * checking tests ... Running ‘testthat.R’ OK * checking for unstated dependencies in vignettes ... OK * checking package vignettes ... OK * checking running R code from vignettes ... SKIPPED * checking re-building of vignette outputs ... SKIPPED * checking PDF version of manual ... OK * DONE Status: OK
seqsetvis.Rcheck/00install.out
############################################################################## ############################################################################## ### ### Running command: ### ### /home/biocbuild/R/R-beta-2024-04-15_r86425/bin/R CMD INSTALL seqsetvis ### ############################################################################## ############################################################################## * installing to library ‘/home/biocbuild/R/R-beta-2024-04-15_r86425/site-library’ * installing *source* package ‘seqsetvis’ ... ** using staged installation ** R ** data *** moving datasets to lazyload DB ** inst ** byte-compile and prepare package for lazy loading ** help *** installing help indices ** building package indices ** installing vignettes ** testing if installed package can be loaded from temporary location ** testing if installed package can be loaded from final location ** testing if installed package keeps a record of temporary installation path * DONE (seqsetvis)
seqsetvis.Rcheck/tests/testthat.Rout
R version 4.4.0 beta (2024-04-15 r86425) -- "Puppy Cup" Copyright (C) 2024 The R Foundation for Statistical Computing Platform: aarch64-unknown-linux-gnu R is free software and comes with ABSOLUTELY NO WARRANTY. You are welcome to redistribute it under certain conditions. Type 'license()' or 'licence()' for distribution details. R is a collaborative project with many contributors. Type 'contributors()' for more information and 'citation()' on how to cite R or R packages in publications. Type 'demo()' for some demos, 'help()' for on-line help, or 'help.start()' for an HTML browser interface to help. Type 'q()' to quit R. > > ## load dependencies > library(testthat) > library(seqsetvis) Loading required package: ggplot2 > library(data.table) > > ## test package > test_check(package = "seqsetvis") [ FAIL 0 | WARN 0 | SKIP 0 | PASS 1266 ] > > proc.time() user system elapsed 354.508 2.421 357.365
seqsetvis.Rcheck/seqsetvis-Ex.timings
name | user | system | elapsed | |
add_cluster_annotation | 2.878 | 0.104 | 2.982 | |
append_ynorm | 0.072 | 0.000 | 0.071 | |
applyMovingAverage | 1.783 | 0.032 | 1.817 | |
applySpline | 0.433 | 0.011 | 0.440 | |
assemble_heatmap_cluster_bars | 0.958 | 0.132 | 1.087 | |
calc_norm_factors | 0.018 | 0.000 | 0.017 | |
centerAtMax | 0.360 | 0.012 | 0.368 | |
centerFixedSizeGRanges | 0.181 | 0.012 | 0.193 | |
centerGRangesAtMax | 0.471 | 0.032 | 0.499 | |
clusteringKmeans | 0.026 | 0.000 | 0.023 | |
clusteringKmeansNestedHclust | 0.027 | 0.004 | 0.029 | |
col2hex | 0.001 | 0.000 | 0.001 | |
collapse_gr | 0.986 | 0.040 | 1.028 | |
convert_collapsed_coord | 0.240 | 0.012 | 0.254 | |
copy_clust_info | 2.306 | 0.075 | 2.378 | |
crossCorrByRle | 0.438 | 0.029 | 0.470 | |
easyLoad_FUN | 0.069 | 0.003 | 0.073 | |
easyLoad_IDRmerged | 0.052 | 0.008 | 0.061 | |
easyLoad_bed | 0.179 | 0.004 | 0.183 | |
easyLoad_broadPeak | 0.050 | 0.000 | 0.051 | |
easyLoad_narrowPeak | 0.069 | 0.012 | 0.081 | |
easyLoad_seacr | 0.053 | 0.004 | 0.058 | |
expandCigar | 0.198 | 0.017 | 0.212 | |
findMaxPos | 0.019 | 0.000 | 0.018 | |
fragLen_calcStranded | 2.370 | 0.075 | 2.449 | |
fragLen_fromMacs2Xls | 0.002 | 0.000 | 0.003 | |
getReadLength | 0.069 | 0.004 | 0.074 | |
get_mapped_reads | 0.012 | 0.000 | 0.012 | |
ggellipse | 0.841 | 0.044 | 0.886 | |
harmonize_seqlengths | 0.135 | 0.008 | 0.144 | |
make_clustering_matrix | 0.063 | 0.000 | 0.060 | |
merge_clusters | 4.608 | 0.136 | 4.741 | |
prepare_fetch_GRanges | 0.04 | 0.00 | 0.04 | |
prepare_fetch_GRanges_names | 0.113 | 0.000 | 0.112 | |
prepare_fetch_GRanges_width | 0.04 | 0.00 | 0.04 | |
quantileGRangesWidth | 0.002 | 0.000 | 0.002 | |
reorder_clusters_hclust | 2.746 | 0.080 | 2.826 | |
reorder_clusters_manual | 1.368 | 0.028 | 1.392 | |
reorder_clusters_stepdown | 2.828 | 0.080 | 2.914 | |
reverse_clusters | 2.823 | 0.032 | 2.848 | |
safeBrew | 0.026 | 0.004 | 0.029 | |
split_cluster | 2.459 | 0.084 | 2.530 | |
ssvConsensusIntervalSets | 0.427 | 0.008 | 0.436 | |
ssvFactorizeMembTable | 0.017 | 0.000 | 0.017 | |
ssvFeatureBars | 0.768 | 0.004 | 0.773 | |
ssvFeatureBinaryHeatmap | 10.675 | 0.260 | 10.955 | |
ssvFeatureEuler | 0.702 | 0.004 | 0.708 | |
ssvFeaturePie | 0.739 | 0.028 | 0.768 | |
ssvFeatureUpset | 3.356 | 0.087 | 3.450 | |
ssvFeatureVenn | 1.255 | 0.016 | 1.273 | |
ssvFetchBam | 8.646 | 0.068 | 8.729 | |
ssvFetchBamPE | 2.766 | 0.076 | 2.855 | |
ssvFetchBigwig | 1.960 | 0.017 | 1.982 | |
ssvFetchGRanges | 1.027 | 0.000 | 1.029 | |
ssvFetchSignal | 2.080 | 0.004 | 2.090 | |
ssvMakeMembTable-methods | 0.720 | 0.012 | 0.733 | |
ssvOverlapIntervalSets | 0.323 | 0.004 | 0.327 | |
ssvSignalBandedQuantiles | 5.327 | 0.024 | 5.348 | |
ssvSignalClustering | 2.932 | 0.056 | 2.980 | |
ssvSignalHeatmap.ClusterBars | 4.162 | 0.064 | 4.208 | |
ssvSignalHeatmap | 4.842 | 0.012 | 4.830 | |
ssvSignalLineplot | 3.019 | 0.032 | 3.057 | |
ssvSignalLineplotAgg | 1.058 | 0.004 | 1.063 | |
ssvSignalScatterplot | 1.164 | 0.012 | 1.175 | |
viewGRangesWinSample_dt | 1.748 | 0.024 | 1.776 | |
viewGRangesWinSummary_dt | 1.643 | 0.024 | 1.668 | |
within_clust_sort | 2.026 | 0.036 | 2.056 | |