Back to Multiple platform build/check report for BioC 3.19: simplified long |
|
This page was generated on 2024-10-18 20:42 -0400 (Fri, 18 Oct 2024).
Hostname | OS | Arch (*) | R version | Installed pkgs |
---|---|---|---|---|
nebbiolo1 | Linux (Ubuntu 22.04.3 LTS) | x86_64 | 4.4.1 (2024-06-14) -- "Race for Your Life" | 4763 |
palomino7 | Windows Server 2022 Datacenter | x64 | 4.4.1 (2024-06-14 ucrt) -- "Race for Your Life" | 4500 |
merida1 | macOS 12.7.5 Monterey | x86_64 | 4.4.1 (2024-06-14) -- "Race for Your Life" | 4530 |
kjohnson1 | macOS 13.6.6 Ventura | arm64 | 4.4.1 (2024-06-14) -- "Race for Your Life" | 4480 |
Click on any hostname to see more info about the system (e.g. compilers) (*) as reported by 'uname -p', except on Windows and Mac OS X |
Package 1876/2300 | Hostname | OS / Arch | INSTALL | BUILD | CHECK | BUILD BIN | ||||||||
scater 1.32.1 (landing page) Alan O'Callaghan
| nebbiolo1 | Linux (Ubuntu 22.04.3 LTS) / x86_64 | OK | OK | OK | |||||||||
palomino7 | Windows Server 2022 Datacenter / x64 | OK | OK | OK | OK | |||||||||
merida1 | macOS 12.7.5 Monterey / x86_64 | OK | OK | OK | OK | |||||||||
kjohnson1 | macOS 13.6.6 Ventura / arm64 | OK | OK | ERROR | NA | |||||||||
To the developers/maintainers of the scater package: - Allow up to 24 hours (and sometimes 48 hours) for your latest push to git@git.bioconductor.org:packages/scater.git to reflect on this report. See Troubleshooting Build Report for more information. - Use the following Renviron settings to reproduce errors and warnings. - If 'R CMD check' started to fail recently on the Linux builder(s) over a missing dependency, add the missing dependency to 'Suggests:' in your DESCRIPTION file. See Renviron.bioc for more information. |
Package: scater |
Version: 1.32.1 |
Command: /Library/Frameworks/R.framework/Resources/bin/R CMD check --install=check:scater.install-out.txt --library=/Library/Frameworks/R.framework/Resources/library --no-vignettes --timings scater_1.32.1.tar.gz |
StartedAt: 2024-10-18 10:58:19 -0400 (Fri, 18 Oct 2024) |
EndedAt: 2024-10-18 11:08:18 -0400 (Fri, 18 Oct 2024) |
EllapsedTime: 599.2 seconds |
RetCode: 1 |
Status: ERROR |
CheckDir: scater.Rcheck |
Warnings: NA |
############################################################################## ############################################################################## ### ### Running command: ### ### /Library/Frameworks/R.framework/Resources/bin/R CMD check --install=check:scater.install-out.txt --library=/Library/Frameworks/R.framework/Resources/library --no-vignettes --timings scater_1.32.1.tar.gz ### ############################################################################## ############################################################################## * using log directory ‘/Users/biocbuild/bbs-3.19-bioc/meat/scater.Rcheck’ * using R version 4.4.1 (2024-06-14) * using platform: aarch64-apple-darwin20 * R was compiled by Apple clang version 14.0.0 (clang-1400.0.29.202) GNU Fortran (GCC) 12.2.0 * running under: macOS Ventura 13.6.6 * using session charset: UTF-8 * using option ‘--no-vignettes’ * checking for file ‘scater/DESCRIPTION’ ... OK * checking extension type ... Package * this is package ‘scater’ version ‘1.32.1’ * package encoding: UTF-8 * checking package namespace information ... OK * checking package dependencies ... OK * checking if this is a source package ... OK * checking if there is a namespace ... OK * checking for hidden files and directories ... OK * checking for portable file names ... OK * checking for sufficient/correct file permissions ... OK * checking whether package ‘scater’ can be installed ... OK * checking installed package size ... OK * checking package directory ... OK * checking ‘build’ directory ... OK * checking DESCRIPTION meta-information ... OK * checking top-level files ... OK * checking for left-over files ... OK * checking index information ... OK * checking package subdirectories ... OK * checking code files for non-ASCII characters ... OK * checking R files for syntax errors ... OK * checking whether the package can be loaded ... OK * checking whether the package can be loaded with stated dependencies ... OK * checking whether the package can be unloaded cleanly ... OK * checking whether the namespace can be loaded with stated dependencies ... OK * checking whether the namespace can be unloaded cleanly ... OK * checking dependencies in R code ... OK * checking S3 generic/method consistency ... OK * checking replacement functions ... OK * checking foreign function calls ... OK * checking R code for possible problems ... OK * checking Rd files ... NOTE checkRd: (-1) plotHeatmap.Rd:87: Lost braces; missing escapes or markup? 87 | \item{by_exprs_values}{Alias to {by.assay.type}.} | ^ * checking Rd metadata ... OK * checking Rd cross-references ... OK * checking for missing documentation entries ... OK * checking for code/documentation mismatches ... OK * checking Rd \usage sections ... OK * checking Rd contents ... OK * checking for unstated dependencies in examples ... OK * checking files in ‘vignettes’ ... OK * checking examples ... OK Examples with CPU (user + system) or elapsed time > 5s user system elapsed plotReducedDim 11.223 0.543 10.911 plotRLE 8.658 0.263 9.100 runMultiUMAP 7.379 0.069 7.635 projectReducedDim 6.589 0.091 6.811 runUMAP 5.072 0.049 5.247 * checking for unstated dependencies in ‘tests’ ... OK * checking tests ... Running ‘testthat.R’ ERROR Running the tests in ‘tests/testthat.R’ failed. Last 13 lines of output: reducedDim(ref, "TSNE") not identical to reducedDim(alt, "TSNE"). Objects equal but not identical ── Failure ('test-red-dim.R:324:5'): runTSNE works with externally computed nearest neighbor results ── reducedDim(ref, "TSNE") not identical to reducedDim(alt, "TSNE"). Objects equal but not identical ── Failure ('test-red-dim.R:329:5'): runTSNE works with externally computed nearest neighbor results ── reducedDim(ref, "TSNE") not identical to reducedDim(alt, "TSNE"). Objects equal but not identical ── Failure ('test-red-dim.R:333:5'): runTSNE works with externally computed nearest neighbor results ── reducedDim(ref, "TSNE") not identical to reducedDim(alt, "TSNE"). Objects equal but not identical [ FAIL 6 | WARN 1 | SKIP 0 | PASS 796 ] Error: Test failures Execution halted * checking for unstated dependencies in vignettes ... OK * checking package vignettes ... OK * checking running R code from vignettes ... SKIPPED * checking re-building of vignette outputs ... SKIPPED * checking PDF version of manual ... OK * DONE Status: 1 ERROR, 1 NOTE See ‘/Users/biocbuild/bbs-3.19-bioc/meat/scater.Rcheck/00check.log’ for details.
scater.Rcheck/00install.out
############################################################################## ############################################################################## ### ### Running command: ### ### /Library/Frameworks/R.framework/Resources/bin/R CMD INSTALL scater ### ############################################################################## ############################################################################## * installing to library ‘/Library/Frameworks/R.framework/Versions/4.4-arm64/Resources/library’ * installing *source* package ‘scater’ ... ** using staged installation ** R ** inst ** byte-compile and prepare package for lazy loading ** help *** installing help indices ** building package indices ** installing vignettes ** testing if installed package can be loaded from temporary location ** testing if installed package can be loaded from final location ** testing if installed package keeps a record of temporary installation path * DONE (scater)
scater.Rcheck/tests/testthat.Rout.fail
R version 4.4.1 (2024-06-14) -- "Race for Your Life" Copyright (C) 2024 The R Foundation for Statistical Computing Platform: aarch64-apple-darwin20 R is free software and comes with ABSOLUTELY NO WARRANTY. You are welcome to redistribute it under certain conditions. Type 'license()' or 'licence()' for distribution details. R is a collaborative project with many contributors. Type 'contributors()' for more information and 'citation()' on how to cite R or R packages in publications. Type 'demo()' for some demos, 'help()' for on-line help, or 'help.start()' for an HTML browser interface to help. Type 'q()' to quit R. > Sys.setenv("R_TESTS" = "") > library(testthat) > library(scater) Loading required package: SingleCellExperiment Loading required package: SummarizedExperiment Loading required package: MatrixGenerics Loading required package: matrixStats Attaching package: 'MatrixGenerics' The following objects are masked from 'package:matrixStats': colAlls, colAnyNAs, colAnys, colAvgsPerRowSet, colCollapse, colCounts, colCummaxs, colCummins, colCumprods, colCumsums, colDiffs, colIQRDiffs, colIQRs, colLogSumExps, colMadDiffs, colMads, colMaxs, colMeans2, colMedians, colMins, colOrderStats, colProds, colQuantiles, colRanges, colRanks, colSdDiffs, colSds, colSums2, colTabulates, colVarDiffs, colVars, colWeightedMads, colWeightedMeans, colWeightedMedians, colWeightedSds, colWeightedVars, rowAlls, rowAnyNAs, rowAnys, rowAvgsPerColSet, rowCollapse, rowCounts, rowCummaxs, rowCummins, rowCumprods, rowCumsums, rowDiffs, rowIQRDiffs, rowIQRs, rowLogSumExps, rowMadDiffs, rowMads, rowMaxs, rowMeans2, rowMedians, rowMins, rowOrderStats, rowProds, rowQuantiles, rowRanges, rowRanks, rowSdDiffs, rowSds, rowSums2, rowTabulates, rowVarDiffs, rowVars, rowWeightedMads, rowWeightedMeans, rowWeightedMedians, rowWeightedSds, rowWeightedVars Loading required package: GenomicRanges Loading required package: stats4 Loading required package: BiocGenerics Attaching package: 'BiocGenerics' The following objects are masked from 'package:stats': IQR, mad, sd, var, xtabs The following objects are masked from 'package:base': Filter, Find, Map, Position, Reduce, anyDuplicated, aperm, append, as.data.frame, basename, cbind, colnames, dirname, do.call, duplicated, eval, evalq, get, grep, grepl, intersect, is.unsorted, lapply, mapply, match, mget, order, paste, pmax, pmax.int, pmin, pmin.int, rank, rbind, rownames, sapply, setdiff, table, tapply, union, unique, unsplit, which.max, which.min Loading required package: S4Vectors Attaching package: 'S4Vectors' The following object is masked from 'package:utils': findMatches The following objects are masked from 'package:base': I, expand.grid, unname Loading required package: IRanges Loading required package: GenomeInfoDb Loading required package: Biobase Welcome to Bioconductor Vignettes contain introductory material; view with 'browseVignettes()'. To cite Bioconductor, see 'citation("Biobase")', and for packages 'citation("pkgname")'. Attaching package: 'Biobase' The following object is masked from 'package:MatrixGenerics': rowMedians The following objects are masked from 'package:matrixStats': anyMissing, rowMedians Loading required package: scuttle Loading required package: ggplot2 > > test_check("scater") Loading required package: Matrix Attaching package: 'Matrix' The following object is masked from 'package:S4Vectors': expand Loading required package: S4Arrays Loading required package: abind Attaching package: 'S4Arrays' The following object is masked from 'package:abind': abind The following object is masked from 'package:base': rowsum Loading required package: SparseArray Attaching package: 'DelayedArray' The following objects are masked from 'package:base': apply, scale, sweep [ FAIL 6 | WARN 1 | SKIP 0 | PASS 796 ] ══ Failed tests ════════════════════════════════════════════════════════════════ ── Failure ('test-red-dim.R:312:5'): runTSNE works with externally computed nearest neighbor results ── reducedDim(ref, "TSNE") not identical to reducedDim(alt, "TSNE"). Objects equal but not identical ── Failure ('test-red-dim.R:316:5'): runTSNE works with externally computed nearest neighbor results ── reducedDim(ref, "TSNE") not identical to reducedDim(alt, "TSNE"). Objects equal but not identical ── Failure ('test-red-dim.R:320:5'): runTSNE works with externally computed nearest neighbor results ── reducedDim(ref, "TSNE") not identical to reducedDim(alt, "TSNE"). Objects equal but not identical ── Failure ('test-red-dim.R:324:5'): runTSNE works with externally computed nearest neighbor results ── reducedDim(ref, "TSNE") not identical to reducedDim(alt, "TSNE"). Objects equal but not identical ── Failure ('test-red-dim.R:329:5'): runTSNE works with externally computed nearest neighbor results ── reducedDim(ref, "TSNE") not identical to reducedDim(alt, "TSNE"). Objects equal but not identical ── Failure ('test-red-dim.R:333:5'): runTSNE works with externally computed nearest neighbor results ── reducedDim(ref, "TSNE") not identical to reducedDim(alt, "TSNE"). Objects equal but not identical [ FAIL 6 | WARN 1 | SKIP 0 | PASS 796 ] Error: Test failures Execution halted
scater.Rcheck/scater-Ex.timings
name | user | system | elapsed | |
accessors | 2.094 | 0.041 | 2.170 | |
annotateBMFeatures | 0 | 0 | 0 | |
bootstraps | 0.479 | 0.007 | 0.494 | |
defunct | 0.000 | 0.000 | 0.001 | |
getExplanatoryPCs | 2.043 | 0.067 | 2.171 | |
getVarianceExplained | 0.681 | 0.012 | 0.709 | |
ggsce | 2.331 | 0.120 | 2.531 | |
nexprs | 0.498 | 0.013 | 0.519 | |
plotColData | 4.627 | 0.203 | 4.992 | |
plotDots | 1.926 | 0.037 | 2.037 | |
plotExplanatoryPCs | 1.366 | 0.031 | 1.509 | |
plotExplanatoryVariables | 1.806 | 0.030 | 1.929 | |
plotExpression | 3.787 | 0.149 | 4.105 | |
plotGroupedHeatmap | 0.902 | 0.025 | 0.966 | |
plotHeatmap | 0.815 | 0.018 | 0.868 | |
plotHighestExprs | 1.320 | 0.032 | 1.411 | |
plotPlatePosition | 1.259 | 0.034 | 1.335 | |
plotRLE | 8.658 | 0.263 | 9.100 | |
plotReducedDim | 11.223 | 0.543 | 10.911 | |
plotRowData | 0.815 | 0.022 | 0.890 | |
plotScater | 3.148 | 0.208 | 3.420 | |
plot_reddim | 3.878 | 0.064 | 4.054 | |
projectReducedDim | 6.589 | 0.091 | 6.811 | |
retrieveCellInfo | 0.612 | 0.027 | 0.657 | |
retrieveFeatureInfo | 0.617 | 0.017 | 0.641 | |
runColDataPCA | 0.921 | 0.019 | 0.956 | |
runMDS | 0.786 | 0.020 | 0.817 | |
runMultiUMAP | 7.379 | 0.069 | 7.635 | |
runNMF | 0.778 | 0.016 | 0.815 | |
runPCA | 1.004 | 0.018 | 1.046 | |
runTSNE | 1.591 | 0.024 | 1.761 | |
runUMAP | 5.072 | 0.049 | 5.247 | |
toSingleCellExperiment | 0 | 0 | 0 | |