Back to Multiple platform build/check report for BioC 3.19:   simplified   long
ABCDEFGHIJKLMN[O]PQRSTUVWXYZ

This page was generated on 2024-10-18 20:41 -0400 (Fri, 18 Oct 2024).

HostnameOSArch (*)R versionInstalled pkgs
nebbiolo1Linux (Ubuntu 22.04.3 LTS)x86_644.4.1 (2024-06-14) -- "Race for Your Life" 4763
palomino7Windows Server 2022 Datacenterx644.4.1 (2024-06-14 ucrt) -- "Race for Your Life" 4500
merida1macOS 12.7.5 Montereyx86_644.4.1 (2024-06-14) -- "Race for Your Life" 4530
kjohnson1macOS 13.6.6 Venturaarm644.4.1 (2024-06-14) -- "Race for Your Life" 4480
Click on any hostname to see more info about the system (e.g. compilers)      (*) as reported by 'uname -p', except on Windows and Mac OS X

Package 1457/2300HostnameOS / ArchINSTALLBUILDCHECKBUILD BIN
omada 1.6.0  (landing page)
Sokratis Kariotis
Snapshot Date: 2024-10-16 14:00 -0400 (Wed, 16 Oct 2024)
git_url: https://git.bioconductor.org/packages/omada
git_branch: RELEASE_3_19
git_last_commit: c092c0f
git_last_commit_date: 2024-04-30 11:44:17 -0400 (Tue, 30 Apr 2024)
nebbiolo1Linux (Ubuntu 22.04.3 LTS) / x86_64  OK    OK    OK  UNNEEDED, same version is already published
palomino7Windows Server 2022 Datacenter / x64  OK    OK    OK    OK  UNNEEDED, same version is already published
merida1macOS 12.7.5 Monterey / x86_64  OK    OK    OK    OK  UNNEEDED, same version is already published
kjohnson1macOS 13.6.6 Ventura / arm64  OK    OK    OK    OK  UNNEEDED, same version is already published


CHECK results for omada on merida1

To the developers/maintainers of the omada package:
- Allow up to 24 hours (and sometimes 48 hours) for your latest push to git@git.bioconductor.org:packages/omada.git to reflect on this report. See Troubleshooting Build Report for more information.
- Use the following Renviron settings to reproduce errors and warnings.
- If 'R CMD check' started to fail recently on the Linux builder(s) over a missing dependency, add the missing dependency to 'Suggests:' in your DESCRIPTION file. See Renviron.bioc for more information.

raw results


Summary

Package: omada
Version: 1.6.0
Command: /Library/Frameworks/R.framework/Resources/bin/R CMD check --install=check:omada.install-out.txt --library=/Library/Frameworks/R.framework/Resources/library --no-vignettes --timings omada_1.6.0.tar.gz
StartedAt: 2024-10-17 10:14:08 -0400 (Thu, 17 Oct 2024)
EndedAt: 2024-10-17 10:37:09 -0400 (Thu, 17 Oct 2024)
EllapsedTime: 1381.8 seconds
RetCode: 0
Status:   OK  
CheckDir: omada.Rcheck
Warnings: 0

Command output

##############################################################################
##############################################################################
###
### Running command:
###
###   /Library/Frameworks/R.framework/Resources/bin/R CMD check --install=check:omada.install-out.txt --library=/Library/Frameworks/R.framework/Resources/library --no-vignettes --timings omada_1.6.0.tar.gz
###
##############################################################################
##############################################################################


* using log directory ‘/Users/biocbuild/bbs-3.19-bioc/meat/omada.Rcheck’
* using R version 4.4.1 (2024-06-14)
* using platform: x86_64-apple-darwin20
* R was compiled by
    Apple clang version 14.0.0 (clang-1400.0.29.202)
    GNU Fortran (GCC) 12.2.0
* running under: macOS Monterey 12.7.6
* using session charset: UTF-8
* using option ‘--no-vignettes’
* checking for file ‘omada/DESCRIPTION’ ... OK
* checking extension type ... Package
* this is package ‘omada’ version ‘1.6.0’
* package encoding: UTF-8
* checking package namespace information ... OK
* checking package dependencies ... NOTE
Depends: includes the non-default packages:
  'pdfCluster', 'kernlab', 'fpc', 'Rcpp', 'diceR', 'ggplot2',
  'reshape', 'genieclust', 'clValid', 'glmnet', 'dplyr'
Adding so many packages to the search path is excessive and importing
selectively is preferable.
* checking if this is a source package ... OK
* checking if there is a namespace ... OK
* checking for hidden files and directories ... OK
* checking for portable file names ... OK
* checking for sufficient/correct file permissions ... OK
* checking whether package ‘omada’ can be installed ... OK
* checking installed package size ... OK
* checking package directory ... OK
* checking ‘build’ directory ... OK
* checking DESCRIPTION meta-information ... NOTE
Package listed in more than one of Depends, Imports, Suggests, Enhances:
  ‘clValid’
A package should be listed in only one of these fields.
* checking top-level files ... NOTE
File
  LICENSE
is not mentioned in the DESCRIPTION file.
* checking for left-over files ... OK
* checking index information ... OK
* checking package subdirectories ... OK
* checking code files for non-ASCII characters ... OK
* checking R files for syntax errors ... OK
* checking whether the package can be loaded ... OK
* checking whether the package can be loaded with stated dependencies ... OK
* checking whether the package can be unloaded cleanly ... OK
* checking whether the namespace can be loaded with stated dependencies ... OK
* checking whether the namespace can be unloaded cleanly ... OK
* checking dependencies in R code ... NOTE
Packages in Depends field not imported from:
  ‘Rcpp’ ‘dplyr’ ‘genieclust’ ‘glmnet’ ‘kernlab’ ‘reshape’
  These packages need to be imported from (in the NAMESPACE file)
  for when this namespace is loaded but not attached.
* checking S3 generic/method consistency ... OK
* checking replacement functions ... OK
* checking foreign function calls ... OK
* checking R code for possible problems ... NOTE
Index.15and28: no visible global function definition for ‘dist’
Index.15and28: no visible global function definition for ‘as.dist’
Index.sPlussMoins: no visible global function definition for ‘dist’
Index.sPlussMoins: no visible global function definition for ‘as.dist’
Index.sPlussMoins: no visible global function definition for ‘median’
Indice.cindex: no visible global function definition for ‘dist’
clusterVoting: no visible global function definition for ‘calinhara’
clusterVoting: no visible global function definition for
  ‘generalised_dunn_index’
clusterVoting: no visible global function definition for
  ‘silhouette_index’
clusterVoting: no visible global function definition for
  ‘negated_davies_bouldin_index’
clusterVoting: no visible binding for global variable ‘k’
clusterVoting: no visible binding for global variable ‘Frequency’
clusteringMethodSelection: no visible binding for global variable
  ‘value’
clusteringMethodSelection: no visible binding for global variable
  ‘methods’
featureSelection: no visible binding for global variable ‘featureSet’
featureSelection: no visible binding for global variable ‘means’
Undefined global functions or variables:
  Frequency as.dist calinhara dist featureSet generalised_dunn_index k
  means median methods negated_davies_bouldin_index silhouette_index
  value
Consider adding
  importFrom("stats", "as.dist", "dist", "median")
  importFrom("utils", "methods")
to your NAMESPACE file.
* checking Rd files ... OK
* checking Rd metadata ... OK
* checking Rd cross-references ... OK
* checking for missing documentation entries ... OK
* checking for code/documentation mismatches ... OK
* checking Rd \usage sections ... OK
* checking Rd contents ... OK
* checking for unstated dependencies in examples ... OK
* checking contents of ‘data’ directory ... OK
* checking data for non-ASCII characters ... OK
* checking LazyData ... OK
* checking data for ASCII and uncompressed saves ... OK
* checking files in ‘vignettes’ ... OK
* checking examples ... OK
Examples with CPU (user + system) or elapsed time > 5s
                                                   user system elapsed
get_feature_selection_scores                     74.717  0.709  85.294
get_feature_selection_optimal_number_of_features 74.608  0.704  85.036
plot_partition_agreement                         53.267  0.622  61.434
get_cluster_voting_metric_votes                  51.228  0.486  57.526
get_cluster_voting_k_votes                       51.045  0.559  59.627
get_sample_memberships                           51.140  0.454  56.719
get_cluster_voting_memberships                   51.013  0.522  58.001
get_cluster_voting_scores                        50.094  0.484  58.526
get_partition_agreement_scores                   50.086  0.465  58.438
get_feature_selection_optimal_features           49.637  0.456  56.023
plot_feature_selection                           49.077  0.538  56.531
omada                                            40.239  0.420  45.060
plot_cluster_voting                              39.483  0.409  44.311
get_optimal_number_of_features                   17.420  0.150  19.675
get_optimal_features                             17.255  0.151  19.334
plot_average_stabilities                         17.096  0.153  18.952
get_optimal_stability_score                      15.403  0.126  18.051
get_optimal_memberships                          14.768  0.131  16.576
get_optimal_parameter_used                       14.372  0.113  16.587
featureSelection                                 12.391  0.144  14.401
get_average_feature_k_stabilities                 8.532  0.090   9.971
clusterVoting                                     7.364  0.540   9.182
get_generated_dataset                             6.483  0.042   7.427
feasibilityAnalysisDataBased                      5.137  0.140   6.298
* checking for unstated dependencies in ‘tests’ ... OK
* checking tests ...
  Running ‘testthat.R’
 OK
* checking for unstated dependencies in vignettes ... OK
* checking package vignettes ... OK
* checking running R code from vignettes ... SKIPPED
* checking re-building of vignette outputs ... SKIPPED
* checking PDF version of manual ... OK
* DONE

Status: 5 NOTEs
See
  ‘/Users/biocbuild/bbs-3.19-bioc/meat/omada.Rcheck/00check.log’
for details.


Installation output

omada.Rcheck/00install.out

##############################################################################
##############################################################################
###
### Running command:
###
###   /Library/Frameworks/R.framework/Resources/bin/R CMD INSTALL omada
###
##############################################################################
##############################################################################


* installing to library ‘/Library/Frameworks/R.framework/Versions/4.4-x86_64/Resources/library’
* installing *source* package ‘omada’ ...
** using staged installation
** R
** data
*** moving datasets to lazyload DB
** inst
** byte-compile and prepare package for lazy loading
** help
*** installing help indices
** building package indices
** installing vignettes
** testing if installed package can be loaded from temporary location
** testing if installed package can be loaded from final location
** testing if installed package keeps a record of temporary installation path
* DONE (omada)

Tests output

omada.Rcheck/tests/testthat.Rout


R version 4.4.1 (2024-06-14) -- "Race for Your Life"
Copyright (C) 2024 The R Foundation for Statistical Computing
Platform: x86_64-apple-darwin20

R is free software and comes with ABSOLUTELY NO WARRANTY.
You are welcome to redistribute it under certain conditions.
Type 'license()' or 'licence()' for distribution details.

R is a collaborative project with many contributors.
Type 'contributors()' for more information and
'citation()' on how to cite R or R packages in publications.

Type 'demo()' for some demos, 'help()' for on-line help, or
'help.start()' for an HTML browser interface to help.
Type 'q()' to quit R.

> library(testthat)
> library(omada)
Loading required package: pdfCluster
pdfCluster 1.0-4
Loading required package: kernlab
Loading required package: fpc
Loading required package: Rcpp
Loading required package: diceR
Loading required package: ggplot2

Attaching package: 'ggplot2'

The following object is masked from 'package:kernlab':

    alpha

Loading required package: reshape
Loading required package: genieclust
Loading required package: clValid
Loading required package: cluster
Loading required package: glmnet
Loading required package: Matrix

Attaching package: 'Matrix'

The following object is masked from 'package:reshape':

    expand

Loaded glmnet 4.1-8
Loading required package: dplyr

Attaching package: 'dplyr'

The following object is masked from 'package:reshape':

    rename

The following object is masked from 'package:pdfCluster':

    groups

The following object is masked from 'package:testthat':

    matches

The following objects are masked from 'package:stats':

    filter, lag

The following objects are masked from 'package:base':

    intersect, setdiff, setequal, union

> 
> test_check("omada")
[ FAIL 0 | WARN 1 | SKIP 0 | PASS 38 ]

[ FAIL 0 | WARN 1 | SKIP 0 | PASS 38 ]
> 
> proc.time()
   user  system elapsed 
151.855   2.971 255.297 

Example timings

omada.Rcheck/omada-Ex.timings

nameusersystemelapsed
clusterVoting7.3640.5409.182
clusteringMethodSelection2.8010.0643.441
feasibilityAnalysis2.8240.0373.577
feasibilityAnalysisDataBased5.1370.1406.298
featureSelection12.391 0.14414.401
get_agreement_scores0.2830.0040.342
get_average_feature_k_stabilities8.5320.0909.971
get_average_stabilities_per_k2.0490.0232.411
get_average_stability2.0250.0212.326
get_cluster_memberships_k1.6980.0902.097
get_cluster_voting_k_votes51.045 0.55959.627
get_cluster_voting_memberships51.013 0.52258.001
get_cluster_voting_metric_votes51.228 0.48657.526
get_cluster_voting_scores50.094 0.48458.526
get_feature_selection_optimal_features49.637 0.45656.023
get_feature_selection_optimal_number_of_features74.608 0.70485.036
get_feature_selection_scores74.717 0.70985.294
get_generated_dataset6.4830.0427.427
get_internal_metric_scores1.6570.0541.929
get_max_stability2.0400.0222.299
get_metric_votes_k1.9520.0882.286
get_optimal_features17.255 0.15119.334
get_optimal_memberships14.768 0.13116.576
get_optimal_number_of_features17.420 0.15019.675
get_optimal_parameter_used14.372 0.11316.587
get_optimal_stability_score15.403 0.12618.051
get_partition_agreement_scores50.086 0.46558.438
get_sample_memberships51.140 0.45456.719
get_vote_frequencies_k1.6600.0591.852
omada40.239 0.42045.060
optimalClustering0.1990.0090.229
partitionAgreement0.5720.0080.645
plot_average_stabilities17.096 0.15318.952
plot_cluster_voting39.483 0.40944.311
plot_feature_selection49.077 0.53856.531
plot_partition_agreement53.267 0.62261.434
plot_vote_frequencies2.0300.0664.064
toy_gene_memberships0.0290.0090.135
toy_genes0.0020.0030.005