Back to Multiple platform build/check report for BioC 3.19: simplified long |
|
This page was generated on 2024-05-09 11:41:10 -0400 (Thu, 09 May 2024).
Hostname | OS | Arch (*) | R version | Installed pkgs |
---|---|---|---|---|
nebbiolo1 | Linux (Ubuntu 22.04.3 LTS) | x86_64 | 4.4.0 (2024-04-24) -- "Puppy Cup" | 4748 |
palomino3 | Windows Server 2022 Datacenter | x64 | 4.4.0 (2024-04-24 ucrt) -- "Puppy Cup" | 4484 |
lconway | macOS 12.7.1 Monterey | x86_64 | 4.4.0 (2024-04-24) -- "Puppy Cup" | 4514 |
kunpeng2 | Linux (openEuler 22.03 LTS-SP1) | aarch64 | 4.4.0 beta (2024-04-15 r86425) -- "Puppy Cup" | 4480 |
Click on any hostname to see more info about the system (e.g. compilers) (*) as reported by 'uname -p', except on Windows and Mac OS X |
Package 1418/2300 | Hostname | OS / Arch | INSTALL | BUILD | CHECK | BUILD BIN | ||||||||
netDx 1.16.0 (landing page) Shraddha Pai
| nebbiolo1 | Linux (Ubuntu 22.04.3 LTS) / x86_64 | OK | OK | OK | |||||||||
palomino3 | Windows Server 2022 Datacenter / x64 | ... NOT SUPPORTED ... | ||||||||||||
lconway | macOS 12.7.1 Monterey / x86_64 | OK | ERROR | skipped | skipped | |||||||||
kunpeng2 | Linux (openEuler 22.03 LTS-SP1) / aarch64 | OK | OK | OK | ||||||||||
kjohnson3 | macOS 13.6.5 Ventura / arm64 | see weekly results here | ||||||||||||
To the developers/maintainers of the netDx package: - Allow up to 24 hours (and sometimes 48 hours) for your latest push to git@git.bioconductor.org:packages/netDx.git to reflect on this report. See Troubleshooting Build Report for more information. - Use the following Renviron settings to reproduce errors and warnings. - If 'R CMD check' started to fail recently on the Linux builder(s) over a missing dependency, add the missing dependency to 'Suggests:' in your DESCRIPTION file. See Renviron.bioc for more information. - See Martin Grigorov's blog post for how to debug Linux ARM64 related issues on a x86_64 host. |
Package: netDx |
Version: 1.16.0 |
Command: /home/biocbuild/R/R-beta-2024-04-15_r86425/bin/R CMD check --install=check:netDx.install-out.txt --library=/home/biocbuild/R/R-beta-2024-04-15_r86425/site-library --no-vignettes --timings netDx_1.16.0.tar.gz |
StartedAt: 2024-05-09 10:02:24 -0000 (Thu, 09 May 2024) |
EndedAt: 2024-05-09 10:19:01 -0000 (Thu, 09 May 2024) |
EllapsedTime: 996.8 seconds |
RetCode: 0 |
Status: OK |
CheckDir: netDx.Rcheck |
Warnings: 0 |
############################################################################## ############################################################################## ### ### Running command: ### ### /home/biocbuild/R/R-beta-2024-04-15_r86425/bin/R CMD check --install=check:netDx.install-out.txt --library=/home/biocbuild/R/R-beta-2024-04-15_r86425/site-library --no-vignettes --timings netDx_1.16.0.tar.gz ### ############################################################################## ############################################################################## * using log directory ‘/home/biocbuild/bbs-3.19-bioc/meat/netDx.Rcheck’ * using R version 4.4.0 beta (2024-04-15 r86425) * using platform: aarch64-unknown-linux-gnu * R was compiled by gcc (GCC) 10.3.1 GNU Fortran (GCC) 10.3.1 * running under: openEuler 22.03 (LTS-SP1) * using session charset: UTF-8 * using option ‘--no-vignettes’ * checking for file ‘netDx/DESCRIPTION’ ... OK * this is package ‘netDx’ version ‘1.16.0’ * package encoding: UTF-8 * checking package namespace information ... OK * checking package dependencies ... OK * checking if this is a source package ... OK * checking if there is a namespace ... OK * checking for hidden files and directories ... NOTE Found the following hidden files and directories: .BBSoptions These were most likely included in error. See section ‘Package structure’ in the ‘Writing R Extensions’ manual. * checking for portable file names ... OK * checking for sufficient/correct file permissions ... OK * checking whether package ‘netDx’ can be installed ... OK * checking installed package size ... NOTE installed size is 7.4Mb sub-directories of 1Mb or more: extdata 6.0Mb * checking package directory ... OK * checking ‘build’ directory ... OK * checking DESCRIPTION meta-information ... NOTE Malformed Description field: should contain one or more complete sentences. * checking top-level files ... OK * checking for left-over files ... OK * checking index information ... OK * checking package subdirectories ... NOTE Found the following CITATION file in a non-standard place: CITATION.cff Most likely ‘inst/CITATION’ should be used instead. * checking code files for non-ASCII characters ... OK * checking R files for syntax errors ... OK * checking whether the package can be loaded ... OK * checking whether the package can be loaded with stated dependencies ... OK * checking whether the package can be unloaded cleanly ... OK * checking whether the namespace can be loaded with stated dependencies ... OK * checking whether the namespace can be unloaded cleanly ... OK * checking loading without being on the library search path ... OK * checking whether startup messages can be suppressed ... OK * checking dependencies in R code ... OK * checking S3 generic/method consistency ... OK * checking replacement functions ... OK * checking foreign function calls ... OK * checking R code for possible problems ... OK * checking Rd files ... NOTE checkRd: (-1) getEnr.Rd:53: Lost braces; missing escapes or markup? 53 | {(+,-),(-,+),(-,-)} interactions. | ^ checkRd: (-1) predict.Rd:27: Lost braces; missing escapes or markup? 27 | e.g. keys could include {'clinical','rna','methylation'}, and values within 'rna' could include pathway names {'cell cycle', 'DNA repair'}, etc., | ^ checkRd: (-1) predict.Rd:27: Lost braces; missing escapes or markup? 27 | e.g. keys could include {'clinical','rna','methylation'}, and values within 'rna' could include pathway names {'cell cycle', 'DNA repair'}, etc., | ^ * checking Rd metadata ... OK * checking Rd cross-references ... OK * checking for missing documentation entries ... OK * checking for code/documentation mismatches ... OK * checking Rd \usage sections ... OK * checking Rd contents ... OK * checking for unstated dependencies in examples ... OK * checking contents of ‘data’ directory ... OK * checking data for non-ASCII characters ... OK * checking data for ASCII and uncompressed saves ... OK * checking files in ‘vignettes’ ... OK * checking examples ... OK Examples with CPU (user + system) or elapsed time > 5s user system elapsed buildPredictor 29.142 0.907 47.638 createPSN_MultiData 24.800 1.250 53.688 RR_featureTally 23.800 0.614 24.460 sim.pearscale 11.310 0.036 11.358 smoothMutations_LabelProp 9.314 0.542 34.958 getSimilarity 8.303 0.011 8.324 getPatientPredictions 6.583 0.099 6.695 runFeatureSelection 5.778 0.415 5.069 plotPerf 5.918 0.016 5.940 compileFeatures 5.091 0.343 27.130 thresholdSmoothedMutations 3.721 0.060 28.343 enrichLabelNets 2.026 0.209 73.150 getEnr 0.928 0.158 12.758 makePSN_NamedMatrix 0.095 0.005 11.597 countIntType_batch 0.025 0.026 12.116 * checking for unstated dependencies in ‘tests’ ... OK * checking tests ... Running ‘testthat.R’ OK * checking for unstated dependencies in vignettes ... OK * checking package vignettes ... OK * checking running R code from vignettes ... SKIPPED * checking re-building of vignette outputs ... SKIPPED * checking PDF version of manual ... OK * DONE Status: 5 NOTEs See ‘/home/biocbuild/bbs-3.19-bioc/meat/netDx.Rcheck/00check.log’ for details.
netDx.Rcheck/00install.out
############################################################################## ############################################################################## ### ### Running command: ### ### /home/biocbuild/R/R-beta-2024-04-15_r86425/bin/R CMD INSTALL netDx ### ############################################################################## ############################################################################## * installing to library ‘/home/biocbuild/R/R-beta-2024-04-15_r86425/site-library’ * installing *source* package ‘netDx’ ... ** using staged installation ** R ** data ** inst ** byte-compile and prepare package for lazy loading ** help *** installing help indices ** building package indices ** installing vignettes ** testing if installed package can be loaded from temporary location ** testing if installed package can be loaded from final location ** testing if installed package keeps a record of temporary installation path * DONE (netDx)
netDx.Rcheck/tests/testthat.Rout
R version 4.4.0 beta (2024-04-15 r86425) -- "Puppy Cup" Copyright (C) 2024 The R Foundation for Statistical Computing Platform: aarch64-unknown-linux-gnu R is free software and comes with ABSOLUTELY NO WARRANTY. You are welcome to redistribute it under certain conditions. Type 'license()' or 'licence()' for distribution details. R is a collaborative project with many contributors. Type 'contributors()' for more information and 'citation()' on how to cite R or R packages in publications. Type 'demo()' for some demos, 'help()' for on-line help, or 'help.start()' for an HTML browser interface to help. Type 'q()' to quit R. > library(testthat) > library(netDx) Attaching package: 'netDx' The following object is masked from 'package:stats': predict > > test_check("netDx") TT_STATUS STATUS TEST TRAIN LumA 52 178 notLumA 52 243 PRED_CLASS STATUS LumA notLumA LumA 41 11 notLumA 17 35 [1] TRUE [ FAIL 0 | WARN 0 | SKIP 0 | PASS 39 ] > > proc.time() user system elapsed 74.434 7.208 320.403
netDx.Rcheck/netDx-Ex.timings
name | user | system | elapsed | |
MB.pheno | 0.006 | 0.000 | 0.006 | |
RR_featureTally | 23.800 | 0.614 | 24.460 | |
avgNormDiff | 0.052 | 0.000 | 0.052 | |
buildPredictor | 29.142 | 0.907 | 47.638 | |
buildPredictor_sparseGenetic | 0.742 | 0.004 | 2.295 | |
callFeatSel | 0.133 | 0.000 | 0.133 | |
callOverallSelectedFeatures | 0.128 | 0.000 | 0.128 | |
cleanPathwayName | 0 | 0 | 0 | |
cnv_GR | 0.038 | 0.000 | 0.038 | |
cnv_TTstatus | 0.003 | 0.004 | 0.007 | |
cnv_netPass | 0.003 | 0.000 | 0.003 | |
cnv_netScores | 0.000 | 0.007 | 0.007 | |
cnv_patientNetCount | 0.123 | 0.013 | 0.136 | |
cnv_pheno | 0.010 | 0.000 | 0.011 | |
compareShortestPath | 0.034 | 0.000 | 0.034 | |
compileFeatureScores | 0.009 | 0.000 | 0.010 | |
compileFeatures | 5.091 | 0.343 | 27.130 | |
confmat | 0.003 | 0.000 | 0.003 | |
confusionMatrix | 0.109 | 0.000 | 0.109 | |
convertToMAE | 0.166 | 0.000 | 0.166 | |
countIntType | 0.001 | 0.000 | 0.001 | |
countIntType_batch | 0.025 | 0.026 | 12.116 | |
countPatientsInNet | 0.000 | 0.006 | 0.007 | |
createPSN_MultiData | 24.800 | 1.250 | 53.688 | |
dataList2List | 0.508 | 0.036 | 0.545 | |
enrichLabelNets | 2.026 | 0.209 | 73.150 | |
featScores | 0.031 | 0.008 | 0.039 | |
fetchPathwayDefinitions | 0.441 | 0.016 | 1.635 | |
genes | 0.003 | 0.000 | 0.003 | |
getEMapInput | 1.019 | 0.118 | 1.381 | |
getEMapInput_many | 1.042 | 0.136 | 1.414 | |
getEnr | 0.928 | 0.158 | 12.758 | |
getFeatureScores | 0.013 | 0.004 | 0.018 | |
getFileSep | 0 | 0 | 0 | |
getGMjar_path | 0.134 | 0.038 | 0.166 | |
getNetConsensus | 0.017 | 0.000 | 0.017 | |
getOR | 0.003 | 0.000 | 0.003 | |
getPatientPredictions | 6.583 | 0.099 | 6.695 | |
getPatientRankings | 0.123 | 0.008 | 0.132 | |
getRegionOL | 0.421 | 0.000 | 0.422 | |
getResults | 0.156 | 0.004 | 0.162 | |
getSimilarity | 8.303 | 0.011 | 8.324 | |
makePSN_NamedMatrix | 0.095 | 0.005 | 11.597 | |
makePSN_RangeSets | 0.015 | 0.000 | 0.015 | |
makeQueries | 0.005 | 0.004 | 0.010 | |
makeSymmetric | 0.002 | 0.000 | 0.001 | |
mapNamedRangesToSets | 0.053 | 0.000 | 0.053 | |
modelres | 0.003 | 0.000 | 0.004 | |
normDiff | 0.001 | 0.000 | 0.002 | |
npheno | 0.002 | 0.000 | 0.003 | |
pathwayList | 0.002 | 0.001 | 0.002 | |
pathway_GR | 0.106 | 0.006 | 0.112 | |
perfCalc | 0.003 | 0.000 | 0.003 | |
pheno | 0.011 | 0.000 | 0.012 | |
pheno_full | 0.002 | 0.000 | 0.003 | |
plotEmap | 1.116 | 0.044 | 1.886 | |
plotPerf | 5.918 | 0.016 | 5.940 | |
plotPerf_multi | 0.049 | 0.004 | 0.053 | |
predRes | 0.000 | 0.003 | 0.003 | |
predictPatientLabels | 0.01 | 0.00 | 0.01 | |
pruneNets | 0.012 | 0.000 | 0.012 | |
randAlphanumString | 0.001 | 0.000 | 0.000 | |
readPathways | 1.042 | 0.043 | 1.858 | |
runFeatureSelection | 5.778 | 0.415 | 5.069 | |
runQuery | 2.532 | 0.279 | 4.357 | |
setupFeatureDB | 0.066 | 0.007 | 0.075 | |
silh | 0.003 | 0.001 | 0.004 | |
sim.eucscale | 0.469 | 0.027 | 0.498 | |
sim.pearscale | 11.310 | 0.036 | 11.358 | |
simpleCap | 0.000 | 0.001 | 0.001 | |
smoothMutations_LabelProp | 9.314 | 0.542 | 34.958 | |
sparsify2 | 4.758 | 0.083 | 4.854 | |
sparsify3 | 1.465 | 0.028 | 1.498 | |
splitTestTrain | 0.024 | 0.004 | 0.029 | |
splitTestTrain_resampling | 0.007 | 0.000 | 0.007 | |
tSNEPlotter | 1.449 | 0.004 | 1.455 | |
thresholdSmoothedMutations | 3.721 | 0.060 | 28.343 | |
toymodel | 1.234 | 0.267 | 1.503 | |
updateNets | 0.008 | 0.000 | 0.008 | |
writeNetsSIF | 0.008 | 0.000 | 0.008 | |
writeQueryBatchFile | 0.004 | 0.000 | 0.004 | |
writeQueryFile | 0.007 | 0.000 | 0.007 | |
xpr | 0.029 | 0.008 | 0.037 | |