Back to Multiple platform build/check report for BioC 3.19:   simplified   long
ABCDEFGHIJKL[M]NOPQRSTUVWXYZ

This page was generated on 2024-05-09 11:41:05 -0400 (Thu, 09 May 2024).

HostnameOSArch (*)R versionInstalled pkgs
nebbiolo1Linux (Ubuntu 22.04.3 LTS)x86_644.4.0 (2024-04-24) -- "Puppy Cup" 4748
palomino3Windows Server 2022 Datacenterx644.4.0 (2024-04-24 ucrt) -- "Puppy Cup" 4484
lconwaymacOS 12.7.1 Montereyx86_644.4.0 (2024-04-24) -- "Puppy Cup" 4514
kunpeng2Linux (openEuler 22.03 LTS-SP1)aarch644.4.0 beta (2024-04-15 r86425) -- "Puppy Cup" 4480
Click on any hostname to see more info about the system (e.g. compilers)      (*) as reported by 'uname -p', except on Windows and Mac OS X

Package 1257/2300HostnameOS / ArchINSTALLBUILDCHECKBUILD BIN
mia 1.12.0  (landing page)
Tuomas Borman
Snapshot Date: 2024-05-08 14:00:19 -0400 (Wed, 08 May 2024)
git_url: https://git.bioconductor.org/packages/mia
git_branch: RELEASE_3_19
git_last_commit: 38dad1b
git_last_commit_date: 2024-04-30 11:32:24 -0400 (Tue, 30 Apr 2024)
nebbiolo1Linux (Ubuntu 22.04.3 LTS) / x86_64  OK    OK    OK  UNNEEDED, same version is already published
palomino3Windows Server 2022 Datacenter / x64  OK    OK    OK    OK  UNNEEDED, same version is already published
lconwaymacOS 12.7.1 Monterey / x86_64  OK    OK    OK    OK  UNNEEDED, same version is already published
kunpeng2Linux (openEuler 22.03 LTS-SP1) / aarch64  OK    OK    OK  
kjohnson3macOS 13.6.5 Ventura / arm64see weekly results here

CHECK results for mia on kunpeng2


To the developers/maintainers of the mia package:
- Allow up to 24 hours (and sometimes 48 hours) for your latest push to git@git.bioconductor.org:packages/mia.git to reflect on this report. See Troubleshooting Build Report for more information.
- Use the following Renviron settings to reproduce errors and warnings.
- If 'R CMD check' started to fail recently on the Linux builder(s) over a missing dependency, add the missing dependency to 'Suggests:' in your DESCRIPTION file. See Renviron.bioc for more information.
- See Martin Grigorov's blog post for how to debug Linux ARM64 related issues on a x86_64 host.

raw results


Summary

Package: mia
Version: 1.12.0
Command: /home/biocbuild/R/R-beta-2024-04-15_r86425/bin/R CMD check --install=check:mia.install-out.txt --library=/home/biocbuild/R/R-beta-2024-04-15_r86425/site-library --no-vignettes --timings mia_1.12.0.tar.gz
StartedAt: 2024-05-09 09:22:38 -0000 (Thu, 09 May 2024)
EndedAt: 2024-05-09 09:48:43 -0000 (Thu, 09 May 2024)
EllapsedTime: 1565.7 seconds
RetCode: 0
Status:   OK  
CheckDir: mia.Rcheck
Warnings: 0

Command output

##############################################################################
##############################################################################
###
### Running command:
###
###   /home/biocbuild/R/R-beta-2024-04-15_r86425/bin/R CMD check --install=check:mia.install-out.txt --library=/home/biocbuild/R/R-beta-2024-04-15_r86425/site-library --no-vignettes --timings mia_1.12.0.tar.gz
###
##############################################################################
##############################################################################


* using log directory ‘/home/biocbuild/bbs-3.19-bioc/meat/mia.Rcheck’
* using R version 4.4.0 beta (2024-04-15 r86425)
* using platform: aarch64-unknown-linux-gnu
* R was compiled by
    gcc (GCC) 10.3.1
    GNU Fortran (GCC) 10.3.1
* running under: openEuler 22.03 (LTS-SP1)
* using session charset: UTF-8
* using option ‘--no-vignettes’
* checking for file ‘mia/DESCRIPTION’ ... OK
* checking extension type ... Package
* this is package ‘mia’ version ‘1.12.0’
* package encoding: UTF-8
* checking package namespace information ... OK
* checking package dependencies ... OK
* checking if this is a source package ... OK
* checking if there is a namespace ... OK
* checking for hidden files and directories ... OK
* checking for portable file names ... OK
* checking for sufficient/correct file permissions ... OK
* checking whether package ‘mia’ can be installed ... OK
* checking installed package size ... OK
* checking package directory ... OK
* checking ‘build’ directory ... OK
* checking DESCRIPTION meta-information ... OK
* checking top-level files ... OK
* checking for left-over files ... OK
* checking index information ... OK
* checking package subdirectories ... OK
* checking code files for non-ASCII characters ... OK
* checking R files for syntax errors ... OK
* checking whether the package can be loaded ... OK
* checking whether the package can be loaded with stated dependencies ... OK
* checking whether the package can be unloaded cleanly ... OK
* checking whether the namespace can be loaded with stated dependencies ... OK
* checking whether the namespace can be unloaded cleanly ... OK
* checking loading without being on the library search path ... OK
* checking dependencies in R code ... OK
* checking S3 generic/method consistency ... OK
* checking replacement functions ... OK
* checking foreign function calls ... OK
* checking R code for possible problems ... OK
* checking Rd files ... NOTE
checkRd: (-1) agglomerate-methods.Rd:73-75: Lost braces in \itemize; meant \describe ?
checkRd: (-1) agglomerate-methods.Rd:76-77: Lost braces in \itemize; meant \describe ?
checkRd: (-1) agglomerate-methods.Rd:78-80: Lost braces in \itemize; meant \describe ?
checkRd: (-1) agglomerate-methods.Rd:81-83: Lost braces in \itemize; meant \describe ?
checkRd: (-1) agglomerate-methods.Rd:84-86: Lost braces in \itemize; meant \describe ?
checkRd: (-1) estimateDiversity.Rd:94-96: Lost braces in \itemize; meant \describe ?
checkRd: (-1) estimateDiversity.Rd:97-100: Lost braces in \itemize; meant \describe ?
checkRd: (-1) estimateDiversity.Rd:101-103: Lost braces in \itemize; meant \describe ?
checkRd: (-1) estimateDiversity.Rd:104-107: Lost braces in \itemize; meant \describe ?
checkRd: (-1) estimateDiversity.Rd:149-151: Lost braces in \itemize; meant \describe ?
checkRd: (-1) estimateDiversity.Rd:153-162: Lost braces in \itemize; meant \describe ?
checkRd: (-1) estimateDiversity.Rd:164-165: Lost braces in \itemize; meant \describe ?
checkRd: (-1) estimateDiversity.Rd:167-176: Lost braces in \itemize; meant \describe ?
checkRd: (-1) estimateDiversity.Rd:178-183: Lost braces in \itemize; meant \describe ?
checkRd: (-1) estimateDiversity.Rd:185-192: Lost braces in \itemize; meant \describe ?
checkRd: (-1) estimateDiversity.Rd:194: Lost braces in \itemize; meant \describe ?
checkRd: (-1) estimateDominance.Rd:99-101: Lost braces in \itemize; meant \describe ?
checkRd: (-1) estimateDominance.Rd:103-112: Lost braces in \itemize; meant \describe ?
checkRd: (-1) estimateDominance.Rd:114-126: Lost braces in \itemize; meant \describe ?
checkRd: (-1) estimateDominance.Rd:128-137: Lost braces in \itemize; meant \describe ?
checkRd: (-1) estimateDominance.Rd:139-147: Lost braces in \itemize; meant \describe ?
checkRd: (-1) estimateDominance.Rd:149-158: Lost braces in \itemize; meant \describe ?
checkRd: (-1) estimateDominance.Rd:160-175: Lost braces in \itemize; meant \describe ?
checkRd: (-1) estimateEvenness.Rd:47-48: Lost braces in \itemize; meant \describe ?
checkRd: (-1) estimateEvenness.Rd:72: Lost braces in \itemize; meant \describe ?
checkRd: (-1) estimateEvenness.Rd:73-74: Lost braces in \itemize; meant \describe ?
checkRd: (-1) estimateEvenness.Rd:75-76: Lost braces in \itemize; meant \describe ?
checkRd: (-1) estimateEvenness.Rd:77: Lost braces in \itemize; meant \describe ?
checkRd: (-1) estimateEvenness.Rd:78: Lost braces in \itemize; meant \describe ?
checkRd: (-1) estimateRichness.Rd:87-104: Lost braces in \itemize; meant \describe ?
checkRd: (-1) estimateRichness.Rd:106-117: Lost braces in \itemize; meant \describe ?
checkRd: (-1) estimateRichness.Rd:119-126: Lost braces in \itemize; meant \describe ?
checkRd: (-1) estimateRichness.Rd:128-131: Lost braces in \itemize; meant \describe ?
checkRd: (-1) getExperimentCrossAssociation.Rd:66-70: Lost braces in \itemize; meant \describe ?
checkRd: (-1) getExperimentCrossAssociation.Rd:71-74: Lost braces in \itemize; meant \describe ?
checkRd: (-1) hierarchy-tree.Rd:28-30: Lost braces in \itemize; \value handles \item{}{} directly
checkRd: (-1) hierarchy-tree.Rd:31-32: Lost braces in \itemize; \value handles \item{}{} directly
checkRd: (-1) importHUMAnN.Rd:17-19: Lost braces in \itemize; meant \describe ?
checkRd: (-1) importHUMAnN.Rd:20-22: Lost braces in \itemize; meant \describe ?
checkRd: (-1) importHUMAnN.Rd:23-27: Lost braces in \itemize; meant \describe ?
checkRd: (-1) importMetaPhlAn.Rd:26-28: Lost braces in \itemize; meant \describe ?
checkRd: (-1) importMetaPhlAn.Rd:29-31: Lost braces in \itemize; meant \describe ?
checkRd: (-1) importMetaPhlAn.Rd:32-34: Lost braces in \itemize; meant \describe ?
checkRd: (-1) importMetaPhlAn.Rd:35-39: Lost braces in \itemize; meant \describe ?
checkRd: (-1) importMetaPhlAn.Rd:40-43: Lost braces in \itemize; meant \describe ?
checkRd: (-1) importQIIME2.Rd:47-48: Lost braces in \itemize; meant \describe ?
checkRd: (-1) importQIIME2.Rd:49-51: Lost braces in \itemize; meant \describe ?
checkRd: (-1) isContaminant.Rd:83-85: Lost braces in \itemize; meant \describe ?
checkRd: (-1) isContaminant.Rd:86-87: Lost braces in \itemize; meant \describe ?
checkRd: (-1) makeTreeSEFromBiom.Rd:26-28: Lost braces in \itemize; meant \describe ?
checkRd: (-1) meltAssay.Rd:67-70: Lost braces in \itemize; meant \describe ?
checkRd: (-1) taxonomy-methods.Rd:101-102: Lost braces in \itemize; meant \describe ?
checkRd: (-1) taxonomy-methods.Rd:116-117: Lost braces in \itemize; \value handles \item{}{} directly
checkRd: (-1) taxonomy-methods.Rd:118: Lost braces in \itemize; \value handles \item{}{} directly
checkRd: (-1) taxonomy-methods.Rd:119-122: Lost braces in \itemize; \value handles \item{}{} directly
checkRd: (-1) transformAssay.Rd:118-120: Lost braces in \itemize; meant \describe ?
checkRd: (-1) transformAssay.Rd:154-155: Lost braces in \itemize; meant \describe ?
checkRd: (-1) transformAssay.Rd:157-158: Lost braces in \itemize; meant \describe ?
checkRd: (-1) transformAssay.Rd:160-161: Lost braces in \itemize; meant \describe ?
checkRd: (-1) transformAssay.Rd:163-164: Lost braces in \itemize; meant \describe ?
checkRd: (-1) transformAssay.Rd:166-167: Lost braces in \itemize; meant \describe ?
checkRd: (-1) transformAssay.Rd:169-170: Lost braces in \itemize; meant \describe ?
checkRd: (-1) transformAssay.Rd:172-176: Lost braces in \itemize; meant \describe ?
checkRd: (-1) transformAssay.Rd:178-182: Lost braces in \itemize; meant \describe ?
checkRd: (-1) transformAssay.Rd:184-185: Lost braces in \itemize; meant \describe ?
checkRd: (-1) transformAssay.Rd:187-188: Lost braces in \itemize; meant \describe ?
checkRd: (-1) transformAssay.Rd:190-191: Lost braces in \itemize; meant \describe ?
checkRd: (-1) transformAssay.Rd:193-194: Lost braces in \itemize; meant \describe ?
checkRd: (-1) transformAssay.Rd:196-197: Lost braces in \itemize; meant \describe ?
checkRd: (-1) transformAssay.Rd:199-200: Lost braces in \itemize; meant \describe ?
checkRd: (-1) transformAssay.Rd:202-203: Lost braces in \itemize; meant \describe ?
checkRd: (-1) transformAssay.Rd:205-207: Lost braces in \itemize; meant \describe ?
checkRd: (-1) transformAssay.Rd:209-210: Lost braces in \itemize; meant \describe ?
* checking Rd metadata ... OK
* checking Rd cross-references ... NOTE
Unknown package ‘https’ in Rd xrefs
* checking for missing documentation entries ... OK
* checking for code/documentation mismatches ... OK
* checking Rd \usage sections ... OK
* checking Rd contents ... OK
* checking for unstated dependencies in examples ... OK
* checking contents of ‘data’ directory ... OK
* checking data for non-ASCII characters ... NOTE
  Note: found 101 marked UTF-8 strings
* checking data for ASCII and uncompressed saves ... OK
* checking files in ‘vignettes’ ... OK
* checking examples ... OK
Examples with CPU (user + system) or elapsed time > 5s
                                 user system elapsed
calculateDMN                  109.839  0.044 110.775
runCCA                         70.586  0.179  70.914
hierarchy-tree                 34.939  0.236  35.259
estimateDiversity              16.403  0.103  16.544
agglomerate-methods            15.532  0.256  15.833
splitByRanks                   11.727  0.028  11.782
makeTreeSEFromDADA2            10.193  0.122  10.341
mergeSEs                        9.760  0.032   9.814
getExperimentCrossAssociation   9.135  0.048   9.206
calculateJSD                    8.950  0.116   9.086
getPrevalence                   7.419  0.044   7.482
splitOn                         6.394  0.016   6.425
summaries                       5.151  0.016   5.179
* checking for unstated dependencies in ‘tests’ ... OK
* checking tests ...
  Running ‘testthat.R’
 OK
* checking for unstated dependencies in vignettes ... OK
* checking package vignettes ... OK
* checking running R code from vignettes ... SKIPPED
* checking re-building of vignette outputs ... SKIPPED
* checking PDF version of manual ... OK
* DONE

Status: 3 NOTEs
See
  ‘/home/biocbuild/bbs-3.19-bioc/meat/mia.Rcheck/00check.log’
for details.


Installation output

mia.Rcheck/00install.out

##############################################################################
##############################################################################
###
### Running command:
###
###   /home/biocbuild/R/R-beta-2024-04-15_r86425/bin/R CMD INSTALL mia
###
##############################################################################
##############################################################################


* installing to library ‘/home/biocbuild/R/R-beta-2024-04-15_r86425/site-library’
* installing *source* package ‘mia’ ...
** using staged installation
** R
** data
** inst
** byte-compile and prepare package for lazy loading
** help
*** installing help indices
*** copying figures
** building package indices
** installing vignettes
** testing if installed package can be loaded from temporary location
** testing if installed package can be loaded from final location
** testing if installed package keeps a record of temporary installation path
* DONE (mia)

Tests output

mia.Rcheck/tests/testthat.Rout


R version 4.4.0 beta (2024-04-15 r86425) -- "Puppy Cup"
Copyright (C) 2024 The R Foundation for Statistical Computing
Platform: aarch64-unknown-linux-gnu

R is free software and comes with ABSOLUTELY NO WARRANTY.
You are welcome to redistribute it under certain conditions.
Type 'license()' or 'licence()' for distribution details.

R is a collaborative project with many contributors.
Type 'contributors()' for more information and
'citation()' on how to cite R or R packages in publications.

Type 'demo()' for some demos, 'help()' for on-line help, or
'help.start()' for an HTML browser interface to help.
Type 'q()' to quit R.

> library(testthat)
> library(mia)
Loading required package: SummarizedExperiment
Loading required package: MatrixGenerics
Loading required package: matrixStats

Attaching package: 'MatrixGenerics'

The following objects are masked from 'package:matrixStats':

    colAlls, colAnyNAs, colAnys, colAvgsPerRowSet, colCollapse,
    colCounts, colCummaxs, colCummins, colCumprods, colCumsums,
    colDiffs, colIQRDiffs, colIQRs, colLogSumExps, colMadDiffs,
    colMads, colMaxs, colMeans2, colMedians, colMins, colOrderStats,
    colProds, colQuantiles, colRanges, colRanks, colSdDiffs, colSds,
    colSums2, colTabulates, colVarDiffs, colVars, colWeightedMads,
    colWeightedMeans, colWeightedMedians, colWeightedSds,
    colWeightedVars, rowAlls, rowAnyNAs, rowAnys, rowAvgsPerColSet,
    rowCollapse, rowCounts, rowCummaxs, rowCummins, rowCumprods,
    rowCumsums, rowDiffs, rowIQRDiffs, rowIQRs, rowLogSumExps,
    rowMadDiffs, rowMads, rowMaxs, rowMeans2, rowMedians, rowMins,
    rowOrderStats, rowProds, rowQuantiles, rowRanges, rowRanks,
    rowSdDiffs, rowSds, rowSums2, rowTabulates, rowVarDiffs, rowVars,
    rowWeightedMads, rowWeightedMeans, rowWeightedMedians,
    rowWeightedSds, rowWeightedVars

Loading required package: GenomicRanges
Loading required package: stats4
Loading required package: BiocGenerics

Attaching package: 'BiocGenerics'

The following objects are masked from 'package:stats':

    IQR, mad, sd, var, xtabs

The following objects are masked from 'package:base':

    Filter, Find, Map, Position, Reduce, anyDuplicated, aperm, append,
    as.data.frame, basename, cbind, colnames, dirname, do.call,
    duplicated, eval, evalq, get, grep, grepl, intersect, is.unsorted,
    lapply, mapply, match, mget, order, paste, pmax, pmax.int, pmin,
    pmin.int, rank, rbind, rownames, sapply, setdiff, table, tapply,
    union, unique, unsplit, which.max, which.min

Loading required package: S4Vectors

Attaching package: 'S4Vectors'

The following object is masked from 'package:utils':

    findMatches

The following objects are masked from 'package:base':

    I, expand.grid, unname

Loading required package: IRanges
Loading required package: GenomeInfoDb
Loading required package: Biobase
Welcome to Bioconductor

    Vignettes contain introductory material; view with
    'browseVignettes()'. To cite Bioconductor, see
    'citation("Biobase")', and for packages 'citation("pkgname")'.


Attaching package: 'Biobase'

The following object is masked from 'package:MatrixGenerics':

    rowMedians

The following objects are masked from 'package:matrixStats':

    anyMissing, rowMedians

Loading required package: SingleCellExperiment
Loading required package: TreeSummarizedExperiment
Loading required package: Biostrings
Loading required package: XVector

Attaching package: 'Biostrings'

The following object is masked from 'package:base':

    strsplit

Loading required package: MultiAssayExperiment
> 
> test_check("mia")
================================================================================

Time difference of 9.03 secs

Initializing error rates to maximum possible estimate.
selfConsist step 1 .
   selfConsist step 2
   selfConsist step 3
   selfConsist step 4
Convergence after  4  rounds.
Initializing error rates to maximum possible estimate.
selfConsist step 1 .
   selfConsist step 2
   selfConsist step 3
   selfConsist step 4
Convergence after  4  rounds.
initial  value 0.383462 
iter   5 value 0.161655
iter  10 value 0.113278
final  value 0.003270 
converged
initial  value 0.000000 
final  value 0.000000 
converged
initial  value 0.000000 
final  value 0.000000 
converged
[ FAIL 0 | WARN 66 | SKIP 2 | PASS 957 ]

══ Skipped tests (2) ═══════════════════════════════════════════════════════════
• require("miaTime", quietly = TRUE) is not TRUE (2): 'test-2mergeSEs.R:382:5',
  'test-3agglomerate.R:88:5'

[ FAIL 0 | WARN 66 | SKIP 2 | PASS 957 ]
> 
> proc.time()
   user  system elapsed 
843.209  12.079 864.051 

Example timings

mia.Rcheck/mia-Ex.timings

nameusersystemelapsed
addCluster1.9740.0482.028
addDivergence2.3630.0752.445
agglomerate-methods15.532 0.25615.833
calculateDMN109.839 0.044110.775
calculateJSD8.9500.1169.086
calculateOverlap0.2340.0040.239
calculateUnifrac0.5230.0120.535
estimateDiversity16.403 0.10316.544
estimateDominance0.4070.0000.408
estimateEvenness0.1040.0000.105
estimateRichness0.4780.0040.484
getExperimentCrossAssociation9.1350.0489.206
getPrevalence7.4190.0447.482
hierarchy-tree34.939 0.23635.259
importHUMAnN0.4370.0000.439
importMetaPhlAn4.9320.0324.977
importMothur0.3660.0080.377
importQIIME21.4330.0271.491
isContaminant0.5450.0000.547
makePhyloseqFromTreeSE2.7420.0122.761
makeTreeSEFromBiom0.9640.0040.973
makeTreeSEFromDADA210.193 0.12210.341
makeTreeSEFromPhyloseq1.8850.0281.919
meltAssay1.1430.0361.183
merge-methods1.9950.0002.000
mergeSEs9.7600.0329.814
mia-datasets0.6310.0000.632
perSampleDominantTaxa3.2920.0003.299
relabundance0.5090.0000.511
runCCA70.586 0.17970.914
runDPCoA0.5760.0000.577
runNMDS0.4630.0040.468
splitByRanks11.727 0.02811.782
splitOn6.3940.0166.425
subsampleCounts1.9190.0121.935
subsetSamples1.2420.0041.249
summaries5.1510.0165.179
taxonomy-methods1.6660.0041.673
transformAssay0.3070.0000.308