Back to Multiple platform build/check report for BioC 3.19:   simplified   long
ABCDEFGHIJK[L]MNOPQRSTUVWXYZ

This page was generated on 2024-10-18 20:42 -0400 (Fri, 18 Oct 2024).

HostnameOSArch (*)R versionInstalled pkgs
nebbiolo1Linux (Ubuntu 22.04.3 LTS)x86_644.4.1 (2024-06-14) -- "Race for Your Life" 4763
palomino7Windows Server 2022 Datacenterx644.4.1 (2024-06-14 ucrt) -- "Race for Your Life" 4500
merida1macOS 12.7.5 Montereyx86_644.4.1 (2024-06-14) -- "Race for Your Life" 4530
kjohnson1macOS 13.6.6 Venturaarm644.4.1 (2024-06-14) -- "Race for Your Life" 4480
Click on any hostname to see more info about the system (e.g. compilers)      (*) as reported by 'uname -p', except on Windows and Mac OS X

Package 1133/2300HostnameOS / ArchINSTALLBUILDCHECKBUILD BIN
lute 1.0.0  (landing page)
Sean K Maden
Snapshot Date: 2024-10-16 14:00 -0400 (Wed, 16 Oct 2024)
git_url: https://git.bioconductor.org/packages/lute
git_branch: RELEASE_3_19
git_last_commit: 7a503f8
git_last_commit_date: 2024-04-30 11:52:55 -0400 (Tue, 30 Apr 2024)
nebbiolo1Linux (Ubuntu 22.04.3 LTS) / x86_64  OK    OK    OK  UNNEEDED, same version is already published
palomino7Windows Server 2022 Datacenter / x64  OK    OK    OK    OK  UNNEEDED, same version is already published
merida1macOS 12.7.5 Monterey / x86_64  OK    OK    OK    OK  UNNEEDED, same version is already published
kjohnson1macOS 13.6.6 Ventura / arm64  OK    OK    OK    OK  UNNEEDED, same version is already published


CHECK results for lute on kjohnson1

To the developers/maintainers of the lute package:
- Allow up to 24 hours (and sometimes 48 hours) for your latest push to git@git.bioconductor.org:packages/lute.git to reflect on this report. See Troubleshooting Build Report for more information.
- Use the following Renviron settings to reproduce errors and warnings.
- If 'R CMD check' started to fail recently on the Linux builder(s) over a missing dependency, add the missing dependency to 'Suggests:' in your DESCRIPTION file. See Renviron.bioc for more information.

raw results


Summary

Package: lute
Version: 1.0.0
Command: /Library/Frameworks/R.framework/Resources/bin/R CMD check --install=check:lute.install-out.txt --library=/Library/Frameworks/R.framework/Resources/library --no-vignettes --timings lute_1.0.0.tar.gz
StartedAt: 2024-10-18 02:15:58 -0400 (Fri, 18 Oct 2024)
EndedAt: 2024-10-18 02:20:11 -0400 (Fri, 18 Oct 2024)
EllapsedTime: 252.9 seconds
RetCode: 0
Status:   OK  
CheckDir: lute.Rcheck
Warnings: 0

Command output

##############################################################################
##############################################################################
###
### Running command:
###
###   /Library/Frameworks/R.framework/Resources/bin/R CMD check --install=check:lute.install-out.txt --library=/Library/Frameworks/R.framework/Resources/library --no-vignettes --timings lute_1.0.0.tar.gz
###
##############################################################################
##############################################################################


* using log directory ‘/Users/biocbuild/bbs-3.19-bioc/meat/lute.Rcheck’
* using R version 4.4.1 (2024-06-14)
* using platform: aarch64-apple-darwin20
* R was compiled by
    Apple clang version 14.0.0 (clang-1400.0.29.202)
    GNU Fortran (GCC) 12.2.0
* running under: macOS Ventura 13.6.6
* using session charset: UTF-8
* using option ‘--no-vignettes’
* checking for file ‘lute/DESCRIPTION’ ... OK
* this is package ‘lute’ version ‘1.0.0’
* package encoding: UTF-8
* checking package namespace information ... OK
* checking package dependencies ... OK
* checking if this is a source package ... OK
* checking if there is a namespace ... OK
* checking for hidden files and directories ... OK
* checking for portable file names ... OK
* checking for sufficient/correct file permissions ... OK
* checking whether package ‘lute’ can be installed ... OK
* checking installed package size ... OK
* checking package directory ... OK
* checking ‘build’ directory ... OK
* checking DESCRIPTION meta-information ... OK
* checking top-level files ... OK
* checking for left-over files ... NOTE
The following files look like leftovers:
  ‘lute/NEWS.Rd’
Please remove them from your package.
* checking index information ... OK
* checking package subdirectories ... OK
* checking code files for non-ASCII characters ... OK
* checking R files for syntax errors ... OK
* checking whether the package can be loaded ... OK
* checking whether the package can be loaded with stated dependencies ... OK
* checking whether the package can be unloaded cleanly ... OK
* checking whether the namespace can be loaded with stated dependencies ... OK
* checking whether the namespace can be unloaded cleanly ... OK
* checking dependencies in R code ... NOTE
Namespace in Imports field not imported from: ‘ggplot2’
  All declared Imports should be used.
* checking S3 generic/method consistency ... OK
* checking replacement functions ... OK
* checking foreign function calls ... OK
* checking R code for possible problems ... OK
* checking Rd files ... OK
* checking Rd metadata ... OK
* checking Rd cross-references ... OK
* checking for missing documentation entries ... OK
* checking for code/documentation mismatches ... OK
* checking Rd \usage sections ... OK
* checking Rd contents ... OK
* checking for unstated dependencies in examples ... OK
* checking files in ‘vignettes’ ... NOTE
The following files look like leftovers/mistakes:
  ‘lute_algorithm_classes.log’
Please remove them from your package.
* checking examples ... OK
* checking for unstated dependencies in vignettes ... OK
* checking package vignettes ... OK
* checking running R code from vignettes ... SKIPPED
* checking re-building of vignette outputs ... SKIPPED
* checking PDF version of manual ... OK
* DONE

Status: 3 NOTEs
See
  ‘/Users/biocbuild/bbs-3.19-bioc/meat/lute.Rcheck/00check.log’
for details.


Installation output

lute.Rcheck/00install.out

##############################################################################
##############################################################################
###
### Running command:
###
###   /Library/Frameworks/R.framework/Resources/bin/R CMD INSTALL lute
###
##############################################################################
##############################################################################


* installing to library ‘/Library/Frameworks/R.framework/Versions/4.4-arm64/Resources/library’
* installing *source* package ‘lute’ ...
** using staged installation
** R
** inst
** byte-compile and prepare package for lazy loading
** help
*** installing help indices
** building package indices
** installing vignettes
** testing if installed package can be loaded from temporary location
** testing if installed package can be loaded from final location
** testing if installed package keeps a record of temporary installation path
* DONE (lute)

Tests output


Example timings

lute.Rcheck/lute-Ex.timings

nameusersystemelapsed
bisqueParam-class3.0530.1313.283
bisqueParam2.2780.1152.406
cellProportionsPredictions-class0.0200.0010.022
cellProportionsPredictions000
deconvolution-bisqueParam-method2.2950.1122.443
deconvolution-deconvolutionParam-method0.0010.0010.002
deconvolution-independentbulkParam-method0.0020.0000.003
deconvolution-nnlsParam-method0.0130.0020.016
deconvolution-referencebasedParam-method0.0030.0000.003
deconvolution0.0030.0010.004
deconvolutionParam-class0.0000.0000.001
eset_to_sce0.7480.0150.784
eset_to_se0.5640.0230.592
findmarkersParam-class0.8950.0360.959
findmarkersParam0.6690.0170.705
getDeconvolutionExampleData0.0010.0000.001
getDeconvolutionExampleDataBisque0.5280.0130.589
getDeconvolutionExampleDataSCDC0.1940.0020.205
get_celltypes_from_sce0.0010.0010.001
get_csf_reference0.0000.0000.001
get_eset_from_matrix0.0010.0000.000
independentbulkParam-class0.0010.0000.001
independentbulkParam0.0000.0010.000
lute0.2170.0030.228
luteSupportedDeconvolutionAlgorithms0.0060.0020.008
new_workflow_table0.0010.0010.001
nnlsParam-class0.0050.0000.005
nnlsParam0.0060.0000.006
parseDeconvolutionPredictionsResults0.0010.0000.001
proportionsVectorsList0.0000.0000.001
randomMarkersVectorsList0.0000.0000.001
randomSingleCellExperiment0.1270.0020.135
referenceFromSingleCellExperiment000
referencebasedParam-class0.0030.0000.003
referencebasedParam0.0020.0010.002
rmse0.0020.0000.002
rmseTest0.0000.0010.001
sce_to_eset0.1840.0050.196
sce_to_se0.1520.0020.158
se_to_eset0.1880.0020.195
se_to_sce0.1650.0020.169
show-bisqueParam-method0.6770.0160.697
show-cellProportionsPredictions-method0.0010.0000.000
show-deconvolutionParam-method000
show-findmarkersParam-method0.6360.0070.652
show-independentbulkParam-method0.0000.0000.001
show-nnlsParam-method0.0010.0000.002
show-referencebasedParam-method0.0010.0000.002
show-typemarkersParam-method000
sub-sub-deconvolutionParam-ANY-ANY-method000
sub-sub-typemarkersParam-ANY-ANY-method0.0000.0000.001
typemarkers-findmarkersParam-method0.6360.0050.645
typemarkers-typemarkersParam-method0.0000.0000.001
typemarkers000
typemarkersParam-class0.0010.0000.001
typemarkersParam0.0000.0000.001
ypb_from_sce0.1430.0020.145
z_matrix_from_sce0.1340.0020.137