Back to Multiple platform build/check report for BioC 3.19: simplified long |
|
This page was generated on 2024-05-09 11:41:01 -0400 (Thu, 09 May 2024).
Hostname | OS | Arch (*) | R version | Installed pkgs |
---|---|---|---|---|
nebbiolo1 | Linux (Ubuntu 22.04.3 LTS) | x86_64 | 4.4.0 (2024-04-24) -- "Puppy Cup" | 4748 |
palomino3 | Windows Server 2022 Datacenter | x64 | 4.4.0 (2024-04-24 ucrt) -- "Puppy Cup" | 4484 |
lconway | macOS 12.7.1 Monterey | x86_64 | 4.4.0 (2024-04-24) -- "Puppy Cup" | 4514 |
kunpeng2 | Linux (openEuler 22.03 LTS-SP1) | aarch64 | 4.4.0 beta (2024-04-15 r86425) -- "Puppy Cup" | 4480 |
Click on any hostname to see more info about the system (e.g. compilers) (*) as reported by 'uname -p', except on Windows and Mac OS X |
Package 1112/2300 | Hostname | OS / Arch | INSTALL | BUILD | CHECK | BUILD BIN | ||||||||
limpca 1.0.0 (landing page) Manon Martin
| nebbiolo1 | Linux (Ubuntu 22.04.3 LTS) / x86_64 | OK | OK | OK | |||||||||
palomino3 | Windows Server 2022 Datacenter / x64 | OK | OK | OK | OK | |||||||||
lconway | macOS 12.7.1 Monterey / x86_64 | OK | OK | OK | OK | |||||||||
kunpeng2 | Linux (openEuler 22.03 LTS-SP1) / aarch64 | OK | OK | OK | ||||||||||
kjohnson3 | macOS 13.6.5 Ventura / arm64 | see weekly results here | ||||||||||||
To the developers/maintainers of the limpca package: - Allow up to 24 hours (and sometimes 48 hours) for your latest push to git@git.bioconductor.org:packages/limpca.git to reflect on this report. See Troubleshooting Build Report for more information. - Use the following Renviron settings to reproduce errors and warnings. - If 'R CMD check' started to fail recently on the Linux builder(s) over a missing dependency, add the missing dependency to 'Suggests:' in your DESCRIPTION file. See Renviron.bioc for more information. - See Martin Grigorov's blog post for how to debug Linux ARM64 related issues on a x86_64 host. |
Package: limpca |
Version: 1.0.0 |
Command: /home/biocbuild/R/R-beta-2024-04-15_r86425/bin/R CMD check --install=check:limpca.install-out.txt --library=/home/biocbuild/R/R-beta-2024-04-15_r86425/site-library --no-vignettes --timings limpca_1.0.0.tar.gz |
StartedAt: 2024-05-09 08:51:44 -0000 (Thu, 09 May 2024) |
EndedAt: 2024-05-09 08:56:09 -0000 (Thu, 09 May 2024) |
EllapsedTime: 264.5 seconds |
RetCode: 0 |
Status: OK |
CheckDir: limpca.Rcheck |
Warnings: 0 |
############################################################################## ############################################################################## ### ### Running command: ### ### /home/biocbuild/R/R-beta-2024-04-15_r86425/bin/R CMD check --install=check:limpca.install-out.txt --library=/home/biocbuild/R/R-beta-2024-04-15_r86425/site-library --no-vignettes --timings limpca_1.0.0.tar.gz ### ############################################################################## ############################################################################## * using log directory ‘/home/biocbuild/bbs-3.19-bioc/meat/limpca.Rcheck’ * using R version 4.4.0 beta (2024-04-15 r86425) * using platform: aarch64-unknown-linux-gnu * R was compiled by gcc (GCC) 10.3.1 GNU Fortran (GCC) 10.3.1 * running under: openEuler 22.03 (LTS-SP1) * using session charset: UTF-8 * using option ‘--no-vignettes’ * checking for file ‘limpca/DESCRIPTION’ ... OK * checking extension type ... Package * this is package ‘limpca’ version ‘1.0.0’ * package encoding: UTF-8 * checking package namespace information ... OK * checking package dependencies ... OK * checking if this is a source package ... OK * checking if there is a namespace ... OK * checking for hidden files and directories ... OK * checking for portable file names ... OK * checking for sufficient/correct file permissions ... OK * checking whether package ‘limpca’ can be installed ... OK * checking installed package size ... OK * checking package directory ... OK * checking ‘build’ directory ... OK * checking DESCRIPTION meta-information ... OK * checking top-level files ... OK * checking for left-over files ... OK * checking index information ... OK * checking package subdirectories ... OK * checking code files for non-ASCII characters ... OK * checking R files for syntax errors ... OK * checking whether the package can be loaded ... OK * checking whether the package can be loaded with stated dependencies ... OK * checking whether the package can be unloaded cleanly ... OK * checking whether the namespace can be loaded with stated dependencies ... OK * checking whether the namespace can be unloaded cleanly ... OK * checking loading without being on the library search path ... OK * checking dependencies in R code ... OK * checking S3 generic/method consistency ... OK * checking replacement functions ... OK * checking foreign function calls ... OK * checking R code for possible problems ... OK * checking Rd files ... OK * checking Rd metadata ... OK * checking Rd cross-references ... OK * checking for missing documentation entries ... OK * checking for code/documentation mismatches ... OK * checking Rd \usage sections ... OK * checking Rd contents ... OK * checking for unstated dependencies in examples ... OK * checking contents of ‘data’ directory ... OK * checking data for non-ASCII characters ... OK * checking data for ASCII and uncompressed saves ... OK * checking files in ‘vignettes’ ... OK * checking examples ... OK Examples with CPU (user + system) or elapsed time > 5s user system elapsed lmpBootstrapTests 18.624 2.218 14.168 plotLine 4.863 0.415 5.290 lmpLoading1dPlot 4.997 0.164 5.174 plotDesign 4.885 0.231 5.219 * checking for unstated dependencies in ‘tests’ ... OK * checking tests ... Running ‘testthat.R’ OK * checking for unstated dependencies in vignettes ... OK * checking package vignettes ... OK * checking running R code from vignettes ... SKIPPED * checking re-building of vignette outputs ... SKIPPED * checking PDF version of manual ... OK * DONE Status: OK
limpca.Rcheck/00install.out
############################################################################## ############################################################################## ### ### Running command: ### ### /home/biocbuild/R/R-beta-2024-04-15_r86425/bin/R CMD INSTALL limpca ### ############################################################################## ############################################################################## * installing to library ‘/home/biocbuild/R/R-beta-2024-04-15_r86425/site-library’ * installing *source* package ‘limpca’ ... ** using staged installation ** R ** data ** inst ** byte-compile and prepare package for lazy loading ** help *** installing help indices ** building package indices ** installing vignettes ** testing if installed package can be loaded from temporary location ** testing if installed package can be loaded from final location ** testing if installed package keeps a record of temporary installation path * DONE (limpca)
limpca.Rcheck/tests/testthat.Rout
R version 4.4.0 beta (2024-04-15 r86425) -- "Puppy Cup" Copyright (C) 2024 The R Foundation for Statistical Computing Platform: aarch64-unknown-linux-gnu R is free software and comes with ABSOLUTELY NO WARRANTY. You are welcome to redistribute it under certain conditions. Type 'license()' or 'licence()' for distribution details. R is a collaborative project with many contributors. Type 'contributors()' for more information and 'citation()' on how to cite R or R packages in publications. Type 'demo()' for some demos, 'help()' for on-line help, or 'help.start()' for an HTML browser interface to help. Type 'q()' to quit R. > # This file is part of the standard setup for testthat. > # It is recommended that you do not modify it. > # > # Where should you do additional test configuration? > # Learn more about the roles of various files in: > # * https://r-pkgs.org/testing-design.html#sec-tests-files-overview > # * https://testthat.r-lib.org/articles/special-files.html > > library(testthat) > library(limpca) > > test_check("limpca") | dim outcomes: 10x3 | formula: ~ factA + factB | design variables (2): * factA (factor) * factB (factor) | dim outcomes: 10x3 | formula: ~ factA + factB | design variables (2): * factA (factor) * factB (factor) | dim outcomes: 10x3 | formula: ~ factA + factB | design variables (2): * factA (factor) * factB (factor) | dim outcomes: 10x3 | formula: ~ factA + factB | design variables (2): * factA (factor) * factB (factor) | dim outcomes: 10x3 | formula: | design variables (2): * factA (factor) * factB (factor) [ FAIL 0 | WARN 0 | SKIP 0 | PASS 47 ] > > proc.time() user system elapsed 9.988 1.065 10.860
limpca.Rcheck/limpca-Ex.timings
name | user | system | elapsed | |
UCH | 0.019 | 0.000 | 0.019 | |
data2lmpDataList | 0.334 | 0.004 | 0.339 | |
lmpBootstrapTests | 18.624 | 2.218 | 14.168 | |
lmpContributions | 3.275 | 0.712 | 1.896 | |
lmpEffectMatrices | 1.254 | 0.108 | 1.365 | |
lmpEffectPlot | 2.286 | 0.139 | 2.431 | |
lmpLoading1dPlot | 4.997 | 0.164 | 5.174 | |
lmpLoading2dPlot | 3.222 | 0.091 | 3.323 | |
lmpModelMatrix | 0.000 | 0.008 | 0.008 | |
lmpPcaEffects | 1.222 | 0.036 | 1.262 | |
lmpScorePlot | 1.883 | 0.064 | 1.951 | |
lmpScoreScatterPlotM | 1.492 | 0.032 | 1.526 | |
lmpScreePlot | 1.448 | 0.012 | 1.464 | |
pcaBySvd | 0.031 | 0.000 | 0.031 | |
pcaLoading1dPlot | 0.339 | 0.011 | 0.351 | |
pcaLoading2dPlot | 1.994 | 0.035 | 2.033 | |
pcaScorePlot | 0.574 | 0.000 | 0.575 | |
pcaScreePlot | 0.187 | 0.020 | 0.207 | |
plotDesign | 4.885 | 0.231 | 5.219 | |
plotLine | 4.863 | 0.415 | 5.290 | |
plotMeans | 1.665 | 0.056 | 1.724 | |
plotScatter | 2.931 | 0.040 | 2.976 | |
plotScatterM | 0.068 | 0.008 | 0.076 | |
trout | 0.001 | 0.000 | 0.001 | |