Back to Multiple platform build/check report for BioC 3.19: simplified long |
|
This page was generated on 2024-10-18 20:39 -0400 (Fri, 18 Oct 2024).
Hostname | OS | Arch (*) | R version | Installed pkgs |
---|---|---|---|---|
nebbiolo1 | Linux (Ubuntu 22.04.3 LTS) | x86_64 | 4.4.1 (2024-06-14) -- "Race for Your Life" | 4763 |
palomino7 | Windows Server 2022 Datacenter | x64 | 4.4.1 (2024-06-14 ucrt) -- "Race for Your Life" | 4500 |
merida1 | macOS 12.7.5 Monterey | x86_64 | 4.4.1 (2024-06-14) -- "Race for Your Life" | 4530 |
kjohnson1 | macOS 13.6.6 Ventura | arm64 | 4.4.1 (2024-06-14) -- "Race for Your Life" | 4480 |
Click on any hostname to see more info about the system (e.g. compilers) (*) as reported by 'uname -p', except on Windows and Mac OS X |
Package 872/2300 | Hostname | OS / Arch | INSTALL | BUILD | CHECK | BUILD BIN | ||||||||
ginmappeR 1.0.5 (landing page) Fernando Sola
| nebbiolo1 | Linux (Ubuntu 22.04.3 LTS) / x86_64 | OK | OK | OK | |||||||||
palomino7 | Windows Server 2022 Datacenter / x64 | OK | OK | OK | OK | |||||||||
merida1 | macOS 12.7.5 Monterey / x86_64 | OK | OK | ERROR | OK | |||||||||
kjohnson1 | macOS 13.6.6 Ventura / arm64 | OK | OK | OK | OK | |||||||||
To the developers/maintainers of the ginmappeR package: - Allow up to 24 hours (and sometimes 48 hours) for your latest push to git@git.bioconductor.org:packages/ginmappeR.git to reflect on this report. See Troubleshooting Build Report for more information. - Use the following Renviron settings to reproduce errors and warnings. - If 'R CMD check' started to fail recently on the Linux builder(s) over a missing dependency, add the missing dependency to 'Suggests:' in your DESCRIPTION file. See Renviron.bioc for more information. |
Package: ginmappeR |
Version: 1.0.5 |
Command: E:\biocbuild\bbs-3.19-bioc\R\bin\R.exe CMD check --no-multiarch --install=check:ginmappeR.install-out.txt --library=E:\biocbuild\bbs-3.19-bioc\R\library --no-vignettes --timings ginmappeR_1.0.5.tar.gz |
StartedAt: 2024-10-17 01:58:44 -0400 (Thu, 17 Oct 2024) |
EndedAt: 2024-10-17 02:11:06 -0400 (Thu, 17 Oct 2024) |
EllapsedTime: 741.7 seconds |
RetCode: 0 |
Status: OK |
CheckDir: ginmappeR.Rcheck |
Warnings: 0 |
############################################################################## ############################################################################## ### ### Running command: ### ### E:\biocbuild\bbs-3.19-bioc\R\bin\R.exe CMD check --no-multiarch --install=check:ginmappeR.install-out.txt --library=E:\biocbuild\bbs-3.19-bioc\R\library --no-vignettes --timings ginmappeR_1.0.5.tar.gz ### ############################################################################## ############################################################################## * using log directory 'E:/biocbuild/bbs-3.19-bioc/meat/ginmappeR.Rcheck' * using R version 4.4.1 (2024-06-14 ucrt) * using platform: x86_64-w64-mingw32 * R was compiled by gcc.exe (GCC) 13.2.0 GNU Fortran (GCC) 13.2.0 * running under: Windows Server 2022 x64 (build 20348) * using session charset: UTF-8 * using option '--no-vignettes' * checking for file 'ginmappeR/DESCRIPTION' ... OK * checking extension type ... Package * this is package 'ginmappeR' version '1.0.5' * package encoding: UTF-8 * checking package namespace information ... OK * checking package dependencies ... OK * checking if this is a source package ... OK * checking if there is a namespace ... OK * checking for hidden files and directories ... NOTE Found the following hidden files and directories: .BBSoptions These were most likely included in error. See section 'Package structure' in the 'Writing R Extensions' manual. * checking for portable file names ... OK * checking whether package 'ginmappeR' can be installed ... OK * checking installed package size ... OK * checking package directory ... OK * checking 'build' directory ... OK * checking DESCRIPTION meta-information ... OK * checking top-level files ... OK * checking for left-over files ... OK * checking index information ... OK * checking package subdirectories ... OK * checking code files for non-ASCII characters ... OK * checking R files for syntax errors ... OK * checking whether the package can be loaded ... OK * checking whether the package can be loaded with stated dependencies ... OK * checking whether the package can be unloaded cleanly ... OK * checking whether the namespace can be loaded with stated dependencies ... OK * checking whether the namespace can be unloaded cleanly ... OK * checking whether startup messages can be suppressed ... OK * checking dependencies in R code ... OK * checking S3 generic/method consistency ... OK * checking replacement functions ... OK * checking foreign function calls ... OK * checking R code for possible problems ... OK * checking Rd files ... OK * checking Rd metadata ... OK * checking Rd cross-references ... OK * checking for missing documentation entries ... OK * checking for code/documentation mismatches ... OK * checking Rd \usage sections ... OK * checking Rd contents ... OK * checking for unstated dependencies in examples ... OK * checking files in 'vignettes' ... OK * checking examples ... OK Examples with CPU (user + system) or elapsed time > 5s user system elapsed getCARD2KEGG 3.45 0.14 101.72 getCARD2UniProt 0.92 0.14 8.37 getNCBINucleotide2KEGG 0.43 0.06 13.86 getNCBIGene2KEGG 0.44 0.03 14.19 getNCBIProtein2UniProt 0.43 0.03 6.73 getKEGG2NCBINucleotide 0.35 0.07 7.17 getNCBIProtein2KEGG 0.22 0.04 29.48 * checking for unstated dependencies in 'tests' ... OK * checking tests ... Running 'runTests.R' OK * checking for unstated dependencies in vignettes ... OK * checking package vignettes ... OK * checking running R code from vignettes ... SKIPPED * checking re-building of vignette outputs ... SKIPPED * checking PDF version of manual ... OK * DONE Status: 1 NOTE See 'E:/biocbuild/bbs-3.19-bioc/meat/ginmappeR.Rcheck/00check.log' for details.
ginmappeR.Rcheck/00install.out
############################################################################## ############################################################################## ### ### Running command: ### ### E:\biocbuild\bbs-3.19-bioc\R\bin\R.exe CMD INSTALL ginmappeR ### ############################################################################## ############################################################################## * installing to library 'E:/biocbuild/bbs-3.19-bioc/R/library' * installing *source* package 'ginmappeR' ... ** using staged installation ** R ** inst ** byte-compile and prepare package for lazy loading ** help *** installing help indices ** building package indices ** installing vignettes ** testing if installed package can be loaded from temporary location ** testing if installed package can be loaded from final location ** testing if installed package keeps a record of temporary installation path * DONE (ginmappeR)
ginmappeR.Rcheck/tests/runTests.Rout
R version 4.4.1 (2024-06-14 ucrt) -- "Race for Your Life" Copyright (C) 2024 The R Foundation for Statistical Computing Platform: x86_64-w64-mingw32/x64 R is free software and comes with ABSOLUTELY NO WARRANTY. You are welcome to redistribute it under certain conditions. Type 'license()' or 'licence()' for distribution details. R is a collaborative project with many contributors. Type 'contributors()' for more information and 'citation()' on how to cite R or R packages in publications. Type 'demo()' for some demos, 'help()' for on-line help, or 'help.start()' for an HTML browser interface to help. Type 'q()' to quit R. > BiocGenerics:::testPackage("ginmappeR") Loading required package: BiocGenerics Attaching package: 'BiocGenerics' The following objects are masked from 'package:stats': IQR, mad, sd, var, xtabs The following objects are masked from 'package:base': Filter, Find, Map, Position, Reduce, anyDuplicated, aperm, append, as.data.frame, basename, cbind, colnames, dirname, do.call, duplicated, eval, evalq, get, grep, grepl, intersect, is.unsorted, lapply, mapply, match, mget, order, paste, pmax, pmax.int, pmin, pmin.int, rank, rbind, rownames, sapply, setdiff, table, tapply, union, unique, unsplit, which.max, which.min Loading required package: RSQLite Testing getKEGG2UniProt |=.............................| Step 1: Translating from KEGG to UniProt |==............................| Step 2: Connecting to KEGG web services |===...........................| Step 3: Connecting to KEGG API and translating id aag:5579347 to Uniprot |=.............................| Step 1: Translating from KEGG to UniProt |==............................| Step 2: Connecting to KEGG web services |===...........................| Step 3: Connecting to KEGG API and translating id aag:5579347 to Uniprot |=.............................| Step 1: Translating from KEGG to UniProt |=.............................| Step 1: Translating from KEGG to UniProt |==............................| Step 2: Connecting to KEGG web services |===...........................| Step 3: Connecting to KEGG API and translating id eco:b0204 to Uniprot Testing getKEGG2NCBIProtein, getKEGG2NCBINucleotide, getKEGG2NCBIGene |=.............................| Step 1: Translating from KEGG to NCBI Nucleotide |=.............................| Step 1: Trying to get a direct translation for KEGG id llo:LLO_2673 to NCBI |==............................| Step 2: Translating KEGG id llo:LLO_2673 to NCBI through similar genes strategy |===...........................| Step 3: Connecting to KEGG web services |====..........................| Step 4: Connecting to KEGG API and translating id llo:LLO_2673 to Uniprot |=.............................| Step 1: Trying to get a direct translation for KEGG id llo:LLO_2673 to NCBI |==............................| Step 2: Translating KEGG id llo:LLO_2673 to NCBI through similar genes strategy |=.............................| Step 1: Trying to get a direct translation for UniProt id D3HKY4 to NCBI |=.............................| Step 1: Trying to get a direct translation for KEGG id llo:LLO_2673 to NCBI |==............................| Step 2: Translating KEGG id llo:LLO_2673 to NCBI through similar genes strategy |=.............................| Step 1: Translating from KEGG to NCBI Nucleotide |=.............................| Step 1: Translating from KEGG to NCBI Gene |==............................| Step 2: Trying to get a direct translation for KEGG id aag:5579347 to NCBI |=.............................| Step 1: Translating from KEGG to NCBI Gene Testing getKEGG2CARD |=.............................| Step 1: Translating from KEGG to CARD Updating CARD database data... Deleting previous versions of CARD if any. Downloading latest version Extracting database CARD database downloaded successfully! Located at E:\biocbuild\bbs-3.19-bioc\tmpdir\RtmpyUzbrr/card-data CARD database version 3.3.0 (2024-08-26) |==............................| Step 2: Searching CARD database and translating to KEGG |===...........................| Step 3: Trying to get a direct translation for KEGG id ag:ACC85616 to CARD |=.............................| Step 1: Translating from KEGG to CARD Using a CARD database version downloaded on Thu 10/17/2024 02:04:40, please consider updating it with updateCARDDataBase() function. |=.............................| Step 1: Translating from KEGG to CARD Using a CARD database version downloaded on Thu 10/17/2024 02:04:40, please consider updating it with updateCARDDataBase() function. |==............................| Step 2: Searching CARD database and translating to KEGG |===...........................| Step 3: Trying to get a direct translation for KEGG id ag:ACC85616 to CARD |=.............................| Step 1: Translating from KEGG to CARD Using a CARD database version downloaded on Thu 10/17/2024 02:04:40, please consider updating it with updateCARDDataBase() function. |==............................| Step 2: Searching CARD database and translating to KEGG |===...........................| Step 3: Trying to get a direct translation for KEGG id llo:LLO_2673 to NCBI |====..........................| Step 4: Translating KEGG id llo:LLO_2673 to NCBI through similar genes strategy |=.............................| Step 1: Trying to get a direct translation for UniProt id D3HKY4 to NCBI |==............................| Step 2: Translating UniProt id D3HKY4 to NCBI through similar genes strategy |===...........................| Step 3: Searching CARD database and translating to KEGG |====..........................| Step 4: Trying to get a direct translation for KEGG id llo:LLO_2673 to NCBI |=====.........................| Step 5: Translating KEGG id llo:LLO_2673 to NCBI through similar genes strategy |======........................| Step 6: Searching CARD database and translating to KEGG |=.............................| Step 1: Trying to get a direct translation for KEGG id llo:LLO_2673 to NCBI |==............................| Step 2: Translating KEGG id llo:LLO_2673 to NCBI through similar genes strategy |=.............................| Step 1: Trying to get a direct translation for UniProt id D3HKY4 to NCBI |==............................| Step 2: Translating UniProt id D3HKY4 to NCBI through similar genes strategy |===...........................| Step 3: Searching CARD database and translating to KEGG |=.............................| Step 1: Trying to get a direct translation for KEGG id llo:LLO_2673 to NCBI |==............................| Step 2: Translating KEGG id llo:LLO_2673 to NCBI through similar genes strategy |===...........................| Step 3: Searching CARD database and translating to KEGG |=.............................| Step 1: Translating from KEGG to CARD Using a CARD database version downloaded on Thu 10/17/2024 02:04:40, please consider updating it with updateCARDDataBase() function. |==............................| Step 2: Searching CARD database and translating to KEGG |=.............................| Step 1: Translating from KEGG to CARD Using a CARD database version downloaded on Thu 10/17/2024 02:04:40, please consider updating it with updateCARDDataBase() function. |==............................| Step 2: Searching CARD database and translating to KEGG |===...........................| Step 3: Trying to get a direct translation for KEGG id llo:LLO_2673 to CARD |====..........................| Step 4: Translating KEGG id llo:LLO_2673 to CARD through similar genes strategy |=====.........................| Step 5: Trying to get a direct translation for KEGG id llo:LLO_2673 to CARD |======........................| Step 6: Translating KEGG id llo:LLO_2673 to CARD through similar genes strategy |=.............................| Step 1: Translating from KEGG to CARD Using a CARD database version downloaded on Thu 10/17/2024 02:04:40, please consider updating it with updateCARDDataBase() function. |==............................| Step 2: Searching CARD database and translating to KEGG |===...........................| Step 3: Trying to get a direct translation for KEGG id llo:LLO_2673 to CARD |====..........................| Step 4: Translating KEGG id llo:LLO_2673 to CARD through similar genes strategy |=====.........................| Step 5: Trying to get a direct translation for KEGG id llo:LLO_2673 to CARD |======........................| Step 6: Translating KEGG id llo:LLO_2673 to CARD through similar genes strategy Testing getUniProtSimilarGenes |=.............................| Step 1: Accessing UniProt similar genes database |==............................| Step 2: Connecting to UniProt API and retrieving cluster of id G0L217 |===...........................| Step 3: Retrieving and parsing genes of cluster UniRef50_A0A6L9EH79 |=.............................| Step 1: Accessing UniProt similar genes database |==............................| Step 2: Connecting to UniProt API and retrieving cluster of id G0L217 |===...........................| Step 3: Retrieving and parsing genes of cluster UniRef100_G0L217 |=.............................| Step 1: Accessing UniProt similar genes database |=.............................| Step 1: Accessing UniProt similar genes database |=.............................| Step 1: Accessing UniProt similar genes database |==............................| Step 2: Connecting to UniProt API and retrieving cluster of id G0L217 |===...........................| Step 3: Retrieving and parsing genes of cluster UniRef100_G0L217 |=.............................| Step 1: Accessing UniProt similar genes database |=.............................| Step 1: Accessing UniProt similar genes database The given ID "test" is not registered in UniProt database |=.............................| Step 1: Accessing UniProt similar genes database The given ID "test" is not registered in UniProt database The given ID "test" is not registered in UniProt database Testing getUniProt2KEGG |=.............................| Step 1: Translating from UniProt to KEGG |==............................| Step 2: Trying to get a direct translation for UniProt id Q6R7P5 to KEGG |===...........................| Step 3: Translating UniProt id Q6R7P5 to KEGG through similar genes strategy |====..........................| Step 4: Connecting to UniProt API and retrieving cluster of id Q6R7P5 |=====.........................| Step 5: Retrieving and parsing genes of cluster UniRef100_Q6R7P5 |======........................| Step 6: Trying to get a direct translation for UniProt id Q6R7P5 to KEGG |=======.......................| Step 7: Translating UniProt id Q6R7P5 to KEGG through similar genes strategy |========......................| Step 8: Connecting to UniProt API and retrieving cluster of id Q6R7P5 |=========.....................| Step 9: Retrieving and parsing genes of cluster UniRef90_Q6R7P5 |==========....................| Step 10: Trying to get a direct translation for UniProt id Q6R7P5 to KEGG |===========...................| Step 11: Translating UniProt id Q6R7P5 to KEGG through similar genes strategy |============..................| Step 12: Connecting to UniProt API and retrieving cluster of id Q6R7P5 |=============.................| Step 13: Retrieving and parsing genes of cluster UniRef50_Q6R7P5 |==============................| Step 14: Trying to get a direct translation for UniProt id Q6R7P5 to KEGG |===============...............| Step 15: Translating UniProt id Q6R7P5 to KEGG through similar genes strategy |=.............................| Step 1: Translating from UniProt to KEGG |==............................| Step 2: Trying to get a direct translation for UniProt id Q6R7P5 to KEGG |===...........................| Step 3: Translating UniProt id Q6R7P5 to KEGG through similar genes strategy |=.............................| Step 1: Translating from UniProt to KEGG |==............................| Step 2: Trying to get a direct translation for UniProt id Q6R7P5 to KEGG |===...........................| Step 3: Translating UniProt id Q6R7P5 to KEGG through similar genes strategy |=.............................| Step 1: Translating from UniProt to KEGG |==............................| Step 2: Trying to get a direct translation for UniProt id Q6R7P5 to KEGG |===...........................| Step 3: Translating UniProt id Q6R7P5 to KEGG through similar genes strategy |=.............................| Step 1: Translating from UniProt to KEGG The given ID "test" is not registered in UniProt database |=.............................| Step 1: Translating from UniProt to KEGG The given ID "test" is not registered in UniProt database |=.............................| Step 1: Translating from UniProt to KEGG The given ID "test" is not registered in UniProt database |=.............................| Step 1: Translating from UniProt to KEGG The given ID "test" is not registered in UniProt database |=.............................| Step 1: Translating from UniProt to KEGG |=.............................| Step 1: Translating from UniProt to KEGG |=.............................| Step 1: Translating from UniProt to KEGG |=.............................| Step 1: Translating from UniProt to KEGG |=.............................| Step 1: Translating from UniProt to KEGG |==............................| Step 2: Trying to get a direct translation for UniProt id A0A2R4PHC7 to KEGG |===...........................| Step 3: Translating UniProt id A0A2R4PHC7 to KEGG through similar genes strategy |====..........................| Step 4: Connecting to UniProt API and retrieving cluster of id A0A2R4PHC7 |=====.........................| Step 5: Retrieving and parsing genes of cluster UniRef100_A0A2R4PHC7 |======........................| Step 6: Trying to get a direct translation for UniProt id A0A2R4PHC7 to KEGG |=======.......................| Step 7: Translating UniProt id A0A2R4PHC7 to KEGG through similar genes strategy |========......................| Step 8: Connecting to UniProt API and retrieving cluster of id A0A2R4PHC7 |=========.....................| Step 9: Retrieving and parsing genes of cluster UniRef90_A0A2R4PHC7 |==========....................| Step 10: Trying to get a direct translation for UniProt id A0A2R4PHC7 to KEGG |===========...................| Step 11: Translating UniProt id A0A2R4PHC7 to KEGG through similar genes strategy |============..................| Step 12: Connecting to UniProt API and retrieving cluster of id A0A2R4PHC7 |=============.................| Step 13: Retrieving and parsing genes of cluster UniRef50_A0A6J4GZE2 |==============................| Step 14: Trying to get a direct translation for UniProt id A0A2R4PHC7 to KEGG |===============...............| Step 15: Translating UniProt id A0A2R4PHC7 to KEGG through similar genes strategy |=.............................| Step 1: Translating from UniProt to KEGG |==............................| Step 2: Trying to get a direct translation for UniProt id A0A2R4PHC7 to KEGG |===...........................| Step 3: Translating UniProt id A0A2R4PHC7 to KEGG through similar genes strategy |=.............................| Step 1: Translating from UniProt to KEGG |==............................| Step 2: Trying to get a direct translation for UniProt id A0A2R4PHC7 to KEGG |===...........................| Step 3: Translating UniProt id A0A2R4PHC7 to KEGG through similar genes strategy |=.............................| Step 1: Translating from UniProt to KEGG |==............................| Step 2: Trying to get a direct translation for UniProt id A0A2R4PHC7 to KEGG |===...........................| Step 3: Translating UniProt id A0A2R4PHC7 to KEGG through similar genes strategy |=.............................| Step 1: Translating from UniProt to KEGG The given ID "test" is not registered in UniProt database |=.............................| Step 1: Translating from UniProt to KEGG The given ID "test" is not registered in UniProt database |=.............................| Step 1: Translating from UniProt to KEGG The given ID "test" is not registered in UniProt database |=.............................| Step 1: Translating from UniProt to KEGG The given ID "test" is not registered in UniProt database Testing getUniProt2NCBIProtein, getUniProt2NCBINucleotide, getUniProt2NCBIGene |=.............................| Step 1: Translating from UniProt to NCBI Protein |==............................| Step 2: Trying to get a direct translation for UniProt id A0A6H2TXZ6 to NCBI |=.............................| Step 1: Translating from UniProt to NCBI Nucleotide |=.............................| Step 1: Trying to get a direct translation for UniProt id A0A6H2TXZ6 to NCBI |==............................| Step 2: Translating UniProt id A0A6H2TXZ6 to NCBI through similar genes strategy |===...........................| Step 3: Connecting to UniProt API and retrieving cluster of id A0A6H2TXZ6 |====..........................| Step 4: Retrieving and parsing genes of cluster UniRef100_A0A6H2TXZ6 |=.............................| Step 1: Trying to get a direct translation for UniProt id A0A6H2TXZ6 to NCBI |==............................| Step 2: Translating UniProt id A0A6H2TXZ6 to NCBI through similar genes strategy |===...........................| Step 3: Connecting to UniProt API and retrieving cluster of id A0A6H2TXZ6 |====..........................| Step 4: Retrieving and parsing genes of cluster UniRef90_A0A6H2TY05 |=.............................| Step 1: Trying to get a direct translation for UniProt id A0A6H2TXZ6 to NCBI |==............................| Step 2: Translating UniProt id A0A6H2TXZ6 to NCBI through similar genes strategy |=.............................| Step 1: Connecting to UniProt API and retrieving cluster of id A0A6H2TXZ6 |==............................| Step 2: Retrieving and parsing genes of cluster UniRef50_A0A0U3EIS7 |=.............................| Step 1: Trying to get a direct translation for UniProt id A0A6H2TXZ6 to NCBI |==............................| Step 2: Translating UniProt id A0A6H2TXZ6 to NCBI through similar genes strategy |=.............................| Step 1: Translating from UniProt to NCBI Gene |=.............................| Step 1: Trying to get a direct translation for UniProt id A0A1S7BGS4 to NCBI |==............................| Step 2: Translating UniProt id A0A1S7BGS4 to NCBI through similar genes strategy Testing getUniProt2CARD |=.............................| Step 1: Translating from UniProt to CARD Using a CARD database version downloaded on Thu 10/17/2024 02:04:40, please consider updating it with updateCARDDataBase() function. |==............................| Step 2: Translating Uniprot id A0A1S7BGS4 to CARD |===...........................| Step 3: Trying to get a direct translation for Uniprot id A0A1S7BGS4 to CARD |=.............................| Step 1: Translating from UniProt to CARD Using a CARD database version downloaded on Thu 10/17/2024 02:04:40, please consider updating it with updateCARDDataBase() function. |=.............................| Step 1: Translating from UniProt to CARD Using a CARD database version downloaded on Thu 10/17/2024 02:04:40, please consider updating it with updateCARDDataBase() function. |==............................| Step 2: Translating Uniprot id Q8GNY5 to CARD |===...........................| Step 3: Trying to get a direct translation for Uniprot id Q8GNY5 to CARD |=.............................| Step 1: Translating from UniProt to CARD Using a CARD database version downloaded on Thu 10/17/2024 02:04:40, please consider updating it with updateCARDDataBase() function. |==............................| Step 2: Translating Uniprot id A0A6H2TXZ6 to CARD |===...........................| Step 3: Trying to get a direct translation for Uniprot id A0A6H2TXZ6 to CARD |=.............................| Step 1: Translating from UniProt to CARD Using a CARD database version downloaded on Thu 10/17/2024 02:04:40, please consider updating it with updateCARDDataBase() function. |==............................| Step 2: Translating Uniprot id A0A4R5XW64 to CARD |===...........................| Step 3: Trying to get a direct translation for Uniprot id A0A4R5XW64 to CARD |====..........................| Step 4: Translating UniProt id A0A4R5XW64 to CARD through similar genes strategy |=====.........................| Step 5: Trying to get a direct translation for Uniprot id A0A4R5XW64 to CARD |======........................| Step 6: Translating UniProt id A0A4R5XW64 to CARD through similar genes strategy RUNIT TEST PROTOCOL -- Thu Oct 17 02:10:55 2024 *********************************************** Number of test functions: 0 Number of errors: 0 Number of failures: 0 1 Test Suite : ginmappeR RUnit Tests - 0 test functions, 0 errors, 0 failures Number of test functions: 0 Number of errors: 0 Number of failures: 0 > > proc.time() user system elapsed 18.18 1.78 392.87
ginmappeR.Rcheck/ginmappeR-Ex.timings
name | user | system | elapsed | |
getCARD2KEGG | 3.45 | 0.14 | 101.72 | |
getCARD2NCBIGene | 0.22 | 0.01 | 1.40 | |
getCARD2NCBINucleotide | 0.36 | 0.00 | 0.84 | |
getCARD2NCBIProtein | 0.00 | 0.00 | 0.72 | |
getCARD2UniProt | 0.92 | 0.14 | 8.37 | |
getKEGG2CARD | 0.18 | 0.00 | 0.97 | |
getKEGG2NCBIGene | 0.04 | 0.00 | 1.77 | |
getKEGG2NCBINucleotide | 0.35 | 0.07 | 7.17 | |
getKEGG2NCBIProtein | 0.07 | 0.00 | 1.31 | |
getKEGG2UniProt | 0.00 | 0.00 | 0.11 | |
getNCBIGene2CARD | 0.11 | 0.00 | 3.97 | |
getNCBIGene2KEGG | 0.44 | 0.03 | 14.19 | |
getNCBIGene2NCBINucleotide | 0.02 | 0.00 | 2.83 | |
getNCBIGene2NCBIProtein | 0.03 | 0.00 | 1.81 | |
getNCBIGene2UniProt | 0.00 | 0.00 | 0.11 | |
getNCBIIdenticalProteins | 0.03 | 0.00 | 1.59 | |
getNCBINucleotide2CARD | 0.08 | 0.01 | 0.66 | |
getNCBINucleotide2KEGG | 0.43 | 0.06 | 13.86 | |
getNCBINucleotide2NCBIGene | 0.00 | 0.00 | 1.04 | |
getNCBINucleotide2NCBIProtein | 0.07 | 0.00 | 0.64 | |
getNCBINucleotide2UniProt | 0.00 | 0.00 | 0.11 | |
getNCBIProtein2CARD | 0.06 | 0.00 | 0.66 | |
getNCBIProtein2KEGG | 0.22 | 0.04 | 29.48 | |
getNCBIProtein2NCBIGene | 0.00 | 0.00 | 1.05 | |
getNCBIProtein2NCBINucleotide | 0.08 | 0.01 | 0.66 | |
getNCBIProtein2UniProt | 0.43 | 0.03 | 6.73 | |
getUniProt2CARD | 0.22 | 0.03 | 1.75 | |
getUniProt2KEGG | 0.03 | 0.00 | 0.74 | |
getUniProt2NCBIGene | 0 | 0 | 0 | |
getUniProt2NCBINucleotide | 0.16 | 0.02 | 3.64 | |
getUniProt2NCBIProtein | 0 | 0 | 0 | |
getUniProtSimilarGenes | 0.05 | 0.02 | 0.97 | |