Back to Multiple platform build/check report for BioC 3.19: simplified long |
|
This page was generated on 2024-10-18 20:38 -0400 (Fri, 18 Oct 2024).
Hostname | OS | Arch (*) | R version | Installed pkgs |
---|---|---|---|---|
nebbiolo1 | Linux (Ubuntu 22.04.3 LTS) | x86_64 | 4.4.1 (2024-06-14) -- "Race for Your Life" | 4763 |
palomino7 | Windows Server 2022 Datacenter | x64 | 4.4.1 (2024-06-14 ucrt) -- "Race for Your Life" | 4500 |
merida1 | macOS 12.7.5 Monterey | x86_64 | 4.4.1 (2024-06-14) -- "Race for Your Life" | 4530 |
kjohnson1 | macOS 13.6.6 Ventura | arm64 | 4.4.1 (2024-06-14) -- "Race for Your Life" | 4480 |
Click on any hostname to see more info about the system (e.g. compilers) (*) as reported by 'uname -p', except on Windows and Mac OS X |
Package 861/2300 | Hostname | OS / Arch | INSTALL | BUILD | CHECK | BUILD BIN | ||||||||
ggkegg 1.2.3 (landing page) Noriaki Sato
| nebbiolo1 | Linux (Ubuntu 22.04.3 LTS) / x86_64 | OK | OK | OK | |||||||||
palomino7 | Windows Server 2022 Datacenter / x64 | OK | OK | OK | OK | |||||||||
merida1 | macOS 12.7.5 Monterey / x86_64 | OK | OK | OK | OK | |||||||||
kjohnson1 | macOS 13.6.6 Ventura / arm64 | OK | OK | OK | OK | |||||||||
To the developers/maintainers of the ggkegg package: - Allow up to 24 hours (and sometimes 48 hours) for your latest push to git@git.bioconductor.org:packages/ggkegg.git to reflect on this report. See Troubleshooting Build Report for more information. - Use the following Renviron settings to reproduce errors and warnings. - If 'R CMD check' started to fail recently on the Linux builder(s) over a missing dependency, add the missing dependency to 'Suggests:' in your DESCRIPTION file. See Renviron.bioc for more information. |
Package: ggkegg |
Version: 1.2.3 |
Command: /home/biocbuild/bbs-3.19-bioc/R/bin/R CMD check --install=check:ggkegg.install-out.txt --library=/home/biocbuild/bbs-3.19-bioc/R/site-library --timings ggkegg_1.2.3.tar.gz |
StartedAt: 2024-10-17 00:54:42 -0400 (Thu, 17 Oct 2024) |
EndedAt: 2024-10-17 00:58:07 -0400 (Thu, 17 Oct 2024) |
EllapsedTime: 205.4 seconds |
RetCode: 0 |
Status: OK |
CheckDir: ggkegg.Rcheck |
Warnings: 0 |
############################################################################## ############################################################################## ### ### Running command: ### ### /home/biocbuild/bbs-3.19-bioc/R/bin/R CMD check --install=check:ggkegg.install-out.txt --library=/home/biocbuild/bbs-3.19-bioc/R/site-library --timings ggkegg_1.2.3.tar.gz ### ############################################################################## ############################################################################## * using log directory ‘/home/biocbuild/bbs-3.19-bioc/meat/ggkegg.Rcheck’ * using R version 4.4.1 (2024-06-14) * using platform: x86_64-pc-linux-gnu * R was compiled by gcc (Ubuntu 11.4.0-1ubuntu1~22.04) 11.4.0 GNU Fortran (Ubuntu 11.4.0-1ubuntu1~22.04) 11.4.0 * running under: Ubuntu 22.04.5 LTS * using session charset: UTF-8 * checking for file ‘ggkegg/DESCRIPTION’ ... OK * checking extension type ... Package * this is package ‘ggkegg’ version ‘1.2.3’ * package encoding: UTF-8 * checking package namespace information ... OK * checking package dependencies ... OK * checking if this is a source package ... OK * checking if there is a namespace ... OK * checking for hidden files and directories ... OK * checking for portable file names ... OK * checking for sufficient/correct file permissions ... OK * checking whether package ‘ggkegg’ can be installed ... OK * checking installed package size ... OK * checking package directory ... OK * checking ‘build’ directory ... OK * checking DESCRIPTION meta-information ... NOTE License stub is invalid DCF. * checking top-level files ... OK * checking for left-over files ... OK * checking index information ... OK * checking package subdirectories ... OK * checking code files for non-ASCII characters ... OK * checking R files for syntax errors ... OK * checking whether the package can be loaded ... OK * checking whether the package can be loaded with stated dependencies ... OK * checking whether the package can be unloaded cleanly ... OK * checking whether the namespace can be loaded with stated dependencies ... OK * checking whether the namespace can be unloaded cleanly ... OK * checking loading without being on the library search path ... OK * checking dependencies in R code ... OK * checking S3 generic/method consistency ... OK * checking replacement functions ... OK * checking foreign function calls ... OK * checking R code for possible problems ... OK * checking Rd files ... OK * checking Rd metadata ... OK * checking Rd cross-references ... OK * checking for missing documentation entries ... OK * checking for code/documentation mismatches ... OK * checking Rd \usage sections ... OK * checking Rd contents ... OK * checking for unstated dependencies in examples ... OK * checking files in ‘vignettes’ ... OK * checking examples ... OK Examples with CPU (user + system) or elapsed time > 5s user system elapsed append_cp 2.460 0.277 9.897 rawMap 1.568 0.713 9.581 pathway_abundance 0.767 0.041 8.296 * checking for unstated dependencies in ‘tests’ ... OK * checking tests ... Running ‘testthat.R’ OK * checking for unstated dependencies in vignettes ... OK * checking package vignettes ... OK * checking re-building of vignette outputs ... OK * checking PDF version of manual ... OK * DONE Status: 1 NOTE See ‘/home/biocbuild/bbs-3.19-bioc/meat/ggkegg.Rcheck/00check.log’ for details.
ggkegg.Rcheck/00install.out
############################################################################## ############################################################################## ### ### Running command: ### ### /home/biocbuild/bbs-3.19-bioc/R/bin/R CMD INSTALL ggkegg ### ############################################################################## ############################################################################## * installing to library ‘/home/biocbuild/bbs-3.19-bioc/R/site-library’ * installing *source* package ‘ggkegg’ ... ** using staged installation ** R ** inst ** byte-compile and prepare package for lazy loading ** help *** installing help indices *** copying figures ** building package indices ** installing vignettes ** testing if installed package can be loaded from temporary location ** testing if installed package can be loaded from final location ** testing if installed package keeps a record of temporary installation path * DONE (ggkegg)
ggkegg.Rcheck/tests/testthat.Rout
R version 4.4.1 (2024-06-14) -- "Race for Your Life" Copyright (C) 2024 The R Foundation for Statistical Computing Platform: x86_64-pc-linux-gnu R is free software and comes with ABSOLUTELY NO WARRANTY. You are welcome to redistribute it under certain conditions. Type 'license()' or 'licence()' for distribution details. R is a collaborative project with many contributors. Type 'contributors()' for more information and 'citation()' on how to cite R or R packages in publications. Type 'demo()' for some demos, 'help()' for on-line help, or 'help.start()' for an HTML browser interface to help. Type 'q()' to quit R. > # This file is part of the standard setup for testthat. > # It is recommended that you do not modify it. > # > # Where should you do additional test configuration? > # Learn more about the roles of various files in: > # * https://r-pkgs.org/tests.html > # * https://testthat.r-lib.org/reference/test_package.html#special-files > > library(testthat) > library(ggkegg) Loading required package: ggplot2 Loading required package: ggraph Loading required package: XML Loading required package: igraph Attaching package: 'igraph' The following object is masked from 'package:testthat': compare The following objects are masked from 'package:stats': decompose, spectrum The following object is masked from 'package:base': union Loading required package: tidygraph Attaching package: 'tidygraph' The following object is masked from 'package:igraph': groups The following object is masked from 'package:testthat': matches The following object is masked from 'package:stats': filter > > test_check("ggkegg") trying URL 'https://rest.kegg.jp/get/M00004' downloaded 2246 bytes trying URL 'https://rest.kegg.jp/get/N00002' downloaded 2119 bytes trying URL 'https://rest.kegg.jp/get/hsa04110/kgml' downloaded 51 KB [ FAIL 0 | WARN 5 | SKIP 0 | PASS 20 ] [ FAIL 0 | WARN 5 | SKIP 0 | PASS 20 ] > > proc.time() user system elapsed 7.504 0.679 11.714
ggkegg.Rcheck/ggkegg-Ex.timings
name | user | system | elapsed | |
append_cp | 2.460 | 0.277 | 9.897 | |
append_label_position | 0.059 | 0.000 | 0.059 | |
assign_deseq2 | 0.009 | 0.000 | 0.009 | |
carrow | 0.001 | 0.000 | 0.001 | |
combine_with_bnlearn | 0.080 | 0.004 | 0.085 | |
convert_id | 0.285 | 0.080 | 0.347 | |
create_test_module | 0.028 | 0.000 | 0.028 | |
create_test_network | 0.003 | 0.000 | 0.004 | |
create_test_pathway | 0.082 | 0.000 | 0.082 | |
edge_matrix | 0.023 | 0.000 | 0.023 | |
edge_numeric | 0.008 | 0.000 | 0.008 | |
edge_numeric_sum | 0.022 | 0.000 | 0.022 | |
geom_kegg | 0.647 | 0.068 | 0.714 | |
geom_node_rect | 0.012 | 0.000 | 0.012 | |
geom_node_rect_kegg | 0.018 | 0.008 | 0.025 | |
geom_node_rect_multi | 0.087 | 0.000 | 0.086 | |
geom_node_shadowtext | 0.016 | 0.000 | 0.016 | |
ggkegg | 0.265 | 0.032 | 2.426 | |
ggplot_add.geom_kegg | 0.029 | 0.000 | 0.029 | |
ggplot_add.geom_node_rect_kegg | 0.018 | 0.000 | 0.018 | |
ggplot_add.geom_node_rect_multi | 0.049 | 0.015 | 0.065 | |
ggplot_add.overlay_raw_map | 0.365 | 0.057 | 0.392 | |
ggplot_add.stamp | 0.012 | 0.008 | 0.020 | |
highlight_entities | 0.592 | 0.072 | 0.632 | |
highlight_module | 0.021 | 0.000 | 0.022 | |
highlight_set_edges | 0.01 | 0.00 | 0.01 | |
highlight_set_nodes | 0.012 | 0.000 | 0.011 | |
module | 0.101 | 0.004 | 0.946 | |
module_abundance | 0.029 | 0.003 | 0.033 | |
module_completeness | 0.005 | 0.000 | 0.005 | |
module_text | 0.006 | 0.000 | 0.007 | |
multi_pathway_native | 0.278 | 0.015 | 1.320 | |
network | 0.067 | 0.000 | 0.915 | |
network_graph | 0.008 | 0.004 | 0.012 | |
node_matrix | 0.011 | 0.000 | 0.011 | |
node_numeric | 0.008 | 0.000 | 0.008 | |
obtain_sequential_module_definition | 0.048 | 0.004 | 0.052 | |
output_overlay_image | 0.001 | 0.000 | 0.001 | |
overlay_raw_map | 0.401 | 0.036 | 0.396 | |
pathway | 0.183 | 0.012 | 0.195 | |
pathway_abundance | 0.767 | 0.041 | 8.296 | |
pathway_info | 0.060 | 0.015 | 1.465 | |
plot_kegg_network | 0.058 | 0.009 | 0.066 | |
plot_module_blocks | 0.056 | 0.000 | 0.056 | |
plot_module_text | 0.064 | 0.000 | 0.064 | |
process_line | 0.013 | 0.000 | 0.013 | |
process_reaction | 0.009 | 0.000 | 0.009 | |
rawMap | 1.568 | 0.713 | 9.581 | |
rawValue | 0.025 | 0.006 | 0.031 | |
return_line_compounds | 0.019 | 0.000 | 0.019 | |
stamp | 0.012 | 0.008 | 0.020 | |