Back to Multiple platform build/check report for BioC 3.19: simplified long |
|
This page was generated on 2024-10-18 20:38 -0400 (Fri, 18 Oct 2024).
Hostname | OS | Arch (*) | R version | Installed pkgs |
---|---|---|---|---|
nebbiolo1 | Linux (Ubuntu 22.04.3 LTS) | x86_64 | 4.4.1 (2024-06-14) -- "Race for Your Life" | 4763 |
palomino7 | Windows Server 2022 Datacenter | x64 | 4.4.1 (2024-06-14 ucrt) -- "Race for Your Life" | 4500 |
merida1 | macOS 12.7.5 Monterey | x86_64 | 4.4.1 (2024-06-14) -- "Race for Your Life" | 4530 |
kjohnson1 | macOS 13.6.6 Ventura | arm64 | 4.4.1 (2024-06-14) -- "Race for Your Life" | 4480 |
Click on any hostname to see more info about the system (e.g. compilers) (*) as reported by 'uname -p', except on Windows and Mac OS X |
Package 492/2300 | Hostname | OS / Arch | INSTALL | BUILD | CHECK | BUILD BIN | ||||||||
cytofQC 1.4.0 (landing page) Jill Lundell
| nebbiolo1 | Linux (Ubuntu 22.04.3 LTS) / x86_64 | OK | OK | OK | |||||||||
palomino7 | Windows Server 2022 Datacenter / x64 | OK | OK | OK | OK | |||||||||
merida1 | macOS 12.7.5 Monterey / x86_64 | OK | OK | OK | OK | |||||||||
kjohnson1 | macOS 13.6.6 Ventura / arm64 | OK | OK | OK | OK | |||||||||
To the developers/maintainers of the cytofQC package: - Allow up to 24 hours (and sometimes 48 hours) for your latest push to git@git.bioconductor.org:packages/cytofQC.git to reflect on this report. See Troubleshooting Build Report for more information. - Use the following Renviron settings to reproduce errors and warnings. - If 'R CMD check' started to fail recently on the Linux builder(s) over a missing dependency, add the missing dependency to 'Suggests:' in your DESCRIPTION file. See Renviron.bioc for more information. |
Package: cytofQC |
Version: 1.4.0 |
Command: /home/biocbuild/bbs-3.19-bioc/R/bin/R CMD check --install=check:cytofQC.install-out.txt --library=/home/biocbuild/bbs-3.19-bioc/R/site-library --timings cytofQC_1.4.0.tar.gz |
StartedAt: 2024-10-16 23:23:17 -0400 (Wed, 16 Oct 2024) |
EndedAt: 2024-10-16 23:30:06 -0400 (Wed, 16 Oct 2024) |
EllapsedTime: 408.9 seconds |
RetCode: 0 |
Status: OK |
CheckDir: cytofQC.Rcheck |
Warnings: 0 |
############################################################################## ############################################################################## ### ### Running command: ### ### /home/biocbuild/bbs-3.19-bioc/R/bin/R CMD check --install=check:cytofQC.install-out.txt --library=/home/biocbuild/bbs-3.19-bioc/R/site-library --timings cytofQC_1.4.0.tar.gz ### ############################################################################## ############################################################################## * using log directory ‘/home/biocbuild/bbs-3.19-bioc/meat/cytofQC.Rcheck’ * using R version 4.4.1 (2024-06-14) * using platform: x86_64-pc-linux-gnu * R was compiled by gcc (Ubuntu 11.4.0-1ubuntu1~22.04) 11.4.0 GNU Fortran (Ubuntu 11.4.0-1ubuntu1~22.04) 11.4.0 * running under: Ubuntu 22.04.5 LTS * using session charset: UTF-8 * checking for file ‘cytofQC/DESCRIPTION’ ... OK * checking extension type ... Package * this is package ‘cytofQC’ version ‘1.4.0’ * package encoding: UTF-8 * checking package namespace information ... OK * checking package dependencies ... OK * checking if this is a source package ... OK * checking if there is a namespace ... OK * checking for hidden files and directories ... OK * checking for portable file names ... OK * checking for sufficient/correct file permissions ... OK * checking whether package ‘cytofQC’ can be installed ... OK * checking installed package size ... OK * checking package directory ... OK * checking ‘build’ directory ... OK * checking DESCRIPTION meta-information ... OK * checking top-level files ... OK * checking for left-over files ... OK * checking index information ... OK * checking package subdirectories ... OK * checking code files for non-ASCII characters ... OK * checking R files for syntax errors ... OK * checking whether the package can be loaded ... OK * checking whether the package can be loaded with stated dependencies ... OK * checking whether the package can be unloaded cleanly ... OK * checking whether the namespace can be loaded with stated dependencies ... OK * checking whether the namespace can be unloaded cleanly ... OK * checking loading without being on the library search path ... OK * checking dependencies in R code ... OK * checking S3 generic/method consistency ... OK * checking replacement functions ... OK * checking foreign function calls ... OK * checking R code for possible problems ... OK * checking Rd files ... NOTE checkRd: (-1) initialGuess.Rd:20-22: Lost braces in \itemize; \value handles \item{}{} directly checkRd: (-1) initialGuess.Rd:23: Lost braces in \itemize; \value handles \item{}{} directly checkRd: (-1) initialGuess.Rd:24: Lost braces in \itemize; \value handles \item{}{} directly checkRd: (-1) initialGuess.Rd:25-26: Lost braces in \itemize; \value handles \item{}{} directly * checking Rd metadata ... OK * checking Rd cross-references ... OK * checking for missing documentation entries ... OK * checking for code/documentation mismatches ... OK * checking Rd \usage sections ... OK * checking Rd contents ... OK * checking for unstated dependencies in examples ... OK * checking files in ‘vignettes’ ... OK * checking examples ... OK Examples with CPU (user + system) or elapsed time > 5s user system elapsed gbmLabel 36.000 0.207 36.208 cytofQCreport 15.140 0.359 14.241 cytofHist 5.641 0.192 5.834 * checking for unstated dependencies in ‘tests’ ... OK * checking tests ... Running ‘testthat.R’ OK * checking for unstated dependencies in vignettes ... OK * checking package vignettes ... OK * checking re-building of vignette outputs ... OK * checking PDF version of manual ... OK * DONE Status: 1 NOTE See ‘/home/biocbuild/bbs-3.19-bioc/meat/cytofQC.Rcheck/00check.log’ for details.
cytofQC.Rcheck/00install.out
############################################################################## ############################################################################## ### ### Running command: ### ### /home/biocbuild/bbs-3.19-bioc/R/bin/R CMD INSTALL cytofQC ### ############################################################################## ############################################################################## * installing to library ‘/home/biocbuild/bbs-3.19-bioc/R/site-library’ * installing *source* package ‘cytofQC’ ... ** using staged installation ** R ** inst ** byte-compile and prepare package for lazy loading ** help *** installing help indices ** building package indices ** installing vignettes ** testing if installed package can be loaded from temporary location ** testing if installed package can be loaded from final location ** testing if installed package keeps a record of temporary installation path * DONE (cytofQC)
cytofQC.Rcheck/tests/testthat.Rout
R version 4.4.1 (2024-06-14) -- "Race for Your Life" Copyright (C) 2024 The R Foundation for Statistical Computing Platform: x86_64-pc-linux-gnu R is free software and comes with ABSOLUTELY NO WARRANTY. You are welcome to redistribute it under certain conditions. Type 'license()' or 'licence()' for distribution details. R is a collaborative project with many contributors. Type 'contributors()' for more information and 'citation()' on how to cite R or R packages in publications. Type 'demo()' for some demos, 'help()' for on-line help, or 'help.start()' for an HTML browser interface to help. Type 'q()' to quit R. > library(testthat) > library(cytofQC) > > test_check("cytofQC") [ FAIL 0 | WARN 0 | SKIP 0 | PASS 7 ] > > proc.time() user system elapsed 21.506 1.092 22.589
cytofQC.Rcheck/cytofQC-Ex.timings
name | user | system | elapsed | |
cytofHist | 5.641 | 0.192 | 5.834 | |
cytofQCreport | 15.140 | 0.359 | 14.241 | |
gbmLabel | 36.000 | 0.207 | 36.208 | |
initialBead | 0.559 | 0.036 | 0.595 | |
initialDead | 1.517 | 0.068 | 1.585 | |
initialDebris | 0.610 | 0.028 | 0.637 | |
initialDoublet | 0.675 | 0.024 | 0.699 | |
initialGuess | 0.541 | 0.016 | 0.556 | |
labelQC | 3.325 | 0.004 | 3.328 | |
modelData | 0.601 | 0.000 | 0.601 | |
plotInitialGuess | 0.606 | 0.004 | 0.611 | |
readCytof | 0.933 | 0.016 | 0.949 | |
rfLabel | 2.564 | 0.076 | 2.640 | |
s3vmLabel | 1.619 | 0.012 | 1.632 | |
scores | 4.300 | 0.044 | 4.344 | |
svmLabel | 1.636 | 0.079 | 1.716 | |