Back to Multiple platform build/check report for BioC 3.19:   simplified   long
AB[C]DEFGHIJKLMNOPQRSTUVWXYZ

This page was generated on 2024-10-18 20:40 -0400 (Fri, 18 Oct 2024).

HostnameOSArch (*)R versionInstalled pkgs
nebbiolo1Linux (Ubuntu 22.04.3 LTS)x86_644.4.1 (2024-06-14) -- "Race for Your Life" 4763
palomino7Windows Server 2022 Datacenterx644.4.1 (2024-06-14 ucrt) -- "Race for Your Life" 4500
merida1macOS 12.7.5 Montereyx86_644.4.1 (2024-06-14) -- "Race for Your Life" 4530
kjohnson1macOS 13.6.6 Venturaarm644.4.1 (2024-06-14) -- "Race for Your Life" 4480
Click on any hostname to see more info about the system (e.g. compilers)      (*) as reported by 'uname -p', except on Windows and Mac OS X

Package 350/2300HostnameOS / ArchINSTALLBUILDCHECKBUILD BIN
chromVAR 1.26.0  (landing page)
Alicia Schep
Snapshot Date: 2024-10-16 14:00 -0400 (Wed, 16 Oct 2024)
git_url: https://git.bioconductor.org/packages/chromVAR
git_branch: RELEASE_3_19
git_last_commit: 8150876
git_last_commit_date: 2024-04-30 11:01:15 -0400 (Tue, 30 Apr 2024)
nebbiolo1Linux (Ubuntu 22.04.3 LTS) / x86_64  OK    OK    OK  UNNEEDED, same version is already published
palomino7Windows Server 2022 Datacenter / x64  OK    OK    OK    OK  UNNEEDED, same version is already published
merida1macOS 12.7.5 Monterey / x86_64  OK    OK    OK    OK  UNNEEDED, same version is already published
kjohnson1macOS 13.6.6 Ventura / arm64  OK    OK    OK    OK  NO, package depends on 'TFBSTools' which is only available as a source package that needs compilation


CHECK results for chromVAR on merida1

To the developers/maintainers of the chromVAR package:
- Allow up to 24 hours (and sometimes 48 hours) for your latest push to git@git.bioconductor.org:packages/chromVAR.git to reflect on this report. See Troubleshooting Build Report for more information.
- Use the following Renviron settings to reproduce errors and warnings.
- If 'R CMD check' started to fail recently on the Linux builder(s) over a missing dependency, add the missing dependency to 'Suggests:' in your DESCRIPTION file. See Renviron.bioc for more information.

raw results


Summary

Package: chromVAR
Version: 1.26.0
Command: /Library/Frameworks/R.framework/Resources/bin/R CMD check --install=check:chromVAR.install-out.txt --library=/Library/Frameworks/R.framework/Resources/library --no-vignettes --timings chromVAR_1.26.0.tar.gz
StartedAt: 2024-10-17 02:43:40 -0400 (Thu, 17 Oct 2024)
EndedAt: 2024-10-17 02:59:27 -0400 (Thu, 17 Oct 2024)
EllapsedTime: 947.2 seconds
RetCode: 0
Status:   OK  
CheckDir: chromVAR.Rcheck
Warnings: 0

Command output

##############################################################################
##############################################################################
###
### Running command:
###
###   /Library/Frameworks/R.framework/Resources/bin/R CMD check --install=check:chromVAR.install-out.txt --library=/Library/Frameworks/R.framework/Resources/library --no-vignettes --timings chromVAR_1.26.0.tar.gz
###
##############################################################################
##############################################################################


* using log directory ‘/Users/biocbuild/bbs-3.19-bioc/meat/chromVAR.Rcheck’
* using R version 4.4.1 (2024-06-14)
* using platform: x86_64-apple-darwin20
* R was compiled by
    Apple clang version 14.0.0 (clang-1400.0.29.202)
    GNU Fortran (GCC) 12.2.0
* running under: macOS Monterey 12.7.6
* using session charset: UTF-8
* using option ‘--no-vignettes’
* checking for file ‘chromVAR/DESCRIPTION’ ... OK
* checking extension type ... Package
* this is package ‘chromVAR’ version ‘1.26.0’
* checking package namespace information ... OK
* checking package dependencies ... OK
* checking if this is a source package ... OK
* checking if there is a namespace ... OK
* checking for hidden files and directories ... OK
* checking for portable file names ... OK
* checking for sufficient/correct file permissions ... OK
* checking whether package ‘chromVAR’ can be installed ... OK
* used C++ compiler: ‘Apple clang version 14.0.0 (clang-1400.0.29.202)’
* used SDK: ‘MacOSX11.3.sdk’
* checking C++ specification ... NOTE
  Specified C++11: please drop specification unless essential
* checking installed package size ... OK
* checking package directory ... OK
* checking ‘build’ directory ... OK
* checking DESCRIPTION meta-information ... NOTE
License stub records with missing/empty fields:
  Record: 1 Field(s): COPYRIGHT HOLDER
* checking top-level files ... OK
* checking for left-over files ... OK
* checking index information ... OK
* checking package subdirectories ... OK
* checking code files for non-ASCII characters ... OK
* checking R files for syntax errors ... OK
* checking whether the package can be loaded ... OK
* checking whether the package can be loaded with stated dependencies ... OK
* checking whether the package can be unloaded cleanly ... OK
* checking whether the namespace can be loaded with stated dependencies ... OK
* checking whether the namespace can be unloaded cleanly ... OK
* checking dependencies in R code ... OK
* checking S3 generic/method consistency ... OK
* checking replacement functions ... OK
* checking foreign function calls ... OK
* checking R code for possible problems ... NOTE
left_right_to_grglist: no visible global function definition for
  ‘GenomicRangesList’
Undefined global functions or variables:
  GenomicRangesList
* checking Rd files ... OK
* checking Rd metadata ... OK
* checking Rd cross-references ... OK
* checking for missing documentation entries ... OK
* checking for code/documentation mismatches ... OK
* checking Rd \usage sections ... OK
* checking Rd contents ... OK
* checking for unstated dependencies in examples ... OK
* checking contents of ‘data’ directory ... OK
* checking data for non-ASCII characters ... OK
* checking LazyData ... OK
* checking data for ASCII and uncompressed saves ... OK
* checking line endings in C/C++/Fortran sources/headers ... OK
* checking line endings in Makefiles ... OK
* checking compilation flags in Makevars ... OK
* checking for GNU extensions in Makefiles ... OK
* checking for portable use of $(BLAS_LIBS) and $(LAPACK_LIBS) ... OK
* checking use of PKG_*FLAGS in Makefiles ... OK
* checking compiled code ... NOTE
Note: information on .o files is not available
* checking files in ‘vignettes’ ... OK
* checking examples ... OK
Examples with CPU (user + system) or elapsed time > 5s
                          user system elapsed
deviationsCovariability 31.512  1.389  38.406
getJasparMotifs         12.610  0.314  15.149
pwmDistance             12.568  0.318  15.629
getCounts                9.035  1.287  12.740
computeVariability       9.357  0.295  11.344
plotVariability          9.238  0.074  11.117
computeDeviations        6.685  0.156   8.075
* checking for unstated dependencies in ‘tests’ ... OK
* checking tests ...
  Running ‘testthat.R’
 OK
* checking for unstated dependencies in vignettes ... OK
* checking package vignettes ... OK
* checking running R code from vignettes ... SKIPPED
* checking re-building of vignette outputs ... SKIPPED
* checking PDF version of manual ... OK
* DONE

Status: 4 NOTEs
See
  ‘/Users/biocbuild/bbs-3.19-bioc/meat/chromVAR.Rcheck/00check.log’
for details.


Installation output

chromVAR.Rcheck/00install.out

##############################################################################
##############################################################################
###
### Running command:
###
###   /Library/Frameworks/R.framework/Resources/bin/R CMD INSTALL chromVAR
###
##############################################################################
##############################################################################


* installing to library ‘/Library/Frameworks/R.framework/Versions/4.4-x86_64/Resources/library’
* installing *source* package ‘chromVAR’ ...
** using staged installation
** libs
using C++ compiler: ‘Apple clang version 14.0.0 (clang-1400.0.29.202)’
using C++11
using SDK: ‘MacOSX11.3.sdk’
clang++ -arch x86_64 -std=gnu++11 -I"/Library/Frameworks/R.framework/Resources/include" -DNDEBUG  -I'/Library/Frameworks/R.framework/Versions/4.4-x86_64/Resources/library/Rcpp/include' -I'/Library/Frameworks/R.framework/Versions/4.4-x86_64/Resources/library/RcppArmadillo/include' -I/opt/R/x86_64/include    -fPIC  -falign-functions=64 -Wall -g -O2   -c RcppExports.cpp -o RcppExports.o
clang++ -arch x86_64 -std=gnu++11 -I"/Library/Frameworks/R.framework/Resources/include" -DNDEBUG  -I'/Library/Frameworks/R.framework/Versions/4.4-x86_64/Resources/library/Rcpp/include' -I'/Library/Frameworks/R.framework/Versions/4.4-x86_64/Resources/library/RcppArmadillo/include' -I/opt/R/x86_64/include    -fPIC  -falign-functions=64 -Wall -g -O2   -c pwm_similarity.cpp -o pwm_similarity.o
clang++ -arch x86_64 -std=gnu++11 -I"/Library/Frameworks/R.framework/Resources/include" -DNDEBUG  -I'/Library/Frameworks/R.framework/Versions/4.4-x86_64/Resources/library/Rcpp/include' -I'/Library/Frameworks/R.framework/Versions/4.4-x86_64/Resources/library/RcppArmadillo/include' -I/opt/R/x86_64/include    -fPIC  -falign-functions=64 -Wall -g -O2   -c utils.cpp -o utils.o
clang++ -arch x86_64 -std=gnu++11 -dynamiclib -Wl,-headerpad_max_install_names -undefined dynamic_lookup -L/Library/Frameworks/R.framework/Resources/lib -L/opt/R/x86_64/lib -o chromVAR.so RcppExports.o pwm_similarity.o utils.o -L/Library/Frameworks/R.framework/Resources/lib -lRlapack -L/Library/Frameworks/R.framework/Resources/lib -lRblas -L/opt/gfortran/lib/gcc/x86_64-apple-darwin20.0/12.2.0 -L/opt/gfortran/lib -lgfortran -lquadmath -F/Library/Frameworks/R.framework/.. -framework R -Wl,-framework -Wl,CoreFoundation
installing to /Library/Frameworks/R.framework/Versions/4.4-x86_64/Resources/library/00LOCK-chromVAR/00new/chromVAR/libs
** R
** data
*** moving datasets to lazyload DB
** inst
** byte-compile and prepare package for lazy loading
** help
*** installing help indices
** building package indices
** installing vignettes
** testing if installed package can be loaded from temporary location
** checking absolute paths in shared objects and dynamic libraries
** testing if installed package can be loaded from final location
** testing if installed package keeps a record of temporary installation path
* DONE (chromVAR)

Tests output

chromVAR.Rcheck/tests/testthat.Rout


R version 4.4.1 (2024-06-14) -- "Race for Your Life"
Copyright (C) 2024 The R Foundation for Statistical Computing
Platform: x86_64-apple-darwin20

R is free software and comes with ABSOLUTELY NO WARRANTY.
You are welcome to redistribute it under certain conditions.
Type 'license()' or 'licence()' for distribution details.

R is a collaborative project with many contributors.
Type 'contributors()' for more information and
'citation()' on how to cite R or R packages in publications.

Type 'demo()' for some demos, 'help()' for on-line help, or
'help.start()' for an HTML browser interface to help.
Type 'q()' to quit R.

> library(testthat)
> library(chromVAR)

> BiocParallel::register(BiocParallel::SerialParam())
> test_check("chromVAR")
[ FAIL 0 | WARN 0 | SKIP 0 | PASS 65 ]
> 
> proc.time()
   user  system elapsed 
 49.954   3.375  64.468 

Example timings

chromVAR.Rcheck/chromVAR-Ex.timings

nameusersystemelapsed
addGCBias2.3700.0962.946
annotationMatches0.0280.0030.035
chromVAR_theme0.2510.0380.345
computeDeviations6.6850.1568.075
computeExpectations0.0500.0020.061
computeVariability 9.357 0.29511.344
counts0.0160.0020.022
deviationScores0.0120.0020.015
deviations0.0120.0020.016
deviationsCovariability31.512 1.38938.406
deviationsTsne0.1150.0060.143
differentialDeviations0.0220.0020.026
differentialVariability0.0490.0020.061
example_counts0.0020.0030.005
filterPeaks0.4600.0050.542
filterSamples0.0910.0020.107
filterSamplesPlot0.2270.0030.261
getAnnotations0.7210.0290.874
getBackgroundPeaks0.8140.0581.006
getCisGroups0.2240.0030.267
getCounts 9.035 1.28712.740
getFragmentsPerPeak0.0150.0020.022
getFragmentsPerSample0.0150.0020.020
getJasparMotifs12.610 0.31415.149
getPeaks0.3150.0100.383
getPermutedData1.6850.0552.032
getSampleCorrelation0.0300.0020.033
getSampleDepths0.2100.0050.249
getSampleDistance0.0320.0020.044
getTotalFragments0.0170.0020.023
makeBiasBins0.1040.0020.124
makePermutedSets2.0630.1872.694
matchKmers2.2980.1693.121
mini_counts0.0020.0030.016
mini_dev0.0020.0020.003
mini_ix0.0010.0020.006
plotVariability 9.238 0.07411.117
pwmDistance12.568 0.31815.629
rbind-chromVARDeviations-method0.1340.0020.151