Back to Multiple platform build/check report for BioC 3.19: simplified long |
|
This page was generated on 2024-10-18 20:38 -0400 (Fri, 18 Oct 2024).
Hostname | OS | Arch (*) | R version | Installed pkgs |
---|---|---|---|---|
nebbiolo1 | Linux (Ubuntu 22.04.3 LTS) | x86_64 | 4.4.1 (2024-06-14) -- "Race for Your Life" | 4763 |
palomino7 | Windows Server 2022 Datacenter | x64 | 4.4.1 (2024-06-14 ucrt) -- "Race for Your Life" | 4500 |
merida1 | macOS 12.7.5 Monterey | x86_64 | 4.4.1 (2024-06-14) -- "Race for Your Life" | 4530 |
kjohnson1 | macOS 13.6.6 Ventura | arm64 | 4.4.1 (2024-06-14) -- "Race for Your Life" | 4480 |
Click on any hostname to see more info about the system (e.g. compilers) (*) as reported by 'uname -p', except on Windows and Mac OS X |
Package 317/2300 | Hostname | OS / Arch | INSTALL | BUILD | CHECK | BUILD BIN | ||||||||
cfdnakit 1.2.0 (landing page) Pitithat Puranachot
| nebbiolo1 | Linux (Ubuntu 22.04.3 LTS) / x86_64 | OK | OK | OK | ![]() | ||||||||
palomino7 | Windows Server 2022 Datacenter / x64 | OK | OK | OK | OK | ![]() | ||||||||
merida1 | macOS 12.7.5 Monterey / x86_64 | OK | OK | OK | OK | ![]() | ||||||||
kjohnson1 | macOS 13.6.6 Ventura / arm64 | OK | OK | OK | OK | ![]() | ||||||||
To the developers/maintainers of the cfdnakit package: - Allow up to 24 hours (and sometimes 48 hours) for your latest push to git@git.bioconductor.org:packages/cfdnakit.git to reflect on this report. See Troubleshooting Build Report for more information. - Use the following Renviron settings to reproduce errors and warnings. - If 'R CMD check' started to fail recently on the Linux builder(s) over a missing dependency, add the missing dependency to 'Suggests:' in your DESCRIPTION file. See Renviron.bioc for more information. |
Package: cfdnakit |
Version: 1.2.0 |
Command: /home/biocbuild/bbs-3.19-bioc/R/bin/R CMD check --install=check:cfdnakit.install-out.txt --library=/home/biocbuild/bbs-3.19-bioc/R/site-library --timings cfdnakit_1.2.0.tar.gz |
StartedAt: 2024-10-16 22:37:55 -0400 (Wed, 16 Oct 2024) |
EndedAt: 2024-10-16 22:41:35 -0400 (Wed, 16 Oct 2024) |
EllapsedTime: 219.4 seconds |
RetCode: 0 |
Status: OK |
CheckDir: cfdnakit.Rcheck |
Warnings: 0 |
############################################################################## ############################################################################## ### ### Running command: ### ### /home/biocbuild/bbs-3.19-bioc/R/bin/R CMD check --install=check:cfdnakit.install-out.txt --library=/home/biocbuild/bbs-3.19-bioc/R/site-library --timings cfdnakit_1.2.0.tar.gz ### ############################################################################## ############################################################################## * using log directory ‘/home/biocbuild/bbs-3.19-bioc/meat/cfdnakit.Rcheck’ * using R version 4.4.1 (2024-06-14) * using platform: x86_64-pc-linux-gnu * R was compiled by gcc (Ubuntu 11.4.0-1ubuntu1~22.04) 11.4.0 GNU Fortran (Ubuntu 11.4.0-1ubuntu1~22.04) 11.4.0 * running under: Ubuntu 22.04.5 LTS * using session charset: UTF-8 * checking for file ‘cfdnakit/DESCRIPTION’ ... OK * this is package ‘cfdnakit’ version ‘1.2.0’ * package encoding: UTF-8 * checking package namespace information ... OK * checking package dependencies ... OK * checking if this is a source package ... OK * checking if there is a namespace ... OK * checking for hidden files and directories ... OK * checking for portable file names ... OK * checking for sufficient/correct file permissions ... OK * checking whether package ‘cfdnakit’ can be installed ... OK * checking installed package size ... OK * checking package directory ... OK * checking ‘build’ directory ... OK * checking DESCRIPTION meta-information ... OK * checking top-level files ... OK * checking for left-over files ... OK * checking index information ... OK * checking package subdirectories ... OK * checking code files for non-ASCII characters ... OK * checking R files for syntax errors ... OK * checking whether the package can be loaded ... OK * checking whether the package can be loaded with stated dependencies ... OK * checking whether the package can be unloaded cleanly ... OK * checking whether the namespace can be loaded with stated dependencies ... OK * checking whether the namespace can be unloaded cleanly ... OK * checking loading without being on the library search path ... OK * checking dependencies in R code ... OK * checking S3 generic/method consistency ... OK * checking replacement functions ... OK * checking foreign function calls ... OK * checking R code for possible problems ... OK * checking Rd files ... OK * checking Rd metadata ... OK * checking Rd cross-references ... OK * checking for missing documentation entries ... OK * checking for code/documentation mismatches ... OK * checking Rd \usage sections ... OK * checking Rd contents ... OK * checking for unstated dependencies in examples ... OK * checking files in ‘vignettes’ ... OK * checking examples ... OK Examples with CPU (user + system) or elapsed time > 5s user system elapsed cfdnakit-package 11.319 0.344 11.665 call_cnv 10.467 0.228 10.695 plot_cnv_solution 10.560 0.092 10.652 plot_transformed_sl 10.104 0.108 10.213 plot_distance_matrix 10.086 0.064 10.150 calculate_CES_score 9.501 0.556 10.060 segmentByPSCB 9.397 0.060 9.457 get_solution_table 9.377 0.060 9.437 get_zscore_profile 9.169 0.128 9.297 create_PoN 6.885 0.132 7.019 plot_sl_ratio 5.923 0.020 5.943 * checking for unstated dependencies in vignettes ... OK * checking package vignettes ... OK * checking re-building of vignette outputs ... OK * checking PDF version of manual ... OK * DONE Status: OK
cfdnakit.Rcheck/00install.out
############################################################################## ############################################################################## ### ### Running command: ### ### /home/biocbuild/bbs-3.19-bioc/R/bin/R CMD INSTALL cfdnakit ### ############################################################################## ############################################################################## * installing to library ‘/home/biocbuild/bbs-3.19-bioc/R/site-library’ * installing *source* package ‘cfdnakit’ ... ** using staged installation ** R ** inst ** byte-compile and prepare package for lazy loading ** help *** installing help indices ** building package indices ** installing vignettes ** testing if installed package can be loaded from temporary location ** testing if installed package can be loaded from final location ** testing if installed package keeps a record of temporary installation path * DONE (cfdnakit)
cfdnakit.Rcheck/cfdnakit-Ex.timings
name | user | system | elapsed | |
calculate_CES_score | 9.501 | 0.556 | 10.060 | |
call_cnv | 10.467 | 0.228 | 10.695 | |
cfdnakit-package | 11.319 | 0.344 | 11.665 | |
create_PoN | 6.885 | 0.132 | 7.019 | |
extract_insert_size | 0.168 | 0.000 | 0.168 | |
get_fragment_profile | 2.689 | 0.004 | 2.693 | |
get_solution_table | 9.377 | 0.060 | 9.437 | |
get_zscore_profile | 9.169 | 0.128 | 9.297 | |
plot_cnv_solution | 10.560 | 0.092 | 10.652 | |
plot_distance_matrix | 10.086 | 0.064 | 10.150 | |
plot_fragment_dist | 0.438 | 0.000 | 0.437 | |
plot_sl_ratio | 5.923 | 0.020 | 5.943 | |
plot_transformed_sl | 10.104 | 0.108 | 10.213 | |
read_bamfile | 2.845 | 0.004 | 2.848 | |
segmentByPSCB | 9.397 | 0.060 | 9.457 | |
test_isize_KolmogorovSmirnov | 0.263 | 0.004 | 0.266 | |