Back to Multiple platform build/check report for BioC 3.19:   simplified   long
AB[C]DEFGHIJKLMNOPQRSTUVWXYZ

This page was generated on 2024-10-18 20:41 -0400 (Fri, 18 Oct 2024).

HostnameOSArch (*)R versionInstalled pkgs
nebbiolo1Linux (Ubuntu 22.04.3 LTS)x86_644.4.1 (2024-06-14) -- "Race for Your Life" 4763
palomino7Windows Server 2022 Datacenterx644.4.1 (2024-06-14 ucrt) -- "Race for Your Life" 4500
merida1macOS 12.7.5 Montereyx86_644.4.1 (2024-06-14) -- "Race for Your Life" 4530
kjohnson1macOS 13.6.6 Venturaarm644.4.1 (2024-06-14) -- "Race for Your Life" 4480
Click on any hostname to see more info about the system (e.g. compilers)      (*) as reported by 'uname -p', except on Windows and Mac OS X

Package 303/2300HostnameOS / ArchINSTALLBUILDCHECKBUILD BIN
cellmigRation 1.12.0  (landing page)
Waldir Leoncio
Snapshot Date: 2024-10-16 14:00 -0400 (Wed, 16 Oct 2024)
git_url: https://git.bioconductor.org/packages/cellmigRation
git_branch: RELEASE_3_19
git_last_commit: 38ab506
git_last_commit_date: 2024-04-30 11:33:08 -0400 (Tue, 30 Apr 2024)
nebbiolo1Linux (Ubuntu 22.04.3 LTS) / x86_64  OK    OK    OK  UNNEEDED, same version is already published
palomino7Windows Server 2022 Datacenter / x64  OK    OK    OK    OK  UNNEEDED, same version is already published
merida1macOS 12.7.5 Monterey / x86_64  OK    OK    OK    OK  UNNEEDED, same version is already published
kjohnson1macOS 13.6.6 Ventura / arm64  OK    OK    OK    OK  UNNEEDED, same version is already published


CHECK results for cellmigRation on kjohnson1

To the developers/maintainers of the cellmigRation package:
- Allow up to 24 hours (and sometimes 48 hours) for your latest push to git@git.bioconductor.org:packages/cellmigRation.git to reflect on this report. See Troubleshooting Build Report for more information.
- Use the following Renviron settings to reproduce errors and warnings.
- If 'R CMD check' started to fail recently on the Linux builder(s) over a missing dependency, add the missing dependency to 'Suggests:' in your DESCRIPTION file. See Renviron.bioc for more information.

raw results


Summary

Package: cellmigRation
Version: 1.12.0
Command: /Library/Frameworks/R.framework/Resources/bin/R CMD check --install=check:cellmigRation.install-out.txt --library=/Library/Frameworks/R.framework/Resources/library --no-vignettes --timings cellmigRation_1.12.0.tar.gz
StartedAt: 2024-10-17 15:29:44 -0400 (Thu, 17 Oct 2024)
EndedAt: 2024-10-17 15:32:31 -0400 (Thu, 17 Oct 2024)
EllapsedTime: 166.8 seconds
RetCode: 0
Status:   OK  
CheckDir: cellmigRation.Rcheck
Warnings: 0

Command output

##############################################################################
##############################################################################
###
### Running command:
###
###   /Library/Frameworks/R.framework/Resources/bin/R CMD check --install=check:cellmigRation.install-out.txt --library=/Library/Frameworks/R.framework/Resources/library --no-vignettes --timings cellmigRation_1.12.0.tar.gz
###
##############################################################################
##############################################################################


* using log directory ‘/Users/biocbuild/bbs-3.19-bioc/meat/cellmigRation.Rcheck’
* using R version 4.4.1 (2024-06-14)
* using platform: aarch64-apple-darwin20
* R was compiled by
    Apple clang version 14.0.0 (clang-1400.0.29.202)
    GNU Fortran (GCC) 12.2.0
* running under: macOS Ventura 13.6.6
* using session charset: UTF-8
* using option ‘--no-vignettes’
* checking for file ‘cellmigRation/DESCRIPTION’ ... OK
* checking extension type ... Package
* this is package ‘cellmigRation’ version ‘1.12.0’
* package encoding: UTF-8
* checking package namespace information ... OK
* checking package dependencies ... OK
* checking if this is a source package ... OK
* checking if there is a namespace ... OK
* checking for hidden files and directories ... OK
* checking for portable file names ... OK
* checking for sufficient/correct file permissions ... OK
* checking whether package ‘cellmigRation’ can be installed ... OK
* checking installed package size ... OK
* checking package directory ... OK
* checking ‘build’ directory ... OK
* checking DESCRIPTION meta-information ... OK
* checking top-level files ... OK
* checking for left-over files ... OK
* checking index information ... OK
* checking package subdirectories ... OK
* checking code files for non-ASCII characters ... OK
* checking R files for syntax errors ... OK
* checking whether the package can be loaded ... OK
* checking whether the package can be loaded with stated dependencies ... OK
* checking whether the package can be unloaded cleanly ... OK
* checking whether the namespace can be loaded with stated dependencies ... OK
* checking whether the namespace can be unloaded cleanly ... OK
* checking dependencies in R code ... OK
* checking S3 generic/method consistency ... OK
* checking replacement functions ... OK
* checking foreign function calls ... OK
* checking R code for possible problems ... OK
* checking Rd files ... OK
* checking Rd metadata ... OK
* checking Rd cross-references ... OK
* checking for missing documentation entries ... OK
* checking for code/documentation mismatches ... OK
* checking Rd \usage sections ... NOTE
Documented arguments not in \usage in Rd file 'fixDA.Rd':
  ‘object’

Documented arguments not in \usage in Rd file 'fixFM1.Rd':
  ‘object’

Documented arguments not in \usage in Rd file 'fixFM2.Rd':
  ‘object’

Documented arguments not in \usage in Rd file 'fixFM3.Rd':
  ‘object’

Documented arguments not in \usage in Rd file 'fixFM4.Rd':
  ‘object’

Documented arguments not in \usage in Rd file 'fixFM5.Rd':
  ‘object’

Documented arguments not in \usage in Rd file 'fixFM6.Rd':
  ‘object’

Documented arguments not in \usage in Rd file 'fixID2.Rd':
  ‘TimeInterval’

Documented arguments not in \usage in Rd file 'fixID3.Rd':
  ‘TimeInterval’

Documented arguments not in \usage in Rd file 'fixID4.Rd':
  ‘TimeInterval’

Documented arguments not in \usage in Rd file 'fixMSD.Rd':
  ‘object’

Documented arguments not in \usage in Rd file 'fixPER1.Rd':
  ‘x’

Documented arguments not in \usage in Rd file 'fixPER2.Rd':
  ‘x’

Documented arguments not in \usage in Rd file 'innerBondRaster.Rd':
  ‘i’

Functions with \usage entries need to have the appropriate \alias
entries, and all their arguments documented.
The \usage entries must correspond to syntactically valid R code.
See chapter ‘Writing R documentation files’ in the ‘Writing R
Extensions’ manual.
* checking Rd contents ... OK
* checking for unstated dependencies in examples ... OK
* checking contents of ‘data’ directory ... OK
* checking data for non-ASCII characters ... OK
* checking data for ASCII and uncompressed saves ... OK
* checking files in ‘vignettes’ ... OK
* checking examples ... OK
* checking for unstated dependencies in ‘tests’ ... OK
* checking tests ...
  Running ‘runTests.R’
 OK
* checking for unstated dependencies in vignettes ... OK
* checking package vignettes ... OK
* checking running R code from vignettes ... SKIPPED
* checking re-building of vignette outputs ... SKIPPED
* checking PDF version of manual ... OK
* DONE

Status: 1 NOTE
See
  ‘/Users/biocbuild/bbs-3.19-bioc/meat/cellmigRation.Rcheck/00check.log’
for details.


Installation output

cellmigRation.Rcheck/00install.out

##############################################################################
##############################################################################
###
### Running command:
###
###   /Library/Frameworks/R.framework/Resources/bin/R CMD INSTALL cellmigRation
###
##############################################################################
##############################################################################


* installing to library ‘/Library/Frameworks/R.framework/Versions/4.4-arm64/Resources/library’
* installing *source* package ‘cellmigRation’ ...
** using staged installation
** R
** data
** inst
** byte-compile and prepare package for lazy loading
** help
*** installing help indices
** building package indices
** installing vignettes
** testing if installed package can be loaded from temporary location
** testing if installed package can be loaded from final location
** testing if installed package keeps a record of temporary installation path
* DONE (cellmigRation)

Tests output

cellmigRation.Rcheck/tests/runTests.Rout


R version 4.4.1 (2024-06-14) -- "Race for Your Life"
Copyright (C) 2024 The R Foundation for Statistical Computing
Platform: aarch64-apple-darwin20

R is free software and comes with ABSOLUTELY NO WARRANTY.
You are welcome to redistribute it under certain conditions.
Type 'license()' or 'licence()' for distribution details.

R is a collaborative project with many contributors.
Type 'contributors()' for more information and
'citation()' on how to cite R or R packages in publications.

Type 'demo()' for some demos, 'help()' for on-line help, or
'help.start()' for an HTML browser interface to help.
Type 'q()' to quit R.

> BiocGenerics:::testPackage("cellmigRation")


RUNIT TEST PROTOCOL -- Thu Oct 17 15:32:13 2024 
*********************************************** 
Number of test functions: 7 
Number of errors: 0 
Number of failures: 0 

 
1 Test Suite : 
cellmigRation RUnit Tests - 7 test functions, 0 errors, 0 failures
Number of test functions: 7 
Number of errors: 0 
Number of failures: 0 
> 
> proc.time()
   user  system elapsed 
  3.536   0.321   4.327 

Example timings

cellmigRation.Rcheck/cellmigRation-Ex.timings

nameusersystemelapsed
AddDimension0.0020.0000.002
CellMig-class0.0390.0030.044
CellMigPCA1.5150.0401.742
CellMigPCAclust0.0100.0020.012
CellMigPCAclustALL0.7460.0090.873
CellTracker0.0260.0030.031
CellTrackerMainLoop0.0070.0130.032
CentroidArray0.0260.0030.036
CentroidValidation0.5410.0190.642
ComputeTracksStats0.0340.0040.042
DetectRadii0.0030.0010.003
DiAutoCor1.5800.0281.801
DiRatio0.0200.0020.025
DiRatioPlot0.0390.0130.056
EstimateDiameterRange0.0170.0030.024
FMI0.5540.0060.618
FianlizeOptiParams0.0010.0000.001
FilterTrackedCells0.0030.0000.003
FinRes0.7580.0190.892
ForwardMigration1.0960.0101.263
GenAllCombos0.0030.0010.003
LinearConv20.0210.0020.024
LoadTiff0.0010.0000.001
MSD1.9520.0692.290
MakeHypercube0.0010.0010.001
MigrationStats0.0010.0010.002
NextOdd0.0000.0000.001
NonParallel4OptimizeParams0.0010.0000.002
NonParallelTrackLoop0.0000.0000.001
OptimizeParams0.0240.0040.029
OptimizeParamsMainLoop0.0060.0130.030
Parallel4OptimizeParams0.0010.0000.001
ParallelTrackLoop000
PerAndSpeed0.3240.0370.443
PlotTracksSeparately0.0130.0020.016
PostProcessTracking0.0000.0000.001
Prep4OptimizeParams0.0980.0040.117
ThreeConditions0.0200.0040.025
TrackCellsDataset0.0200.0030.028
TrajectoryDataset0.0310.0020.035
ValidateTrackingArgs0.0010.0000.001
VeAutoCor1.1480.0251.306
VisualizeCntr0.0020.0010.003
VisualizeImg0.0050.0010.007
VisualizeStackCentroids0.0650.0090.088
WSADataset0.0090.0020.011
aggregateFR0.6770.0090.775
aggregateTrackedCells0.0280.0050.038
bpass0.0810.0050.099
circshift0.0000.0000.001
cntrd0.7590.0270.891
fixDA000
fixExpName0.0000.0010.000
fixFM1000
fixFM2000
fixFM3000
fixFM4000
fixFM5000
fixFM60.0000.0000.001
fixID10.0000.0000.001
fixMSD0.0010.0000.001
fixPER10.0010.0000.001
fixPER2000
fixPER30.0010.0010.002
getAvailableAggrMetrics0.9800.0151.127
getCellImages0.2550.7901.252
getCellMigSlot0.4100.5031.084
getCellTrackMeta0.0240.0030.030
getCellTrackStats0.0270.0040.036
getCellTracks0.0230.0040.029
getCellsMeta0.0230.0030.037
getCellsStats0.0260.0040.032
getDACtable2.0550.0362.378
getDiRatio0.0360.0040.043
getFMItable0.5100.0080.568
getForMigtable0.6200.0090.721
getImageCentroids0.0310.0050.040
getImageStacks0.0670.0080.084
getMSDtable3.8170.0744.409
getOptimizedParameters0.0230.0020.027
getOptimizedParams0.0230.0030.032
getPerAndSpeed0.3200.0380.427
getPopulationStats0.0220.0030.031
getProcessedImages0.2460.8561.310
getProcessingStatus0.0240.0030.030
getResults0.7090.0190.818
getTracks0.0250.0020.031
getVACtable1.1900.0161.367
initializeTrackParams000
innerBondRaster0.0010.0000.002
internalPermutation0.0010.0000.002
matfix0.0010.0000.001
nontrivialBondTracking0.0010.0010.002
pkfnd0.8000.0310.942
plot3DAllTracks0.0010.0000.000
plot3DTracks000
plotAllTracks0.0230.0040.033
plotSampleTracks0.0190.0040.027
preProcCellMig0.0110.0010.013
rmPreProcessing0.1070.0080.124
runTrackingPermutation0.0020.0010.003
setAnalyticParams0.0220.0020.032
setCellMigSlot0.0330.0030.040
setCellTracks0.0230.0020.030
setCellsMeta0.0240.0030.031
setExpName0.0310.0030.038
setOptimizedParams0.0220.0030.030
setProcessedImages0.0230.0020.027
setProcessingStatus0.0230.0030.028
setTrackedCellsMeta0.0240.0030.028
setTrackedCentroids0.0220.0030.032
setTrackedPositions0.0400.0040.048
setTrackingStats0.0230.0020.029
sinkAway0.0010.0000.001
subNetworkTracking0.0020.0010.001
track0.0110.0010.014
trackHypercubeBuild0.0000.0000.001
trackSlideProcessing0.0000.0010.000
trackSlideWrapUp000
trivialBondRaster0.0010.0000.002
trivialBondTracking000
visualizeCellTracks0.0690.0090.096
visualizeTrcks0.0430.0030.057
warnMessage000
wsaPreProcessing0.0590.0030.067