Back to Multiple platform build/check report for BioC 3.19:   simplified   long
[A]BCDEFGHIJKLMNOPQRSTUVWXYZ

This page was generated on 2024-10-18 20:40 -0400 (Fri, 18 Oct 2024).

HostnameOSArch (*)R versionInstalled pkgs
nebbiolo1Linux (Ubuntu 22.04.3 LTS)x86_644.4.1 (2024-06-14) -- "Race for Your Life" 4763
palomino7Windows Server 2022 Datacenterx644.4.1 (2024-06-14 ucrt) -- "Race for Your Life" 4500
merida1macOS 12.7.5 Montereyx86_644.4.1 (2024-06-14) -- "Race for Your Life" 4530
kjohnson1macOS 13.6.6 Venturaarm644.4.1 (2024-06-14) -- "Race for Your Life" 4480
Click on any hostname to see more info about the system (e.g. compilers)      (*) as reported by 'uname -p', except on Windows and Mac OS X

Package 38/2300HostnameOS / ArchINSTALLBUILDCHECKBUILD BIN
airpart 1.12.0  (landing page)
Wancen Mu
Snapshot Date: 2024-10-16 14:00 -0400 (Wed, 16 Oct 2024)
git_url: https://git.bioconductor.org/packages/airpart
git_branch: RELEASE_3_19
git_last_commit: 41e1b1b
git_last_commit_date: 2024-04-30 11:32:40 -0400 (Tue, 30 Apr 2024)
nebbiolo1Linux (Ubuntu 22.04.3 LTS) / x86_64  OK    OK    OK  UNNEEDED, same version is already published
palomino7Windows Server 2022 Datacenter / x64  OK    OK    OK    OK  UNNEEDED, same version is already published
merida1macOS 12.7.5 Monterey / x86_64  OK    OK    OK    OK  UNNEEDED, same version is already published
kjohnson1macOS 13.6.6 Ventura / arm64  OK    OK    OK    OK  UNNEEDED, same version is already published


CHECK results for airpart on merida1

To the developers/maintainers of the airpart package:
- Allow up to 24 hours (and sometimes 48 hours) for your latest push to git@git.bioconductor.org:packages/airpart.git to reflect on this report. See Troubleshooting Build Report for more information.
- Use the following Renviron settings to reproduce errors and warnings.
- If 'R CMD check' started to fail recently on the Linux builder(s) over a missing dependency, add the missing dependency to 'Suggests:' in your DESCRIPTION file. See Renviron.bioc for more information.

raw results


Summary

Package: airpart
Version: 1.12.0
Command: /Library/Frameworks/R.framework/Resources/bin/R CMD check --install=check:airpart.install-out.txt --library=/Library/Frameworks/R.framework/Resources/library --no-vignettes --timings airpart_1.12.0.tar.gz
StartedAt: 2024-10-17 00:53:28 -0400 (Thu, 17 Oct 2024)
EndedAt: 2024-10-17 01:05:17 -0400 (Thu, 17 Oct 2024)
EllapsedTime: 709.2 seconds
RetCode: 0
Status:   OK  
CheckDir: airpart.Rcheck
Warnings: 0

Command output

##############################################################################
##############################################################################
###
### Running command:
###
###   /Library/Frameworks/R.framework/Resources/bin/R CMD check --install=check:airpart.install-out.txt --library=/Library/Frameworks/R.framework/Resources/library --no-vignettes --timings airpart_1.12.0.tar.gz
###
##############################################################################
##############################################################################


* using log directory ‘/Users/biocbuild/bbs-3.19-bioc/meat/airpart.Rcheck’
* using R version 4.4.1 (2024-06-14)
* using platform: x86_64-apple-darwin20
* R was compiled by
    Apple clang version 14.0.0 (clang-1400.0.29.202)
    GNU Fortran (GCC) 12.2.0
* running under: macOS Monterey 12.7.6
* using session charset: UTF-8
* using option ‘--no-vignettes’
* checking for file ‘airpart/DESCRIPTION’ ... OK
* this is package ‘airpart’ version ‘1.12.0’
* package encoding: UTF-8
* checking package namespace information ... OK
* checking package dependencies ... OK
* checking if this is a source package ... OK
* checking if there is a namespace ... OK
* checking for hidden files and directories ... OK
* checking for portable file names ... OK
* checking for sufficient/correct file permissions ... OK
* checking whether package ‘airpart’ can be installed ... OK
* checking installed package size ... OK
* checking package directory ... OK
* checking ‘build’ directory ... OK
* checking DESCRIPTION meta-information ... OK
* checking top-level files ... OK
* checking for left-over files ... OK
* checking index information ... OK
* checking package subdirectories ... OK
* checking code files for non-ASCII characters ... OK
* checking R files for syntax errors ... OK
* checking whether the package can be loaded ... OK
* checking whether the package can be loaded with stated dependencies ... OK
* checking whether the package can be unloaded cleanly ... OK
* checking whether the namespace can be loaded with stated dependencies ... OK
* checking whether the namespace can be unloaded cleanly ... OK
* checking dependencies in R code ... OK
* checking S3 generic/method consistency ... OK
* checking replacement functions ... OK
* checking foreign function calls ... OK
* checking R code for possible problems ... OK
* checking Rd files ... NOTE
checkRd: (-1) cellQC.Rd:44: Lost braces in \itemize; \value handles \item{}{} directly
checkRd: (-1) cellQC.Rd:45: Lost braces in \itemize; \value handles \item{}{} directly
checkRd: (-1) cellQC.Rd:46: Lost braces in \itemize; \value handles \item{}{} directly
checkRd: (-1) cellQC.Rd:47-49: Lost braces in \itemize; \value handles \item{}{} directly
checkRd: (-1) cellQC.Rd:50-52: Lost braces in \itemize; \value handles \item{}{} directly
checkRd: (-1) cellQC.Rd:53-55: Lost braces in \itemize; \value handles \item{}{} directly
checkRd: (-1) featureQC.Rd:29-30: Lost braces in \itemize; \value handles \item{}{} directly
checkRd: (-1) featureQC.Rd:31: Lost braces in \itemize; \value handles \item{}{} directly
checkRd: (-1) featureQC.Rd:32-33: Lost braces in \itemize; \value handles \item{}{} directly
checkRd: (-1) featureQC.Rd:34: Lost braces in \itemize; \value handles \item{}{} directly
checkRd: (-1) makeSimulatedData.Rd:43: Lost braces in \itemize; \value handles \item{}{} directly
checkRd: (-1) makeSimulatedData.Rd:44: Lost braces in \itemize; \value handles \item{}{} directly
checkRd: (-1) makeSimulatedData.Rd:45-46: Lost braces in \itemize; \value handles \item{}{} directly
checkRd: (-1) summaryAllelicRatio.Rd:19: Lost braces in \itemize; \value handles \item{}{} directly
checkRd: (-1) summaryAllelicRatio.Rd:20: Lost braces in \itemize; \value handles \item{}{} directly
checkRd: (-1) summaryAllelicRatio.Rd:21: Lost braces in \itemize; \value handles \item{}{} directly
* checking Rd metadata ... OK
* checking Rd cross-references ... OK
* checking for missing documentation entries ... OK
* checking for code/documentation mismatches ... OK
* checking Rd \usage sections ... OK
* checking Rd contents ... OK
* checking for unstated dependencies in examples ... OK
* checking files in ‘vignettes’ ... OK
* checking examples ... OK
Examples with CPU (user + system) or elapsed time > 5s
                user system elapsed
consensusPart 16.679  5.296  17.844
makeStep      15.019  0.298  19.490
fusedLasso    14.143  0.573  18.468
makeHeatmap   12.934  0.144  17.638
allelicRatio  11.822  0.498  15.701
makeForest    10.132  0.398  12.723
makeViolin     8.524  0.260  10.778
extractResult  7.668  0.317   9.781
* checking for unstated dependencies in ‘tests’ ... OK
* checking tests ...
  Running ‘testthat.R’
 OK
* checking for unstated dependencies in vignettes ... OK
* checking package vignettes ... OK
* checking running R code from vignettes ... SKIPPED
* checking re-building of vignette outputs ... SKIPPED
* checking PDF version of manual ... OK
* DONE

Status: 1 NOTE
See
  ‘/Users/biocbuild/bbs-3.19-bioc/meat/airpart.Rcheck/00check.log’
for details.


Installation output

airpart.Rcheck/00install.out

##############################################################################
##############################################################################
###
### Running command:
###
###   /Library/Frameworks/R.framework/Resources/bin/R CMD INSTALL airpart
###
##############################################################################
##############################################################################


* installing to library ‘/Library/Frameworks/R.framework/Versions/4.4-x86_64/Resources/library’
* installing *source* package ‘airpart’ ...
** using staged installation
** R
** inst
** byte-compile and prepare package for lazy loading
** help
*** installing help indices
** building package indices
** installing vignettes
** testing if installed package can be loaded from temporary location
** testing if installed package can be loaded from final location
** testing if installed package keeps a record of temporary installation path
* DONE (airpart)

Tests output

airpart.Rcheck/tests/testthat.Rout


R version 4.4.1 (2024-06-14) -- "Race for Your Life"
Copyright (C) 2024 The R Foundation for Statistical Computing
Platform: x86_64-apple-darwin20

R is free software and comes with ABSOLUTELY NO WARRANTY.
You are welcome to redistribute it under certain conditions.
Type 'license()' or 'licence()' for distribution details.

R is a collaborative project with many contributors.
Type 'contributors()' for more information and
'citation()' on how to cite R or R packages in publications.

Type 'demo()' for some demos, 'help()' for on-line help, or
'help.start()' for an HTML browser interface to help.
Type 'q()' to quit R.

> library(testthat)
> library(airpart)
> 
> test_check("airpart")
Loading required package: stats4
Loading required package: BiocGenerics

Attaching package: 'BiocGenerics'

The following objects are masked from 'package:stats':

    IQR, mad, sd, var, xtabs

The following objects are masked from 'package:base':

    Filter, Find, Map, Position, Reduce, anyDuplicated, aperm, append,
    as.data.frame, basename, cbind, colnames, dirname, do.call,
    duplicated, eval, evalq, get, grep, grepl, intersect, is.unsorted,
    lapply, mapply, match, mget, order, paste, pmax, pmax.int, pmin,
    pmin.int, rank, rbind, rownames, sapply, setdiff, table, tapply,
    union, unique, unsplit, which.max, which.min


Attaching package: 'S4Vectors'

The following object is masked from 'package:utils':

    findMatches

The following objects are masked from 'package:base':

    I, expand.grid, unname

model-based optimal number of clusters: 3 
model-based optimal number of clusters: 3 
model-based optimal number of clusters: 3 
model-based optimal number of clusters: 3 
[ FAIL 0 | WARN 32 | SKIP 0 | PASS 13 ]

[ FAIL 0 | WARN 32 | SKIP 0 | PASS 13 ]
> 
> proc.time()
   user  system elapsed 
 46.263   2.037  56.730 

Example timings

airpart.Rcheck/airpart-Ex.timings

nameusersystemelapsed
allelicRatio11.822 0.49815.701
cellQC1.2270.0231.609
consensusPart16.679 5.29617.844
estDisp3.4450.3064.241
extractResult7.6680.3179.781
featureQC3.4920.1534.639
fusedLasso14.143 0.57318.468
geneCluster1.0350.0121.290
makeForest10.132 0.39812.723
makeHeatmap12.934 0.14417.638
makeOffByOneAdjMat0.3100.0030.401
makeSimulatedData0.5930.0230.759
makeStep15.019 0.29819.490
makeViolin 8.524 0.26010.778
preprocess0.8920.0241.108
summaryAllelicRatio1.4890.0411.882
wilcoxExt3.0590.0733.818