Back to Multiple platform build/check report for BioC 3.19:   simplified   long
ABCDEFGHIJKLMNOPQRS[T]UVWXYZ

This page was generated on 2024-10-18 20:41 -0400 (Fri, 18 Oct 2024).

HostnameOSArch (*)R versionInstalled pkgs
nebbiolo1Linux (Ubuntu 22.04.3 LTS)x86_644.4.1 (2024-06-14) -- "Race for Your Life" 4763
palomino7Windows Server 2022 Datacenterx644.4.1 (2024-06-14 ucrt) -- "Race for Your Life" 4500
merida1macOS 12.7.5 Montereyx86_644.4.1 (2024-06-14) -- "Race for Your Life" 4530
kjohnson1macOS 13.6.6 Venturaarm644.4.1 (2024-06-14) -- "Race for Your Life" 4480
Click on any hostname to see more info about the system (e.g. compilers)      (*) as reported by 'uname -p', except on Windows and Mac OS X

Package 2217/2300HostnameOS / ArchINSTALLBUILDCHECKBUILD BIN
TRONCO 2.36.0  (landing page)
Luca De Sano
Snapshot Date: 2024-10-16 14:00 -0400 (Wed, 16 Oct 2024)
git_url: https://git.bioconductor.org/packages/TRONCO
git_branch: RELEASE_3_19
git_last_commit: c0f0a32
git_last_commit_date: 2024-04-30 10:41:10 -0400 (Tue, 30 Apr 2024)
nebbiolo1Linux (Ubuntu 22.04.3 LTS) / x86_64  OK    OK    OK  UNNEEDED, same version is already published
palomino7Windows Server 2022 Datacenter / x64  OK    OK    OK    OK  UNNEEDED, same version is already published
merida1macOS 12.7.5 Monterey / x86_64  OK    OK    OK    OK  UNNEEDED, same version is already published
kjohnson1macOS 13.6.6 Ventura / arm64  OK    OK    OK    NA  


CHECK results for TRONCO on merida1

To the developers/maintainers of the TRONCO package:
- Allow up to 24 hours (and sometimes 48 hours) for your latest push to git@git.bioconductor.org:packages/TRONCO.git to reflect on this report. See Troubleshooting Build Report for more information.
- Use the following Renviron settings to reproduce errors and warnings.
- If 'R CMD check' started to fail recently on the Linux builder(s) over a missing dependency, add the missing dependency to 'Suggests:' in your DESCRIPTION file. See Renviron.bioc for more information.

raw results


Summary

Package: TRONCO
Version: 2.36.0
Command: /Library/Frameworks/R.framework/Resources/bin/R CMD check --install=check:TRONCO.install-out.txt --library=/Library/Frameworks/R.framework/Resources/library --no-vignettes --timings TRONCO_2.36.0.tar.gz
StartedAt: 2024-10-17 14:45:31 -0400 (Thu, 17 Oct 2024)
EndedAt: 2024-10-17 14:53:57 -0400 (Thu, 17 Oct 2024)
EllapsedTime: 505.7 seconds
RetCode: 0
Status:   OK  
CheckDir: TRONCO.Rcheck
Warnings: 0

Command output

##############################################################################
##############################################################################
###
### Running command:
###
###   /Library/Frameworks/R.framework/Resources/bin/R CMD check --install=check:TRONCO.install-out.txt --library=/Library/Frameworks/R.framework/Resources/library --no-vignettes --timings TRONCO_2.36.0.tar.gz
###
##############################################################################
##############################################################################


* using log directory ‘/Users/biocbuild/bbs-3.19-bioc/meat/TRONCO.Rcheck’
* using R version 4.4.1 (2024-06-14)
* using platform: x86_64-apple-darwin20
* R was compiled by
    Apple clang version 14.0.0 (clang-1400.0.29.202)
    GNU Fortran (GCC) 12.2.0
* running under: macOS Monterey 12.7.6
* using session charset: UTF-8
* using option ‘--no-vignettes’
* checking for file ‘TRONCO/DESCRIPTION’ ... OK
* this is package ‘TRONCO’ version ‘2.36.0’
* package encoding: UTF-8
* checking package namespace information ... OK
* checking package dependencies ... OK
* checking if this is a source package ... OK
* checking if there is a namespace ... OK
* checking for hidden files and directories ... OK
* checking for portable file names ... OK
* checking for sufficient/correct file permissions ... OK
* checking whether package ‘TRONCO’ can be installed ... OK
* checking installed package size ... OK
* checking package directory ... OK
* checking ‘build’ directory ... OK
* checking DESCRIPTION meta-information ... OK
* checking top-level files ... OK
* checking for left-over files ... OK
* checking index information ... OK
* checking package subdirectories ... OK
* checking code files for non-ASCII characters ... OK
* checking R files for syntax errors ... OK
* checking whether the package can be loaded ... OK
* checking whether the package can be loaded with stated dependencies ... OK
* checking whether the package can be unloaded cleanly ... OK
* checking whether the namespace can be loaded with stated dependencies ... OK
* checking whether the namespace can be unloaded cleanly ... OK
* checking whether startup messages can be suppressed ... OK
* checking dependencies in R code ... OK
* checking S3 generic/method consistency ... OK
* checking replacement functions ... OK
* checking foreign function calls ... OK
* checking R code for possible problems ... OK
* checking Rd files ... OK
* checking Rd metadata ... OK
* checking Rd cross-references ... OK
* checking for missing documentation entries ... OK
* checking for code/documentation mismatches ... OK
* checking Rd \usage sections ... OK
* checking Rd contents ... OK
* checking for unstated dependencies in examples ... OK
* checking contents of ‘data’ directory ... OK
* checking data for non-ASCII characters ... OK
* checking data for ASCII and uncompressed saves ... OK
* checking files in ‘vignettes’ ... OK
* checking examples ... OK
Examples with CPU (user + system) or elapsed time > 5s
                      user system elapsed
tronco.prim          5.228  0.095   6.997
tronco.capri         4.659  0.137   5.716
tronco.gabow         4.071  0.063   5.065
tronco.kfold.posterr 0.293  0.215   9.195
tronco.kfold.prederr 0.225  0.185   8.915
tronco.bootstrap     0.234  0.023  26.657
* checking for unstated dependencies in ‘tests’ ... OK
* checking tests ...
  Running ‘testthat.R’
 OK
* checking for unstated dependencies in vignettes ... OK
* checking package vignettes ... OK
* checking running R code from vignettes ... SKIPPED
* checking re-building of vignette outputs ... SKIPPED
* checking PDF version of manual ... OK
* DONE

Status: OK


Installation output

TRONCO.Rcheck/00install.out

##############################################################################
##############################################################################
###
### Running command:
###
###   /Library/Frameworks/R.framework/Resources/bin/R CMD INSTALL TRONCO
###
##############################################################################
##############################################################################


* installing to library ‘/Library/Frameworks/R.framework/Versions/4.4-x86_64/Resources/library’
* installing *source* package ‘TRONCO’ ...
** using staged installation
** R
** data
** inst
** byte-compile and prepare package for lazy loading
** help
*** installing help indices
** building package indices
** installing vignettes
** testing if installed package can be loaded from temporary location
** testing if installed package can be loaded from final location
** testing if installed package keeps a record of temporary installation path
* DONE (TRONCO)

Tests output

TRONCO.Rcheck/tests/testthat.Rout


R version 4.4.1 (2024-06-14) -- "Race for Your Life"
Copyright (C) 2024 The R Foundation for Statistical Computing
Platform: x86_64-apple-darwin20

R is free software and comes with ABSOLUTELY NO WARRANTY.
You are welcome to redistribute it under certain conditions.
Type 'license()' or 'licence()' for distribution details.

R is a collaborative project with many contributors.
Type 'contributors()' for more information and
'citation()' on how to cite R or R packages in publications.

Type 'demo()' for some demos, 'help()' for on-line help, or
'help.start()' for an HTML browser interface to help.
Type 'q()' to quit R.

> Sys.setenv("R_TESTS" = "")
> 
> library(testthat)
> library(TRONCO)
> 
> test_check("TRONCO")
*** Checking input events.
*** Inferring a progression model with the following settings.
	Dataset size: n = 40, m = 30.
	Algorithm: CAPRESE with shrinkage coefficient: 0.5.
*** Evaluating LogLik informations.
The reconstruction has been successfully completed in 00h:00m:01s 
*** Checking input events.
*** Inferring a progression model with the following settings.
	Dataset size: n = 40, m = 30.
	Algorithm: Edmonds with "no_reg" regularization	Random seed: NULL.
	Bootstrap iterations (Wilcoxon): 1.
		exhaustive bootstrap: TRUE.
		p-value: 0.05.
		minimum bootstrapped scores: 3.
*** Bootstraping selective advantage scores (prima facie).
	............
	Evaluating "temporal priority" (Wilcoxon, p-value 0.05)
	Evaluating "probability raising" (Wilcoxon, p-value 0.05)
*** Loop detection found loops to break.
	Removed 9 edges out of 53 (17%)
*** Performing likelihood-fit with regularization: no_reg and score: pmi .
*** Evaluating BIC / AIC / LogLik informations.
The reconstruction has been successfully completed in 00h:00m:05s 
*** Checking input events.
*** Inferring a progression model with the following settings.
	Dataset size: n = 40, m = 30.
	Algorithm: Gabow with "no_reg" regularization	Random seed: NULL.
	Bootstrap iterations (Wilcoxon): 1.
		exhaustive bootstrap: TRUE.
		p-value: 0.05.
		minimum bootstrapped scores: 3.
*** Bootstraping selective advantage scores (prima facie).
	...........
	Evaluating "temporal priority" (Wilcoxon, p-value 0.05)
	Evaluating "probability raising" (Wilcoxon, p-value 0.05)
*** Loop detection found loops to break.
	Removed 4 edges out of 51 (8%)
*** Performing likelihood-fit with regularization: no_reg .
*** Evaluating BIC / AIC / LogLik informations.
The reconstruction has been successfully completed in 00h:00m:06s 
*** Checking input events.
*** Inferring a progression model with the following settings.
	Dataset size: n = 40, m = 30.
	Algorithm: Chow Liu with "bic, aic" regularization	Random seed: NULL.
	Bootstrap iterations (Wilcoxon): 1.
		exhaustive bootstrap: TRUE.
		p-value: 0.05.
		minimum bootstrapped scores: 3.
*** Bootstraping selective advantage scores (prima facie).
	.......
	Evaluating "temporal priority" (Wilcoxon, p-value 0.05)
	Evaluating "probability raising" (Wilcoxon, p-value 0.05)
*** Loop detection found loops to break.
	Removed 5 edges out of 49 (10%)
*** Performing likelihood-fit with regularization bic .
*** Performing likelihood-fit with regularization aic .
*** Evaluating BIC / AIC / LogLik informations.
The reconstruction has been successfully completed in 00h:00m:05s 
*** Checking input events.
*** Inferring a progression model with the following settings.
	Dataset size: n = 40, m = 30.
	Algorithm: Prim with "no_reg" regularization	Random seed: NULL.
	Bootstrap iterations (Wilcoxon): 1.
		exhaustive bootstrap: TRUE.
		p-value: 0.05.
		minimum bootstrapped scores: 3.
*** Bootstraping selective advantage scores (prima facie).
	..........
	Evaluating "temporal priority" (Wilcoxon, p-value 0.05)
	Evaluating "probability raising" (Wilcoxon, p-value 0.05)
*** Loop detection found loops to break.
	Removed 11 edges out of 60 (18%)
*** Performing likelihood-fit with regularization: no_reg .
*** Evaluating BIC / AIC / LogLik informations.
The reconstruction has been successfully completed in 00h:00m:05s 
[ FAIL 0 | WARN 25 | SKIP 0 | PASS 225 ]

[ FAIL 0 | WARN 25 | SKIP 0 | PASS 225 ]
> 
> proc.time()
   user  system elapsed 
 97.063   2.384 253.494 

Example timings

TRONCO.Rcheck/TRONCO-Ex.timings

nameusersystemelapsed
TCGA.multiple.samples0.0320.0080.049
TCGA.remove.multiple.samples0.0330.0320.085
TCGA.shorten.barcodes0.0260.0310.076
annotate.description0.0230.0280.068
annotate.stages0.0150.0050.028
as.adj.matrix0.0230.0390.081
as.alterations0.0080.0040.016
as.bootstrap.scores0.1550.0080.205
as.colors0.0030.0020.008
as.confidence0.0230.0460.087
as.description0.0020.0020.006
as.events0.0030.0040.011
as.events.in.patterns0.0100.0030.016
as.events.in.sample0.0090.0020.017
as.gene0.0070.0080.022
as.genes0.0030.0030.005
as.genes.in.patterns0.1350.0030.174
as.genotypes0.0200.0330.114
as.hypotheses0.0070.0150.029
as.joint.probs0.0190.0540.079
as.kfold.eloss0.1420.0050.183
as.kfold.posterr0.1790.0180.240
as.kfold.prederr0.1910.0210.270
as.marginal.probs0.0090.0050.020
as.models0.0370.0980.164
as.parameters0.0050.0030.011
as.pathway0.0120.0040.022
as.patterns0.0040.0030.008
as.samples0.0030.0030.007
as.selective.advantage.relations0.2540.0510.389
as.stages0.0150.0060.024
as.types0.0030.0030.005
as.types.in.patterns0.0080.0020.014
change.color0.0040.0030.007
consolidate.data0.0840.0050.113
delete.event0.0110.0030.018
delete.gene0.0100.0030.020
delete.hypothesis0.0710.0810.189
delete.model0.0070.0020.012
delete.pattern0.0270.0250.070
delete.samples0.0060.0020.010
delete.type0.0110.0030.019
duplicates0.0040.0030.008
enforce.numeric0.0060.0030.010
enforce.string0.0050.0030.010
events.selection0.0100.0040.015
export.graphml0.2340.0110.305
export.mutex0.0180.0070.030
has.duplicates0.0030.0020.008
has.model0.0030.0020.009
has.stages0.0140.0060.020
import.GISTIC0.0130.0040.022
import.MAF0.1530.0150.209
intersect.datasets0.0030.0020.007
is.compliant0.0040.0030.007
join.events0.0080.0030.018
join.types0.1030.0380.186
keysToNames0.0100.0060.018
nameToKey0.0050.0020.008
nevents0.0020.0030.006
ngenes0.0030.0030.009
nhypotheses0.0030.0020.004
npatterns0.0020.0030.010
nsamples0.0030.0030.007
ntypes0.0020.0030.005
oncoprint.cbio0.0130.0040.020
order.frequency0.0180.0300.065
pheatmap0.0760.0020.101
rank.recurrents0.0080.0030.015
rename.gene0.0050.0020.009
rename.type0.0040.0030.009
samples.selection0.0070.0020.011
trim0.0070.0020.013
tronco.bootstrap 0.234 0.02326.657
tronco.caprese0.3500.0080.378
tronco.capri4.6590.1375.716
tronco.chowliu3.5400.0594.388
tronco.edmonds3.2010.0464.004
tronco.gabow4.0710.0635.065
tronco.kfold.eloss0.2370.1560.468
tronco.kfold.posterr0.2930.2159.195
tronco.kfold.prederr0.2250.1858.915
tronco.plot0.2910.0090.332
tronco.prim5.2280.0956.997
view0.0080.0030.012
which.samples0.0060.0020.009