Back to Multiple platform build/check report for BioC 3.19: simplified long |
|
This page was generated on 2024-02-22 12:48:56 -0500 (Thu, 22 Feb 2024).
Hostname | OS | Arch (*) | R version | Installed pkgs |
---|---|---|---|---|
nebbiolo1 | Linux (Ubuntu 22.04.3 LTS) | x86_64 | R Under development (unstable) (2024-01-16 r85808) -- "Unsuffered Consequences" | 4657 |
palomino3 | Windows Server 2022 Datacenter | x64 | R Under development (unstable) (2024-01-14 r85805 ucrt) -- "Unsuffered Consequences" | 4397 |
Click on any hostname to see more info about the system (e.g. compilers) (*) as reported by 'uname -p', except on Windows and Mac OS X |
Package 2051/2244 | Hostname | OS / Arch | INSTALL | BUILD | CHECK | BUILD BIN | ||||||||
SummarizedBenchmark 2.21.0 (landing page) Patrick Kimes
| nebbiolo1 | Linux (Ubuntu 22.04.3 LTS) / x86_64 | OK | OK | WARNINGS | |||||||||
palomino3 | Windows Server 2022 Datacenter / x64 | OK | OK | WARNINGS | OK | |||||||||
To the developers/maintainers of the SummarizedBenchmark package: - Allow up to 24 hours (and sometimes 48 hours) for your latest push to git@git.bioconductor.org:packages/SummarizedBenchmark.git to reflect on this report. See Troubleshooting Build Report for more information. - Use the following Renviron settings to reproduce errors and warnings. - If 'R CMD check' started to fail recently on the Linux builder(s) over a missing dependency, add the missing dependency to 'Suggests:' in your DESCRIPTION file. See Renviron.bioc for more information. |
Package: SummarizedBenchmark |
Version: 2.21.0 |
Command: rm -rf SummarizedBenchmark.buildbin-libdir && mkdir SummarizedBenchmark.buildbin-libdir && F:\biocbuild\bbs-3.19-bioc\R\bin\R.exe CMD INSTALL --build --library=SummarizedBenchmark.buildbin-libdir SummarizedBenchmark_2.21.0.tar.gz |
StartedAt: 2024-02-22 11:00:36 -0500 (Thu, 22 Feb 2024) |
EndedAt: 2024-02-22 11:01:27 -0500 (Thu, 22 Feb 2024) |
EllapsedTime: 50.3 seconds |
RetCode: 0 |
Status: OK |
PackageFile: SummarizedBenchmark_2.21.0.zip |
PackageFileSize: 8.974 MiB |
############################################################################## ############################################################################## ### ### Running command: ### ### rm -rf SummarizedBenchmark.buildbin-libdir && mkdir SummarizedBenchmark.buildbin-libdir && F:\biocbuild\bbs-3.19-bioc\R\bin\R.exe CMD INSTALL --build --library=SummarizedBenchmark.buildbin-libdir SummarizedBenchmark_2.21.0.tar.gz ### ############################################################################## ############################################################################## * installing *source* package 'SummarizedBenchmark' ... ** using staged installation ** R ** data *** moving datasets to lazyload DB ** inst ** byte-compile and prepare package for lazy loading ** help *** installing help indices *** copying figures ** building package indices ** installing vignettes ** testing if installed package can be loaded from temporary location ** testing if installed package can be loaded from final location ** testing if installed package keeps a record of temporary installation path * MD5 sums packaged installation of 'SummarizedBenchmark' as SummarizedBenchmark_2.21.0.zip * DONE (SummarizedBenchmark)