Back to Multiple platform build/check report for BioC 3.19: simplified long |
|
This page was generated on 2024-10-18 20:38 -0400 (Fri, 18 Oct 2024).
Hostname | OS | Arch (*) | R version | Installed pkgs |
---|---|---|---|---|
nebbiolo1 | Linux (Ubuntu 22.04.3 LTS) | x86_64 | 4.4.1 (2024-06-14) -- "Race for Your Life" | 4763 |
palomino7 | Windows Server 2022 Datacenter | x64 | 4.4.1 (2024-06-14 ucrt) -- "Race for Your Life" | 4500 |
merida1 | macOS 12.7.5 Monterey | x86_64 | 4.4.1 (2024-06-14) -- "Race for Your Life" | 4530 |
kjohnson1 | macOS 13.6.6 Ventura | arm64 | 4.4.1 (2024-06-14) -- "Race for Your Life" | 4480 |
Click on any hostname to see more info about the system (e.g. compilers) (*) as reported by 'uname -p', except on Windows and Mac OS X |
Package 1698/2300 | Hostname | OS / Arch | INSTALL | BUILD | CHECK | BUILD BIN | ||||||||
RcisTarget 1.24.0 (landing page) Gert Hulselmans
| nebbiolo1 | Linux (Ubuntu 22.04.3 LTS) / x86_64 | OK | OK | OK | |||||||||
palomino7 | Windows Server 2022 Datacenter / x64 | OK | OK | OK | OK | |||||||||
merida1 | macOS 12.7.5 Monterey / x86_64 | ERROR | ERROR | skipped | skipped | |||||||||
kjohnson1 | macOS 13.6.6 Ventura / arm64 | OK | OK | OK | OK | |||||||||
To the developers/maintainers of the RcisTarget package: - Allow up to 24 hours (and sometimes 48 hours) for your latest push to git@git.bioconductor.org:packages/RcisTarget.git to reflect on this report. See Troubleshooting Build Report for more information. - Use the following Renviron settings to reproduce errors and warnings. - If 'R CMD check' started to fail recently on the Linux builder(s) over a missing dependency, add the missing dependency to 'Suggests:' in your DESCRIPTION file. See Renviron.bioc for more information. |
Package: RcisTarget |
Version: 1.24.0 |
Command: /home/biocbuild/bbs-3.19-bioc/R/bin/R CMD check --install=check:RcisTarget.install-out.txt --library=/home/biocbuild/bbs-3.19-bioc/R/site-library --timings RcisTarget_1.24.0.tar.gz |
StartedAt: 2024-10-17 04:10:42 -0400 (Thu, 17 Oct 2024) |
EndedAt: 2024-10-17 04:17:34 -0400 (Thu, 17 Oct 2024) |
EllapsedTime: 412.1 seconds |
RetCode: 0 |
Status: OK |
CheckDir: RcisTarget.Rcheck |
Warnings: 0 |
############################################################################## ############################################################################## ### ### Running command: ### ### /home/biocbuild/bbs-3.19-bioc/R/bin/R CMD check --install=check:RcisTarget.install-out.txt --library=/home/biocbuild/bbs-3.19-bioc/R/site-library --timings RcisTarget_1.24.0.tar.gz ### ############################################################################## ############################################################################## * using log directory ‘/home/biocbuild/bbs-3.19-bioc/meat/RcisTarget.Rcheck’ * using R version 4.4.1 (2024-06-14) * using platform: x86_64-pc-linux-gnu * R was compiled by gcc (Ubuntu 11.4.0-1ubuntu1~22.04) 11.4.0 GNU Fortran (Ubuntu 11.4.0-1ubuntu1~22.04) 11.4.0 * running under: Ubuntu 22.04.5 LTS * using session charset: UTF-8 * checking for file ‘RcisTarget/DESCRIPTION’ ... OK * checking extension type ... Package * this is package ‘RcisTarget’ version ‘1.24.0’ * checking package namespace information ... OK * checking package dependencies ... OK * checking if this is a source package ... OK * checking if there is a namespace ... OK * checking for hidden files and directories ... OK * checking for portable file names ... OK * checking for sufficient/correct file permissions ... OK * checking whether package ‘RcisTarget’ can be installed ... OK * checking installed package size ... NOTE installed size is 12.1Mb sub-directories of 1Mb or more: data 11.5Mb * checking package directory ... OK * checking ‘build’ directory ... OK * checking DESCRIPTION meta-information ... OK * checking top-level files ... OK * checking for left-over files ... OK * checking index information ... OK * checking package subdirectories ... OK * checking code files for non-ASCII characters ... OK * checking R files for syntax errors ... OK * checking whether the package can be loaded ... OK * checking whether the package can be loaded with stated dependencies ... OK * checking whether the package can be unloaded cleanly ... OK * checking whether the namespace can be loaded with stated dependencies ... OK * checking whether the namespace can be unloaded cleanly ... OK * checking loading without being on the library search path ... OK * checking dependencies in R code ... OK * checking S3 generic/method consistency ... OK * checking replacement functions ... OK * checking foreign function calls ... OK * checking R code for possible problems ... OK * checking Rd files ... NOTE checkRd: (-1) dbRegionsLoc.Rd:11-14: Lost braces in \itemize; meant \describe ? checkRd: (-1) dbRegionsLoc.Rd:16-19: Lost braces in \itemize; meant \describe ? checkRd: (-1) importAnnotations.Rd:44: Lost braces in \itemize; meant \describe ? checkRd: (-1) importAnnotations.Rd:45: Lost braces in \itemize; meant \describe ? checkRd: (-1) importAnnotations.Rd:46: Lost braces in \itemize; meant \describe ? checkRd: (-1) importAnnotations.Rd:48-51: Lost braces in \itemize; meant \describe ? checkRd: (-1) importAnnotations.Rd:24: Lost braces in \itemize; \value handles \item{}{} directly checkRd: (-1) importAnnotations.Rd:25: Lost braces in \itemize; \value handles \item{}{} directly checkRd: (-1) importAnnotations.Rd:27-31: Lost braces in \itemize; \value handles \item{}{} directly checkRd: (-1) importAnnotations.Rd:32: Lost braces in \itemize; \value handles \item{}{} directly checkRd: (-1) importAnnotations.Rd:33-36: Lost braces in \itemize; \value handles \item{}{} directly checkRd: (-1) motifAnnotations.Rd:18-20: Lost braces in \itemize; meant \describe ? checkRd: (-1) motifAnnotations.Rd:22-24: Lost braces in \itemize; meant \describe ? checkRd: (-1) motifAnnotations.Rd:26-28: Lost braces in \itemize; meant \describe ? checkRd: (-1) motifAnnotations.Rd:54: Lost braces in \itemize; meant \describe ? checkRd: (-1) motifAnnotations.Rd:55: Lost braces in \itemize; meant \describe ? checkRd: (-1) motifAnnotations.Rd:58-61: Lost braces in \itemize; meant \describe ? checkRd: (-1) motifAnnotations.Rd:62: Lost braces in \itemize; meant \describe ? checkRd: (-1) motifAnnotations.Rd:63-66: Lost braces in \itemize; meant \describe ? * checking Rd metadata ... OK * checking Rd cross-references ... OK * checking for missing documentation entries ... OK * checking for code/documentation mismatches ... OK * checking Rd \usage sections ... OK * checking Rd contents ... OK * checking for unstated dependencies in examples ... OK * checking contents of ‘data’ directory ... OK * checking data for non-ASCII characters ... OK * checking data for ASCII and uncompressed saves ... OK * checking files in ‘vignettes’ ... OK * checking examples ... OK Examples with CPU (user + system) or elapsed time > 5s user system elapsed addMotifAnnotation 17.586 0.859 18.398 addSignificantGenes 15.736 1.140 16.854 getMotifAnnotation 8.941 0.201 9.099 aucScores-class 8.566 0.292 8.858 reRank 7.227 0.062 7.289 rankingRcisTarget-class 6.798 0.144 6.943 * checking for unstated dependencies in ‘tests’ ... OK * checking tests ... Running ‘testthat.R’ OK * checking for unstated dependencies in vignettes ... OK * checking package vignettes ... OK * checking re-building of vignette outputs ... OK * checking PDF version of manual ... OK * DONE Status: 2 NOTEs See ‘/home/biocbuild/bbs-3.19-bioc/meat/RcisTarget.Rcheck/00check.log’ for details.
RcisTarget.Rcheck/00install.out
############################################################################## ############################################################################## ### ### Running command: ### ### /home/biocbuild/bbs-3.19-bioc/R/bin/R CMD INSTALL RcisTarget ### ############################################################################## ############################################################################## * installing to library ‘/home/biocbuild/bbs-3.19-bioc/R/site-library’ * installing *source* package ‘RcisTarget’ ... ** using staged installation ** R ** data ** inst ** byte-compile and prepare package for lazy loading ** help *** installing help indices ** building package indices ** installing vignettes ** testing if installed package can be loaded from temporary location ** testing if installed package can be loaded from final location ** testing if installed package keeps a record of temporary installation path * DONE (RcisTarget)
RcisTarget.Rcheck/tests/testthat.Rout
R version 4.4.1 (2024-06-14) -- "Race for Your Life" Copyright (C) 2024 The R Foundation for Statistical Computing Platform: x86_64-pc-linux-gnu R is free software and comes with ABSOLUTELY NO WARRANTY. You are welcome to redistribute it under certain conditions. Type 'license()' or 'licence()' for distribution details. R is a collaborative project with many contributors. Type 'contributors()' for more information and 'citation()' on how to cite R or R packages in publications. Type 'demo()' for some demos, 'help()' for on-line help, or 'help.start()' for an HTML browser interface to help. Type 'q()' to quit R. > library(testthat) > library(RcisTarget) > > test_check("RcisTarget") [ FAIL 0 | WARN 0 | SKIP 0 | PASS 58 ] > > proc.time() user system elapsed 38.120 6.279 43.782
RcisTarget.Rcheck/RcisTarget-Ex.timings
name | user | system | elapsed | |
RcisTarget | 0.833 | 0.028 | 0.862 | |
addLogo | 0.093 | 0.024 | 0.117 | |
addMotifAnnotation | 17.586 | 0.859 | 18.398 | |
addSignificantGenes | 15.736 | 1.140 | 16.854 | |
aucScores-class | 8.566 | 0.292 | 8.858 | |
calcAUC | 0.001 | 0.000 | 0.001 | |
convertToTargetRegions | 0 | 0 | 0 | |
getDbRegionsLoc | 0 | 0 | 0 | |
getMotifAnnotation | 8.941 | 0.201 | 9.099 | |
importAnnotations | 0.765 | 0.015 | 0.781 | |
importRankings | 0.637 | 0.000 | 0.637 | |
rankingRcisTarget-class | 6.798 | 0.144 | 6.943 | |
reRank | 7.227 | 0.062 | 7.289 | |
showLogo | 0.068 | 0.012 | 0.080 | |