Back to Multiple platform build/check report for BioC 3.19:   simplified   long
ABCDEFGHIJKLMNOPQ[R]STUVWXYZ

This page was generated on 2024-10-18 20:38 -0400 (Fri, 18 Oct 2024).

HostnameOSArch (*)R versionInstalled pkgs
nebbiolo1Linux (Ubuntu 22.04.3 LTS)x86_644.4.1 (2024-06-14) -- "Race for Your Life" 4763
palomino7Windows Server 2022 Datacenterx644.4.1 (2024-06-14 ucrt) -- "Race for Your Life" 4500
merida1macOS 12.7.5 Montereyx86_644.4.1 (2024-06-14) -- "Race for Your Life" 4530
kjohnson1macOS 13.6.6 Venturaarm644.4.1 (2024-06-14) -- "Race for Your Life" 4480
Click on any hostname to see more info about the system (e.g. compilers)      (*) as reported by 'uname -p', except on Windows and Mac OS X

Package 1706/2300HostnameOS / ArchINSTALLBUILDCHECKBUILD BIN
RCy3 2.24.0  (landing page)
Alex Pico
Snapshot Date: 2024-10-16 14:00 -0400 (Wed, 16 Oct 2024)
git_url: https://git.bioconductor.org/packages/RCy3
git_branch: RELEASE_3_19
git_last_commit: ca074c6
git_last_commit_date: 2024-04-30 10:46:27 -0400 (Tue, 30 Apr 2024)
nebbiolo1Linux (Ubuntu 22.04.3 LTS) / x86_64  OK    OK    OK  UNNEEDED, same version is already published
palomino7Windows Server 2022 Datacenter / x64  OK    OK    OK    OK  UNNEEDED, same version is already published
merida1macOS 12.7.5 Monterey / x86_64  OK    OK    OK    OK  UNNEEDED, same version is already published
kjohnson1macOS 13.6.6 Ventura / arm64  OK    OK    OK    OK  UNNEEDED, same version is already published


CHECK results for RCy3 on nebbiolo1

To the developers/maintainers of the RCy3 package:
- Allow up to 24 hours (and sometimes 48 hours) for your latest push to git@git.bioconductor.org:packages/RCy3.git to reflect on this report. See Troubleshooting Build Report for more information.
- Use the following Renviron settings to reproduce errors and warnings.
- If 'R CMD check' started to fail recently on the Linux builder(s) over a missing dependency, add the missing dependency to 'Suggests:' in your DESCRIPTION file. See Renviron.bioc for more information.

raw results


Summary

Package: RCy3
Version: 2.24.0
Command: /home/biocbuild/bbs-3.19-bioc/R/bin/R CMD check --install=check:RCy3.install-out.txt --library=/home/biocbuild/bbs-3.19-bioc/R/site-library --timings RCy3_2.24.0.tar.gz
StartedAt: 2024-10-17 04:11:31 -0400 (Thu, 17 Oct 2024)
EndedAt: 2024-10-17 04:13:09 -0400 (Thu, 17 Oct 2024)
EllapsedTime: 97.3 seconds
RetCode: 0
Status:   OK  
CheckDir: RCy3.Rcheck
Warnings: 0

Command output

##############################################################################
##############################################################################
###
### Running command:
###
###   /home/biocbuild/bbs-3.19-bioc/R/bin/R CMD check --install=check:RCy3.install-out.txt --library=/home/biocbuild/bbs-3.19-bioc/R/site-library --timings RCy3_2.24.0.tar.gz
###
##############################################################################
##############################################################################


* using log directory ‘/home/biocbuild/bbs-3.19-bioc/meat/RCy3.Rcheck’
* using R version 4.4.1 (2024-06-14)
* using platform: x86_64-pc-linux-gnu
* R was compiled by
    gcc (Ubuntu 11.4.0-1ubuntu1~22.04) 11.4.0
    GNU Fortran (Ubuntu 11.4.0-1ubuntu1~22.04) 11.4.0
* running under: Ubuntu 22.04.5 LTS
* using session charset: UTF-8
* checking for file ‘RCy3/DESCRIPTION’ ... OK
* checking extension type ... Package
* this is package ‘RCy3’ version ‘2.24.0’
* checking package namespace information ... OK
* checking package dependencies ... OK
* checking if this is a source package ... OK
* checking if there is a namespace ... OK
* checking for hidden files and directories ... NOTE
Found the following hidden files and directories:
  .travis.yml
These were most likely included in error. See section ‘Package
structure’ in the ‘Writing R Extensions’ manual.
* checking for portable file names ... OK
* checking for sufficient/correct file permissions ... OK
* checking whether package ‘RCy3’ can be installed ... OK
* checking installed package size ... OK
* checking package directory ... OK
* checking ‘build’ directory ... OK
* checking DESCRIPTION meta-information ... NOTE
License stub is invalid DCF.
* checking top-level files ... OK
* checking for left-over files ... OK
* checking index information ... OK
* checking package subdirectories ... OK
* checking code files for non-ASCII characters ... OK
* checking R files for syntax errors ... OK
* checking whether the package can be loaded ... OK
* checking whether the package can be loaded with stated dependencies ... OK
* checking whether the package can be unloaded cleanly ... OK
* checking whether the namespace can be loaded with stated dependencies ... OK
* checking whether the namespace can be unloaded cleanly ... OK
* checking loading without being on the library search path ... OK
* checking dependencies in R code ... OK
* checking S3 generic/method consistency ... OK
* checking replacement functions ... OK
* checking foreign function calls ... OK
* checking R code for possible problems ... NOTE
.checkHexColor: no visible global function definition for ‘colors’
.edgeNameToEdgeSUID: no visible binding for global variable ‘SUID’
.nodeNameToNodeSUID: no visible binding for global variable ‘SUID’
createNetworkFromDataFrames: no visible binding for global variable
  ‘SUID’
Undefined global functions or variables:
  SUID colors
Consider adding
  importFrom("grDevices", "colors")
to your NAMESPACE file.
* checking Rd files ... NOTE
checkRd: (-1) importFileFromUrl.Rd:24: Lost braces; missing escapes or markup?
    24 | dict: {'filePath': <new file's absolute path in Cytoscape workstation>, 'fileByteCount': number of bytes read}
       |       ^
checkRd: (-1) sandboxGetFileInfo.Rd:17: Lost braces; missing escapes or markup?
    17 | dict: {'filePath': <full path on Cytoscape workstation>, 'modifiedTime': <last changed time, '' if file doesn't exist>, 'isFile': <True if file, False if directory>}
       |       ^
checkRd: (-1) sandboxRemove.Rd:15: Lost braces; missing escapes or markup?
    15 | dict: {'sandboxPath': <directory on Cytoscape workstation>, 'existed': <True if sandbox existed>}
       |       ^
checkRd: (-1) sandboxRemoveFile.Rd:17: Lost braces; missing escapes or markup?
    17 | dict: {'filePath': <file's absolute path in Cytoscape workstation>, 'existed': True if file existed before being deleted}
       |       ^
checkRd: (-1) sandboxUrlTo.Rd:27: Lost braces; missing escapes or markup?
    27 | dict: {'filePath': <new file's absolute path in Cytoscape workstation>, 'fileByteCount': number of bytes read}
       |       ^
* checking Rd metadata ... OK
* checking Rd cross-references ... OK
* checking for missing documentation entries ... OK
* checking for code/documentation mismatches ... OK
* checking Rd \usage sections ... OK
* checking Rd contents ... OK
* checking for unstated dependencies in examples ... OK
* checking files in ‘vignettes’ ... OK
* checking examples ... OK
* checking for unstated dependencies in ‘tests’ ... OK
* checking tests ...
  Running ‘runTests.R’
 OK
* checking for unstated dependencies in vignettes ... OK
* checking package vignettes ... OK
* checking re-building of vignette outputs ... OK
* checking PDF version of manual ... OK
* DONE

Status: 4 NOTEs
See
  ‘/home/biocbuild/bbs-3.19-bioc/meat/RCy3.Rcheck/00check.log’
for details.


Installation output

RCy3.Rcheck/00install.out

##############################################################################
##############################################################################
###
### Running command:
###
###   /home/biocbuild/bbs-3.19-bioc/R/bin/R CMD INSTALL RCy3
###
##############################################################################
##############################################################################


* installing to library ‘/home/biocbuild/bbs-3.19-bioc/R/site-library’
* installing *source* package ‘RCy3’ ...
** using staged installation
** R
** inst
** byte-compile and prepare package for lazy loading
** help
*** installing help indices
** building package indices
** installing vignettes
** testing if installed package can be loaded from temporary location
** testing if installed package can be loaded from final location
** testing if installed package keeps a record of temporary installation path
* DONE (RCy3)

Tests output

RCy3.Rcheck/tests/runTests.Rout


R version 4.4.1 (2024-06-14) -- "Race for Your Life"
Copyright (C) 2024 The R Foundation for Statistical Computing
Platform: x86_64-pc-linux-gnu

R is free software and comes with ABSOLUTELY NO WARRANTY.
You are welcome to redistribute it under certain conditions.
Type 'license()' or 'licence()' for distribution details.

R is a collaborative project with many contributors.
Type 'contributors()' for more information and
'citation()' on how to cite R or R packages in publications.

Type 'demo()' for some demos, 'help()' for on-line help, or
'help.start()' for an HTML browser interface to help.
Type 'q()' to quit R.

> # tests disabled as the Bioconductor build system no longer supports interactive sessions
> #require(RCy3) || stop("unable to load RCy3")
> #BiocGenerics:::testPackage('RCy3')
> 
> proc.time()
   user  system elapsed 
  0.161   0.030   0.179 

Example timings

RCy3.Rcheck/RCy3-Ex.timings

nameusersystemelapsed
AddToGroup000
RemoveFromGroup000
UpdateAnnotationBoundedText000
addAnnotationBoundedText000
addAnnotationImage000
addAnnotationShape000
addAnnotationText000
addCyEdges000
addCyNodes000
analyzeNetwork0.0000.0000.001
applyFilter000
bundleEdges000
checkNotebookIsRunning000
checkRunningRemote000
clearEdgeBends000
clearEdgePropertyBypass0.0000.0010.000
clearNetworkCenterBypass000
clearNetworkPropertyBypass000
clearNetworkZoomBypass0.0000.0000.001
clearNodeOpacityBypass000
clearNodePropertyBypass0.0000.0000.001
clearSelection000
cloneNetwork000
closeSession000
collapseGroup0.0010.0000.000
commandEcho000
commandOpenDialog0.0010.0000.000
commandPause000
commandQuit000
commandRunFile000
commandSleep000
commandsAPI0.0000.0000.001
commandsGET000
commandsHelp0.0010.0000.000
commandsPOST000
commandsRun0.0010.0000.000
copyVisualStyle000
createColumnFilter000
createCompositeFilter000
createCytoscapejsFromNetwork000
createDegreeFilter0.0000.0000.001
createGraphFromNetwork000
createGroup000
createGroupByColumn000
createIgraphFromNetwork0.0010.0000.000
createNetworkFromCytoscapejs000
createNetworkFromDataFrames000
createNetworkFromGraph000
createNetworkFromIgraph000
createSubnetwork0.0000.0000.001
createView000
createVisualStyle000
cybrowserClose000
cybrowserDialog0.0010.0000.000
cybrowserHide000
cybrowserList000
cybrowserSend000
cybrowserShow000
cybrowserVersion0.0000.0000.001
cyrestAPI000
cyrestDELETE000
cyrestGET000
cyrestPOST000
cyrestPUT000
cytoscapeApiVersions0.0010.0000.000
cytoscapeFreeMemory000
cytoscapeMemoryStatus000
cytoscapeNumberOfCores000
cytoscapePing000
cytoscapeVersionInfo0.0000.0000.001
deleteAllNetworks000
deleteAllVisualStyle0.0000.0000.001
deleteAnnotation000
deleteDuplicateEdges0.0000.0010.000
deleteGroup000
deleteNetwork0.0000.0010.000
deleteSelectedEdges000
deleteSelectedNodes000
deleteSelfLoops000
deleteStyleMapping000
deleteTableColumn0.0000.0000.001
deleteVisualStyle000
diffusionAdvanced000
diffusionBasic000
disableApp000
doInitializeSandbox000
doRequestRemote0.0000.0010.000
doSetSandbox000
dockPanel000
dot-exportShowImage0.0000.0000.001
dot-getDefaultSandbox000
dot-getRequester0.0000.0000.001
enableApp000
expandGroup0.0010.0000.000
exportFilters000
exportImage0.0010.0000.000
exportJPG000
exportNetwork000
exportNetworkToNDEx000
exportPDF000
exportPNG0.0000.0000.001
exportPS000
exportSVG000
exportVisualStyles000
findRemoteCytoscape0.0000.0010.000
fitContent000
floatPanel000
getAbsSandboxPath0.0000.0000.001
getAllEdges000
getAllNodes000
getAllStyleMappings000
getAnnotationList0.0010.0000.000
getAppInformation000
getAppStatus000
getAppUpdates000
getArrowShapes000
getAvailableApps000
getBackgroundColorDefault000
getBrowserClientChannel000
getBrowserClientJs000
getCollectionList000
getCollectionName000
getCollectionNetworks000
getCollectionSuid0.0000.0000.001
getCurrentSandbox000
getCurrentSandboxName000
getCurrentSandboxPath000
getCurrentStyle0.0000.0010.000
getDefaultSandbox000
getDefaultSandboxPath0.0010.0000.000
getDisabledApps000
getEdgeColor000
getEdgeCount0.0000.0010.000
getEdgeInfo000
getEdgeLineStyle000
getEdgeLineWidth000
getEdgeProperty000
getEdgeSelectionColorDefault0.0000.0000.001
getEdgeTargetArrowShape000
getFilterList0.0000.0010.000
getFirstNeighbors000
getGroupInfo000
getInstalledApps000
getJupyterBridgeURL000
getLayoutNameMapping0.0000.0000.001
getLayoutNames000
getLayoutPropertyNames0.0000.0010.000
getLayoutPropertyType000
getLayoutPropertyValue000
getLineStyles000
getNetworkCenter000
getNetworkCount0.0000.0000.001
getNetworkList000
getNetworkNDExId0.0000.0010.000
getNetworkName000
getNetworkProperty000
getNetworkSuid000
getNetworkViewSuid000
getNetworkViews0.0000.0000.001
getNetworkZoom000
getNodeColor000
getNodeCount000
getNodeHeight0.0000.0010.000
getNodeLabelPosition000
getNodeLabelPositionDefault000
getNodePosition0.0000.0000.001
getNodeProperty000
getNodeSelectionColorDefault000
getNodeShapes000
getNodeSize0.0010.0000.000
getNodeWidth000
getNotebookIsRunning000
getSandboxReinitialize0.0000.0000.001
getSelectedEdgeCount000
getSelectedEdges0.0000.0010.000
getSelectedNodeCount000
getSelectedNodes000
getStyleDependencies000
getStyleMapping000
getTableColumnNames0.0000.0000.001
getTableColumnTypes000
getTableColumns0.0000.0010.000
getTableValue000
getUninstalledApps0.0000.0010.000
getVisualPropertyDefault000
getVisualPropertyNames000
getVisualStyleJSON000
getVisualStyleNames000
groupAnnotation0.0000.0000.001
hideAllPanels000
hideEdges000
hideNodes000
hidePanel000
hideSelectedEdges000
hideSelectedNodes0.0010.0000.000
importFileFromUrl0.0000.0000.001
importFilters000
importNetworkFromFile000
importNetworkFromNDEx000
importVisualStyles000
installApp000
invertEdgeSelection0.0010.0000.000
invertNodeSelection000
layoutCopycat000
layoutNetwork0.0000.0000.001
listGroups000
lockNodeDimensions0.0000.0010.000
makeSimpleGraph0.0510.0010.052
makeSimpleIgraph0.0590.0000.059
mapTableColumn000
mapVisualProperty0.0000.0000.001
matchArrowColorToEdge0.0000.0000.001
mergeNetworks000
notebookExportShowImage000
notebookShowImage000
openAppStore000
openSession0.0010.0000.000
paletteColorBrewerAccent0.0040.0000.005
paletteColorBrewerBlues000
paletteColorBrewerBrBG000
paletteColorBrewerBuGn000
paletteColorBrewerBuPu0.0000.0010.001
paletteColorBrewerDark2000
paletteColorBrewerGnBu000
paletteColorBrewerGreens000
paletteColorBrewerGreys0.0000.0000.001
paletteColorBrewerOrRd000
paletteColorBrewerOranges000
paletteColorBrewerPRGn0.0010.0000.000
paletteColorBrewerPaired0.0000.0000.001
paletteColorBrewerPastel10.0000.0000.001
paletteColorBrewerPastel2000
paletteColorBrewerPiYG0.0010.0000.000
paletteColorBrewerPuBu000
paletteColorBrewerPuBuGn0.0000.0000.001
paletteColorBrewerPuOr000
paletteColorBrewerPuRd000
paletteColorBrewerPurples0.0010.0000.000
paletteColorBrewerRdBu0.0000.0000.001
paletteColorBrewerRdPu000
paletteColorBrewerRdYlBu000
paletteColorBrewerReds0.0010.0000.000
paletteColorBrewerSet10.0000.0000.001
paletteColorBrewerSet20.0000.0000.001
paletteColorBrewerSet3000
paletteColorBrewerYlGn0.0010.0000.000
paletteColorBrewerYlGnBu000
paletteColorBrewerYlOrBr0.0000.0000.001
paletteColorBrewerYlOrRd000
paletteColorRandom0.0010.0000.000
paletteColorVirdis0.0010.0000.000
removeNodeCustomGraphics000
renameNetwork000
renameTableColumn0.0000.0010.000
resetDefaultSandbox000
rotateLayout000
runningRemoteCheck0.0000.0000.001
sandboxGetFileInfo000
sandboxGetFrom000
sandboxInitializer000
sandboxRemove000
sandboxRemoveFile000
sandboxSendTo0.0010.0000.000
sandboxSet000
sandboxUrlTo000
saveSession0.0000.0000.001
scaleLayout000
selectAll0.0000.0010.000
selectAllEdges000
selectAllNodes000
selectEdges000
selectEdgesAdjacentToNodes000
selectEdgesAdjacentToSelectedNodes0.0000.0000.001
selectEdgesConnectingSelectedNodes000
selectFirstNeighbors000
selectNodes000
selectNodesConnectedBySelectedEdges0.0010.0000.000
setBackgroundColorDefault000
setCatchupFilterSecs000
setCatchupNetworkSecs0.0010.0000.000
setCurrentNetwork0.0000.0000.001
setCurrentSandbox000
setCurrentView000
setDefaultSandbox000
setDefaultSandboxPath0.0010.0000.000
setEdgeColorBypass000
setEdgeColorDefault000
setEdgeColorMapping0.0000.0010.001
setEdgeFontFaceBypass000
setEdgeFontFaceDefault000
setEdgeFontFaceMapping000
setEdgeFontSizeBypass000
setEdgeFontSizeDefault0.0000.0000.001
setEdgeFontSizeMapping000
setEdgeLabelBypass0.0000.0010.000
setEdgeLabelColorBypass000
setEdgeLabelColorDefault000
setEdgeLabelColorMapping000
setEdgeLabelDefault000
setEdgeLabelMapping0.0000.0000.001
setEdgeLabelOpacityBypass000
setEdgeLabelOpacityDefault000
setEdgeLabelOpacityMapping000
setEdgeLineStyleBypass000
setEdgeLineStyleDefault000
setEdgeLineStyleMapping0.0010.0000.000
setEdgeLineWidthBypass000
setEdgeLineWidthDefault000
setEdgeLineWidthMapping0.0000.0010.000
setEdgeOpacityBypass000
setEdgeOpacityDefault000
setEdgeOpacityMapping000
setEdgePropertyBypass000
setEdgeSelectionColorDefault0.0000.0000.001
setEdgeSourceArrowColorBypass000
setEdgeSourceArrowColorDefault000
setEdgeSourceArrowColorMapping000
setEdgeSourceArrowMapping000
setEdgeSourceArrowShapeBypass000
setEdgeSourceArrowShapeDefault0.0010.0000.000
setEdgeSourceArrowShapeMapping0.0000.0000.001
setEdgeTargetArrowColorBypass000
setEdgeTargetArrowColorDefault0.0000.0010.000
setEdgeTargetArrowColorMapping000
setEdgeTargetArrowMapping000
setEdgeTargetArrowShapeBypass000
setEdgeTargetArrowShapeDefault000
setEdgeTargetArrowShapeMapping0.0000.0000.001
setEdgeTooltipBypass000
setEdgeTooltipDefault000
setEdgeTooltipMapping000
setLayoutProperties0.0010.0000.000
setModelPropagationSecs0.0000.0000.001
setNetworkCenterBypass000
setNetworkPropertyBypass000
setNetworkZoomBypass000
setNodeBorderColorBypass000
setNodeBorderColorDefault0.0000.0000.001
setNodeBorderColorMapping000
setNodeBorderOpacityBypass000
setNodeBorderOpacityDefault000
setNodeBorderOpacityMapping0.0010.0000.000
setNodeBorderWidthBypass000
setNodeBorderWidthDefault000
setNodeBorderWidthMapping000
setNodeColorBypass000
setNodeColorDefault000
setNodeColorMapping000
setNodeComboOpacityMapping0.0010.0000.000
setNodeCustomBarChart0.0000.0000.001
setNodeCustomBoxChart000
setNodeCustomHeatMapChart000
setNodeCustomLineChart000
setNodeCustomLinearGradient000
setNodeCustomPieChart000
setNodeCustomPosition000
setNodeCustomRadialGradient0.0000.0010.001
setNodeCustomRingChart000
setNodeFillOpacityBypass000
setNodeFillOpacityDefault000
setNodeFillOpacityMapping000
setNodeFontFaceBypass000
setNodeFontFaceDefault000
setNodeFontFaceMapping0.0000.0010.001
setNodeFontSizeBypass000
setNodeFontSizeDefault000
setNodeFontSizeMapping000
setNodeHeightBypass000
setNodeHeightDefault000
setNodeHeightMapping000
setNodeLabelBypass0.0000.0000.001
setNodeLabelColorBypass000
setNodeLabelColorDefault000
setNodeLabelColorMapping000
setNodeLabelDefault000
setNodeLabelMapping000
setNodeLabelOpacityBypass000
setNodeLabelOpacityDefault0.0000.0010.001
setNodeLabelOpacityMapping000
setNodeLabelPositionBypass000
setNodeLabelPositionDefault000
setNodeOpacityBypass000
setNodePositionBypass000
setNodePropertyBypass000
setNodeSelectionColorDefault0.0000.0010.001
setNodeShapeBypass000
setNodeShapeDefault000
setNodeShapeMapping000
setNodeSizeBypass000
setNodeSizeDefault000
setNodeSizeMapping000
setNodeTooltipBypass000
setNodeTooltipDefault0.0000.0000.001
setNodeTooltipMapping000
setNodeWidthBypass000
setNodeWidthDefault0.0000.0000.001
setNodeWidthMapping000
setNotebookIsRunning000
setSandboxReinitialize000
setStyleDependencies0.0010.0000.000
setVisualPropertyDefault0.0000.0000.001
setVisualStyle000
syncNodeCustomGraphicsSize000
toggleGraphicsDetails000
ungroupAnnotation000
unhideAll000
unhideEdges000
unhideNodes0.0000.0010.000
uninstallApp000
updateAnnotationImage000
updateAnnotationShape000
updateAnnotationText0.0010.0000.000
updateApp0.0000.0000.001
updateGroupAnnotation000
updateNetworkInNDEx000
updateStyleDefaults000
updateStyleMapping000