Back to Multiple platform build/check report for BioC 3.19:   simplified   long
ABCDEFGHIJKLMNOPQ[R]STUVWXYZ

This page was generated on 2024-10-18 20:41 -0400 (Fri, 18 Oct 2024).

HostnameOSArch (*)R versionInstalled pkgs
nebbiolo1Linux (Ubuntu 22.04.3 LTS)x86_644.4.1 (2024-06-14) -- "Race for Your Life" 4763
palomino7Windows Server 2022 Datacenterx644.4.1 (2024-06-14 ucrt) -- "Race for Your Life" 4500
merida1macOS 12.7.5 Montereyx86_644.4.1 (2024-06-14) -- "Race for Your Life" 4530
kjohnson1macOS 13.6.6 Venturaarm644.4.1 (2024-06-14) -- "Race for Your Life" 4480
Click on any hostname to see more info about the system (e.g. compilers)      (*) as reported by 'uname -p', except on Windows and Mac OS X

Package 1694/2300HostnameOS / ArchINSTALLBUILDCHECKBUILD BIN
RCAS 1.30.0  (landing page)
Bora Uyar
Snapshot Date: 2024-10-16 14:00 -0400 (Wed, 16 Oct 2024)
git_url: https://git.bioconductor.org/packages/RCAS
git_branch: RELEASE_3_19
git_last_commit: 6c7eab5
git_last_commit_date: 2024-04-30 10:52:30 -0400 (Tue, 30 Apr 2024)
nebbiolo1Linux (Ubuntu 22.04.3 LTS) / x86_64  OK    OK    OK  UNNEEDED, same version is already published
palomino7Windows Server 2022 Datacenter / x64  OK    OK    OK    OK  UNNEEDED, same version is already published
merida1macOS 12.7.5 Monterey / x86_64  OK    OK    OK    OK  UNNEEDED, same version is already published
kjohnson1macOS 13.6.6 Ventura / arm64  OK    OK    OK    OK  UNNEEDED, same version is already published


CHECK results for RCAS on merida1

To the developers/maintainers of the RCAS package:
- Allow up to 24 hours (and sometimes 48 hours) for your latest push to git@git.bioconductor.org:packages/RCAS.git to reflect on this report. See Troubleshooting Build Report for more information.
- Use the following Renviron settings to reproduce errors and warnings.
- If 'R CMD check' started to fail recently on the Linux builder(s) over a missing dependency, add the missing dependency to 'Suggests:' in your DESCRIPTION file. See Renviron.bioc for more information.

raw results


Summary

Package: RCAS
Version: 1.30.0
Command: /Library/Frameworks/R.framework/Resources/bin/R CMD check --install=check:RCAS.install-out.txt --library=/Library/Frameworks/R.framework/Resources/library --no-vignettes --timings RCAS_1.30.0.tar.gz
StartedAt: 2024-10-17 11:32:58 -0400 (Thu, 17 Oct 2024)
EndedAt: 2024-10-17 11:56:37 -0400 (Thu, 17 Oct 2024)
EllapsedTime: 1419.3 seconds
RetCode: 0
Status:   OK  
CheckDir: RCAS.Rcheck
Warnings: 0

Command output

##############################################################################
##############################################################################
###
### Running command:
###
###   /Library/Frameworks/R.framework/Resources/bin/R CMD check --install=check:RCAS.install-out.txt --library=/Library/Frameworks/R.framework/Resources/library --no-vignettes --timings RCAS_1.30.0.tar.gz
###
##############################################################################
##############################################################################


* using log directory ‘/Users/biocbuild/bbs-3.19-bioc/meat/RCAS.Rcheck’
* using R version 4.4.1 (2024-06-14)
* using platform: x86_64-apple-darwin20
* R was compiled by
    Apple clang version 14.0.0 (clang-1400.0.29.202)
    GNU Fortran (GCC) 12.2.0
* running under: macOS Monterey 12.7.6
* using session charset: UTF-8
* using option ‘--no-vignettes’
* checking for file ‘RCAS/DESCRIPTION’ ... OK
* checking extension type ... Package
* this is package ‘RCAS’ version ‘1.30.0’
* checking package namespace information ... OK
* checking package dependencies ... OK
* checking if this is a source package ... OK
* checking if there is a namespace ... OK
* checking for hidden files and directories ... OK
* checking for portable file names ... OK
* checking for sufficient/correct file permissions ... OK
* checking whether package ‘RCAS’ can be installed ... OK
* checking installed package size ... OK
* checking package directory ... OK
* checking ‘build’ directory ... OK
* checking DESCRIPTION meta-information ... OK
* checking top-level files ... OK
* checking for left-over files ... OK
* checking index information ... OK
* checking package subdirectories ... OK
* checking code files for non-ASCII characters ... OK
* checking R files for syntax errors ... OK
* checking whether the package can be loaded ... OK
* checking whether the package can be loaded with stated dependencies ... OK
* checking whether the package can be unloaded cleanly ... OK
* checking whether the namespace can be loaded with stated dependencies ... OK
* checking whether the namespace can be unloaded cleanly ... OK
* checking dependencies in R code ... OK
* checking S3 generic/method consistency ... OK
* checking replacement functions ... OK
* checking foreign function calls ... OK
* checking R code for possible problems ... OK
* checking Rd files ... OK
* checking Rd metadata ... OK
* checking Rd cross-references ... OK
* checking for missing documentation entries ... OK
* checking for code/documentation mismatches ... OK
* checking Rd \usage sections ... OK
* checking Rd contents ... OK
* checking for unstated dependencies in examples ... OK
* checking contents of ‘data’ directory ... OK
* checking data for non-ASCII characters ... OK
* checking LazyData ... OK
* checking data for ASCII and uncompressed saves ... OK
* checking files in ‘vignettes’ ... OK
* checking examples ... OK
Examples with CPU (user + system) or elapsed time > 5s
                                  user system elapsed
runMotifDiscovery               80.755  0.946  79.965
getFeatureBoundaryCoverageMulti 28.411  2.454  35.386
getMotifSummaryTable            24.804  0.752 118.337
calculateCoverageProfileList    22.737  1.101  26.878
calculateCoverageProfile        19.196  0.801  23.428
findDifferentialMotifs          18.444  0.473  16.690
summarizeQueryRegionsMulti      17.921  0.615  51.638
getTargetedGenesTable           16.467  0.566  19.832
summarizeQueryRegions           15.183  0.498  18.397
getTxdbFeaturesFromGRanges      14.842  0.399  17.066
getFeatureBoundaryCoverageBin    9.227  0.378  10.775
plotFeatureBoundaryCoverage      8.969  0.227  10.471
getFeatureBoundaryCoverage       8.331  0.244   9.576
createDB                         7.179  0.236  41.881
findEnrichedFunctions            0.985  0.022   6.752
* checking for unstated dependencies in ‘tests’ ... OK
* checking tests ...
  Running ‘testthat.R’
 OK
* checking for unstated dependencies in vignettes ... OK
* checking package vignettes ... OK
* checking running R code from vignettes ... SKIPPED
* checking re-building of vignette outputs ... SKIPPED
* checking PDF version of manual ... OK
* DONE

Status: OK


Installation output

RCAS.Rcheck/00install.out

##############################################################################
##############################################################################
###
### Running command:
###
###   /Library/Frameworks/R.framework/Resources/bin/R CMD INSTALL RCAS
###
##############################################################################
##############################################################################


* installing to library ‘/Library/Frameworks/R.framework/Versions/4.4-x86_64/Resources/library’
* installing *source* package ‘RCAS’ ...
** using staged installation
** R
** data
*** moving datasets to lazyload DB
** inst
** byte-compile and prepare package for lazy loading
Warning: replacing previous import ‘Biostrings::pattern’ by ‘grid::pattern’ when loading ‘genomation’
** help
*** installing help indices
** building package indices
** installing vignettes
** testing if installed package can be loaded from temporary location
Warning: replacing previous import ‘Biostrings::pattern’ by ‘grid::pattern’ when loading ‘genomation’
** testing if installed package can be loaded from final location
Warning: replacing previous import ‘Biostrings::pattern’ by ‘grid::pattern’ when loading ‘genomation’
** testing if installed package keeps a record of temporary installation path
* DONE (RCAS)

Tests output

RCAS.Rcheck/tests/testthat.Rout


R version 4.4.1 (2024-06-14) -- "Race for Your Life"
Copyright (C) 2024 The R Foundation for Statistical Computing
Platform: x86_64-apple-darwin20

R is free software and comes with ABSOLUTELY NO WARRANTY.
You are welcome to redistribute it under certain conditions.
Type 'license()' or 'licence()' for distribution details.

R is a collaborative project with many contributors.
Type 'contributors()' for more information and
'citation()' on how to cite R or R packages in publications.

Type 'demo()' for some demos, 'help()' for on-line help, or
'help.start()' for an HTML browser interface to help.
Type 'q()' to quit R.

> library(testthat)
> library(RCAS)
Loading required package: plotly
Loading required package: ggplot2

Attaching package: 'plotly'

The following object is masked from 'package:ggplot2':

    last_plot

The following object is masked from 'package:stats':

    filter

The following object is masked from 'package:graphics':

    layout

Loading required package: DT
Loading required package: data.table
Warning message:
replacing previous import 'Biostrings::pattern' by 'grid::pattern' when loading 'genomation' 
> 
> test_check("RCAS")
[ FAIL 0 | WARN 9929 | SKIP 0 | PASS 48 ]

[ FAIL 0 | WARN 9929 | SKIP 0 | PASS 48 ]
> 
> proc.time()
   user  system elapsed 
217.655   5.837 258.992 

Example timings

RCAS.Rcheck/RCAS-Ex.timings

nameusersystemelapsed
calculateCoverageProfile19.196 0.80123.428
calculateCoverageProfileList22.737 1.10126.878
checkSeqDb0.5340.0510.812
createControlRegions0.7440.0390.875
createDB 7.179 0.23641.881
discoverFeatureSpecificMotifs0.0000.0010.001
extractSequences3.5220.4934.964
findDifferentialMotifs18.444 0.47316.690
findEnrichedFunctions0.9850.0226.752
generateKmers0.0000.0010.002
getFeatureBoundaryCoverage8.3310.2449.576
getFeatureBoundaryCoverageBin 9.227 0.37810.775
getFeatureBoundaryCoverageMulti28.411 2.45435.386
getIntervalOverlapMatrix2.0320.0932.799
getMotifSummaryTable 24.804 0.752118.337
getPWM0.0020.0020.004
getTargetedGenesTable16.467 0.56619.832
getTxdbFeaturesFromGRanges14.842 0.39917.066
importBed0.5770.0370.656
importBedFiles2.4110.1382.780
importGtf0.0000.0010.002
plotFeatureBoundaryCoverage 8.969 0.22710.471
queryGff2.0860.1332.450
runMotifDiscovery80.755 0.94679.965
runReport0.0000.0020.004
runReportMetaAnalysis1.9810.4632.926
summarizeQueryRegions15.183 0.49818.397
summarizeQueryRegionsMulti17.921 0.61551.638