Back to Multiple platform build/check report for BioC 3.19: simplified long |
|
This page was generated on 2024-06-28 17:42 -0400 (Fri, 28 Jun 2024).
Hostname | OS | Arch (*) | R version | Installed pkgs |
---|---|---|---|---|
nebbiolo1 | Linux (Ubuntu 22.04.3 LTS) | x86_64 | 4.4.0 (2024-04-24) -- "Puppy Cup" | 4760 |
palomino3 | Windows Server 2022 Datacenter | x64 | 4.4.0 (2024-04-24 ucrt) -- "Puppy Cup" | 4494 |
merida1 | macOS 12.7.4 Monterey | x86_64 | 4.4.0 (2024-04-24) -- "Puppy Cup" | 4508 |
kjohnson1 | macOS 13.6.6 Ventura | arm64 | 4.4.0 (2024-04-24) -- "Puppy Cup" | 4466 |
palomino7 | Windows Server 2022 Datacenter | x64 | 4.4.1 (2024-06-14 ucrt) -- "Race for Your Life" | 4362 |
Click on any hostname to see more info about the system (e.g. compilers) (*) as reported by 'uname -p', except on Windows and Mac OS X |
Package 1562/2300 | Hostname | OS / Arch | INSTALL | BUILD | CHECK | BUILD BIN | ||||||||
PhyloProfile 1.18.0 (landing page) Vinh Tran
| nebbiolo1 | Linux (Ubuntu 22.04.3 LTS) / x86_64 | OK | OK | OK | |||||||||
palomino3 | Windows Server 2022 Datacenter / x64 | OK | OK | OK | OK | |||||||||
merida1 | macOS 12.7.4 Monterey / x86_64 | OK | OK | OK | OK | |||||||||
kjohnson1 | macOS 13.6.6 Ventura / arm64 | OK | OK | OK | OK | |||||||||
palomino7 | Windows Server 2022 Datacenter / x64 | OK | OK | OK | OK | |||||||||
To the developers/maintainers of the PhyloProfile package: - Allow up to 24 hours (and sometimes 48 hours) for your latest push to git@git.bioconductor.org:packages/PhyloProfile.git to reflect on this report. See Troubleshooting Build Report for more information. - Use the following Renviron settings to reproduce errors and warnings. - If 'R CMD check' started to fail recently on the Linux builder(s) over a missing dependency, add the missing dependency to 'Suggests:' in your DESCRIPTION file. See Renviron.bioc for more information. |
Package: PhyloProfile |
Version: 1.18.0 |
Command: F:\biocbuild\bbs-3.19-bioc\R\bin\R.exe CMD check --no-multiarch --install=check:PhyloProfile.install-out.txt --library=F:\biocbuild\bbs-3.19-bioc\R\library --no-vignettes --timings PhyloProfile_1.18.0.tar.gz |
StartedAt: 2024-06-27 04:44:24 -0400 (Thu, 27 Jun 2024) |
EndedAt: 2024-06-27 04:47:29 -0400 (Thu, 27 Jun 2024) |
EllapsedTime: 185.7 seconds |
RetCode: 0 |
Status: OK |
CheckDir: PhyloProfile.Rcheck |
Warnings: 0 |
############################################################################## ############################################################################## ### ### Running command: ### ### F:\biocbuild\bbs-3.19-bioc\R\bin\R.exe CMD check --no-multiarch --install=check:PhyloProfile.install-out.txt --library=F:\biocbuild\bbs-3.19-bioc\R\library --no-vignettes --timings PhyloProfile_1.18.0.tar.gz ### ############################################################################## ############################################################################## * using log directory 'F:/biocbuild/bbs-3.19-bioc/meat/PhyloProfile.Rcheck' * using R version 4.4.0 (2024-04-24 ucrt) * using platform: x86_64-w64-mingw32 * R was compiled by gcc.exe (GCC) 13.2.0 GNU Fortran (GCC) 13.2.0 * running under: Windows Server 2022 x64 (build 20348) * using session charset: UTF-8 * using option '--no-vignettes' * checking for file 'PhyloProfile/DESCRIPTION' ... OK * this is package 'PhyloProfile' version '1.18.0' * package encoding: UTF-8 * checking package namespace information ... OK * checking package dependencies ... OK * checking if this is a source package ... OK * checking if there is a namespace ... OK * checking for hidden files and directories ... OK * checking for portable file names ... OK * checking whether package 'PhyloProfile' can be installed ... OK * checking installed package size ... OK * checking package directory ... OK * checking 'build' directory ... OK * checking DESCRIPTION meta-information ... NOTE License stub is invalid DCF. * checking top-level files ... OK * checking for left-over files ... OK * checking index information ... OK * checking package subdirectories ... OK * checking code files for non-ASCII characters ... OK * checking R files for syntax errors ... OK * checking whether the package can be loaded ... OK * checking whether the package can be loaded with stated dependencies ... OK * checking whether the package can be unloaded cleanly ... OK * checking whether the namespace can be loaded with stated dependencies ... OK * checking whether the namespace can be unloaded cleanly ... OK * checking dependencies in R code ... OK * checking S3 generic/method consistency ... OK * checking replacement functions ... OK * checking foreign function calls ... OK * checking R code for possible problems ... OK * checking Rd files ... NOTE checkRd: (-1) addRankDivisionPlot.Rd:75: Lost braces; missing escapes or markup? 75 | Vinh Tran {tran@bio.uni-frankfurt.de} | ^ checkRd: (-1) calcPresSpec.Rd:33: Lost braces; missing escapes or markup? 33 | Vinh Tran {tran@bio.uni-frankfurt.de} | ^ checkRd: (-1) checkInputValidity.Rd:29: Lost braces; missing escapes or markup? 29 | Vinh Tran {tran@bio.uni-frankfurt.de} | ^ checkRd: (-1) checkNewick.Rd:32: Lost braces; missing escapes or markup? 32 | Vinh Tran {tran@bio.uni-frankfurt.de} | ^ checkRd: (-1) checkOmaID.Rd:23: Lost braces; missing escapes or markup? 23 | Vinh Tran {tran@bio.uni-frankfurt.de} | ^ checkRd: (-1) clusterDataDend.Rd:39: Lost braces; missing escapes or markup? 39 | Vinh Tran {tran@bio.uni-frankfurt.de} | ^ checkRd: (-1) createArchiPlot.Rd:60: Lost braces; missing escapes or markup? 60 | Vinh Tran {tran@bio.uni-frankfurt.de} | ^ checkRd: (-1) createGeneAgePlot.Rd:33: Lost braces; missing escapes or markup? 33 | Vinh Tran {tran@bio.uni-frankfurt.de} | ^ checkRd: (-1) createLongMatrix.Rd:32: Lost braces; missing escapes or markup? 32 | Vinh Tran {tran@bio.uni-frankfurt.de} | ^ checkRd: (-1) createPercentageDistributionData.Rd:35: Lost braces; missing escapes or markup? 35 | Vinh Tran {tran@bio.uni-frankfurt.de} | ^ checkRd: (-1) createProfileFromOma.Rd:29: Lost braces; missing escapes or markup? 29 | Vinh Tran {tran@bio.uni-frankfurt.de} | ^ checkRd: (-1) createUnrootedTree.Rd:28: Lost braces; missing escapes or markup? 28 | Vinh Tran {tran@bio.uni-frankfurt.de} | ^ checkRd: (-1) createVarDistPlot.Rd:56: Lost braces; missing escapes or markup? 56 | Vinh Tran {tran@bio.uni-frankfurt.de} | ^ checkRd: (-1) createVariableDistributionData.Rd:36: Lost braces; missing escapes or markup? 36 | Vinh Tran {tran@bio.uni-frankfurt.de} | ^ checkRd: (-1) createVariableDistributionDataSubset.Rd:50: Lost braces; missing escapes or markup? 50 | Vinh Tran {tran@bio.uni-frankfurt.de} | ^ checkRd: (-1) dataCustomizedPlot.Rd:42: Lost braces; missing escapes or markup? 42 | Vinh Tran {tran@bio.uni-frankfurt.de} | ^ checkRd: (-1) dataMainPlot.Rd:34: Lost braces; missing escapes or markup? 34 | Vinh Tran {tran@bio.uni-frankfurt.de} | ^ checkRd: (-1) estimateGeneAge.Rd:64: Lost braces; missing escapes or markup? 64 | Vinh Tran {tran@bio.uni-frankfurt.de} | ^ checkRd: (-1) fastaParser.Rd:29: Lost braces; missing escapes or markup? 29 | Vinh Tran {tran@bio.uni-frankfurt.de} | ^ checkRd: (-1) featureDistTaxPlot.Rd:51: Lost braces; missing escapes or markup? 51 | Vinh Tran {tran@bio.uni-frankfurt.de} | ^ checkRd: (-1) filterProfileData.Rd:110: Lost braces; missing escapes or markup? 110 | Vinh Tran {tran@bio.uni-frankfurt.de} | ^ checkRd: (-1) filteredProfile.Rd:13: Lost braces in \itemize; \value handles \item{}{} directly checkRd: (-1) filteredProfile.Rd:14-15: Lost braces in \itemize; \value handles \item{}{} directly checkRd: (-1) filteredProfile.Rd:16: Lost braces in \itemize; \value handles \item{}{} directly checkRd: (-1) filteredProfile.Rd:17: Lost braces in \itemize; \value handles \item{}{} directly checkRd: (-1) filteredProfile.Rd:18: Lost braces in \itemize; \value handles \item{}{} directly checkRd: (-1) filteredProfile.Rd:19: Lost braces in \itemize; \value handles \item{}{} directly checkRd: (-1) filteredProfile.Rd:20: Lost braces in \itemize; \value handles \item{}{} directly checkRd: (-1) filteredProfile.Rd:21: Lost braces in \itemize; \value handles \item{}{} directly checkRd: (-1) filteredProfile.Rd:22: Lost braces in \itemize; \value handles \item{}{} directly checkRd: (-1) filteredProfile.Rd:23: Lost braces in \itemize; \value handles \item{}{} directly checkRd: (-1) filteredProfile.Rd:24-25: Lost braces in \itemize; \value handles \item{}{} directly checkRd: (-1) filteredProfile.Rd:26: Lost braces in \itemize; \value handles \item{}{} directly checkRd: (-1) filteredProfile.Rd:27: Lost braces in \itemize; \value handles \item{}{} directly checkRd: (-1) filteredProfile.Rd:28: Lost braces in \itemize; \value handles \item{}{} directly checkRd: (-1) filteredProfile.Rd:29: Lost braces in \itemize; \value handles \item{}{} directly checkRd: (-1) filteredProfile.Rd:30: Lost braces in \itemize; \value handles \item{}{} directly checkRd: (-1) filteredProfile.Rd:31: Lost braces in \itemize; \value handles \item{}{} directly checkRd: (-1) filteredProfile.Rd:32: Lost braces in \itemize; \value handles \item{}{} directly checkRd: (-1) filteredProfile.Rd:33: Lost braces in \itemize; \value handles \item{}{} directly checkRd: (-1) filteredProfile.Rd:34: Lost braces in \itemize; \value handles \item{}{} directly checkRd: (-1) finalProcessedProfile.Rd:13: Lost braces in \itemize; \value handles \item{}{} directly checkRd: (-1) finalProcessedProfile.Rd:14-15: Lost braces in \itemize; \value handles \item{}{} directly checkRd: (-1) finalProcessedProfile.Rd:16-17: Lost braces in \itemize; \value handles \item{}{} directly checkRd: (-1) finalProcessedProfile.Rd:18: Lost braces in \itemize; \value handles \item{}{} directly checkRd: (-1) finalProcessedProfile.Rd:19: Lost braces in \itemize; \value handles \item{}{} directly checkRd: (-1) finalProcessedProfile.Rd:20: Lost braces in \itemize; \value handles \item{}{} directly checkRd: (-1) finalProcessedProfile.Rd:21: Lost braces in \itemize; \value handles \item{}{} directly checkRd: (-1) finalProcessedProfile.Rd:22: Lost braces in \itemize; \value handles \item{}{} directly checkRd: (-1) finalProcessedProfile.Rd:23: Lost braces in \itemize; \value handles \item{}{} directly checkRd: (-1) finalProcessedProfile.Rd:24: Lost braces in \itemize; \value handles \item{}{} directly checkRd: (-1) finalProcessedProfile.Rd:25: Lost braces in \itemize; \value handles \item{}{} directly checkRd: (-1) fromInputToProfile.Rd:112: Lost braces; missing escapes or markup? 112 | Vinh Tran {tran@bio.uni-frankfurt.de} | ^ checkRd: (-1) fullProcessedProfile.Rd:13-14: Lost braces in \itemize; \value handles \item{}{} directly checkRd: (-1) fullProcessedProfile.Rd:15: Lost braces in \itemize; \value handles \item{}{} directly checkRd: (-1) fullProcessedProfile.Rd:16: Lost braces in \itemize; \value handles \item{}{} directly checkRd: (-1) fullProcessedProfile.Rd:17: Lost braces in \itemize; \value handles \item{}{} directly checkRd: (-1) fullProcessedProfile.Rd:18: Lost braces in \itemize; \value handles \item{}{} directly checkRd: (-1) fullProcessedProfile.Rd:19: Lost braces in \itemize; \value handles \item{}{} directly checkRd: (-1) fullProcessedProfile.Rd:20: Lost braces in \itemize; \value handles \item{}{} directly checkRd: (-1) fullProcessedProfile.Rd:21: Lost braces in \itemize; \value handles \item{}{} directly checkRd: (-1) fullProcessedProfile.Rd:22: Lost braces in \itemize; \value handles \item{}{} directly checkRd: (-1) fullProcessedProfile.Rd:23: Lost braces in \itemize; \value handles \item{}{} directly checkRd: (-1) fullProcessedProfile.Rd:24-25: Lost braces in \itemize; \value handles \item{}{} directly checkRd: (-1) fullProcessedProfile.Rd:26: Lost braces in \itemize; \value handles \item{}{} directly checkRd: (-1) fullProcessedProfile.Rd:27: Lost braces in \itemize; \value handles \item{}{} directly checkRd: (-1) fullProcessedProfile.Rd:28: Lost braces in \itemize; \value handles \item{}{} directly checkRd: (-1) geneAgePlotDf.Rd:32: Lost braces; missing escapes or markup? 32 | Vinh Tran {tran@bio.uni-frankfurt.de} | ^ checkRd: (-1) generateSinglePlot.Rd:47: Lost braces; missing escapes or markup? 47 | Vinh Tran {tran@bio.uni-frankfurt.de} | ^ checkRd: (-1) getAllDomainsOma.Rd:29: Lost braces; missing escapes or markup? 29 | Vinh Tran {tran@bio.uni-frankfurt.de} | ^ checkRd: (-1) getAllFastaOma.Rd:27: Lost braces; missing escapes or markup? 27 | Vinh Tran {tran@bio.uni-frankfurt.de} | ^ checkRd: (-1) getCoreGene.Rd:72: Lost braces; missing escapes or markup? 72 | Vinh Tran {tran@bio.uni-frankfurt.de} | ^ checkRd: (-1) getDataForOneOma.Rd:28: Lost braces; missing escapes or markup? 28 | Vinh Tran {tran@bio.uni-frankfurt.de} | ^ checkRd: (-1) getDendrogram.Rd:34: Lost braces; missing escapes or markup? 34 | Vinh Tran {tran@bio.uni-frankfurt.de} | ^ checkRd: (-1) getDomainFolder.Rd:29: Lost braces; missing escapes or markup? 29 | Vinh Tran {tran@bio.uni-frankfurt.de} | ^ checkRd: (-1) getFastaFromFasInput.Rd:29: Lost braces; missing escapes or markup? 29 | Vinh Tran {tran@bio.uni-frankfurt.de} | ^ checkRd: (-1) getFastaFromFile.Rd:29: Lost braces; missing escapes or markup? 29 | Vinh Tran {tran@bio.uni-frankfurt.de} | ^ checkRd: (-1) getFastaFromFolder.Rd:43: Lost braces; missing escapes or markup? 43 | Vinh Tran {tran@bio.uni-frankfurt.de} | ^ checkRd: (-1) getIDsRank.Rd:38: Lost braces; missing escapes or markup? 38 | Vinh Tran {tran@bio.uni-frankfurt.de} | ^ checkRd: (-1) getInputTaxaID.Rd:26: Lost braces; missing escapes or markup? 26 | Vinh Tran {tran@bio.uni-frankfurt.de} | ^ checkRd: (-1) getInputTaxaName.Rd:33: Lost braces; missing escapes or markup? 33 | Vinh Tran {tran@bio.uni-frankfurt.de} | ^ checkRd: (-1) getNameList.Rd:24: Lost braces; missing escapes or markup? 24 | Vinh Tran {tran@bio.uni-frankfurt.de} | ^ checkRd: (-1) getOmaDataForOneOrtholog.Rd:24: Lost braces; missing escapes or markup? 24 | Vinh Tran {tran@bio.uni-frankfurt.de} | ^ checkRd: (-1) getOmaDomainFromURL.Rd:25: Lost braces; missing escapes or markup? 25 | Vinh Tran {tran@bio.uni-frankfurt.de} | ^ checkRd: (-1) getOmaMembers.Rd:28: Lost braces; missing escapes or markup? 28 | Carla Mölbert {carla.moelbert@gmx.de} | ^ checkRd: (-1) getQualColForVector.Rd:27: Lost braces; missing escapes or markup? 27 | Vinh Tran {tran@bio.uni-frankfurt.de} | ^ checkRd: (-1) getSelectedFastaOma.Rd:29: Lost braces; missing escapes or markup? 29 | Vinh Tran {tran@bio.uni-frankfurt.de} | ^ checkRd: (-1) getSelectedTaxonNames.Rd:45: Lost braces; missing escapes or markup? 45 | Vinh Tran {tran@bio.uni-frankfurt.de} | ^ checkRd: (-1) getTaxHierarchy.Rd:32: Lost braces; missing escapes or markup? 32 | Vinh Tran {tran@bio.uni-frankfurt.de} | ^ checkRd: (-1) getTaxonomyInfo.Rd:32: Lost braces; missing escapes or markup? 32 | Vinh Tran {tran@bio.uni-frankfurt.de} | ^ checkRd: (-1) getTaxonomyMatrix.Rd:33: Lost braces; missing escapes or markup? 33 | Vinh Tran {tran@bio.uni-frankfurt.de} | ^ checkRd: (-1) heatmapPlotting.Rd:69: Lost braces; missing escapes or markup? 69 | Vinh Tran {tran@bio.uni-frankfurt.de} | ^ checkRd: (-1) highlightProfilePlot.Rd:73: Lost braces; missing escapes or markup? 73 | Vinh Tran {tran@bio.uni-frankfurt.de} | ^ checkRd: (-1) id2name.Rd:31: Lost braces; missing escapes or markup? 31 | Vinh Tran {tran@bio.uni-frankfurt.de} | ^ checkRd: (-1) mainLongRaw.Rd:13: Lost braces in \itemize; \value handles \item{}{} directly checkRd: (-1) mainLongRaw.Rd:14: Lost braces in \itemize; \value handles \item{}{} directly checkRd: (-1) mainLongRaw.Rd:15: Lost braces in \itemize; \value handles \item{}{} directly checkRd: (-1) mainLongRaw.Rd:16: Lost braces in \itemize; \value handles \item{}{} directly checkRd: (-1) mainLongRaw.Rd:17: Lost braces in \itemize; \value handles \item{}{} directly checkRd: (-1) mainTaxonomyRank.Rd:19: Lost braces; missing escapes or markup? 19 | Vinh Tran {tran@bio.uni-frankfurt.de} | ^ checkRd: (-1) modifyFeatureName.Rd:32: Lost braces; missing escapes or markup? 32 | Vinh Tran {tran@bio.uni-frankfurt.de} | ^ checkRd: (-1) pairDomainPlotting.Rd:59: Lost braces; missing escapes or markup? 59 | Vinh Tran {tran@bio.uni-frankfurt.de} | ^ checkRd: (-1) parseDomainInput.Rd:40: Lost braces; missing escapes or markup? 40 | Vinh Tran {tran@bio.uni-frankfurt.de} | ^ checkRd: (-1) parseInfoProfile.Rd:48: Lost braces; missing escapes or markup? 48 | Vinh Tran {tran@bio.uni-frankfurt.de} | ^ checkRd: (-1) ppTaxonomyMatrix.Rd:13: Lost braces in \itemize; \value handles \item{}{} directly checkRd: (-1) ppTaxonomyMatrix.Rd:14: Lost braces in \itemize; \value handles \item{}{} directly checkRd: (-1) ppTaxonomyMatrix.Rd:15: Lost braces in \itemize; \value handles \item{}{} directly checkRd: (-1) ppTaxonomyMatrix.Rd:16: Lost braces in \itemize; \value handles \item{}{} directly checkRd: (-1) processNcbiTaxonomy.Rd:39: Lost braces; missing escapes or markup? 39 | Vinh Tran {tran@bio.uni-frankfurt.de} | ^ checkRd: (-1) processOrthoID.Rd:15: Lost braces; missing escapes or markup? 15 | <taxID:orthoID>. New column {orthoFreq} specifies if the ortholog IDs are | ^ checkRd: (-1) processOrthoID.Rd:29: Lost braces; missing escapes or markup? 29 | Vinh Tran {tran@bio.uni-frankfurt.de} | ^ checkRd: (-1) profileWithTaxonomy.Rd:13: Lost braces in \itemize; \value handles \item{}{} directly checkRd: (-1) profileWithTaxonomy.Rd:14: Lost braces in \itemize; \value handles \item{}{} directly checkRd: (-1) profileWithTaxonomy.Rd:15: Lost braces in \itemize; \value handles \item{}{} directly checkRd: (-1) profileWithTaxonomy.Rd:16: Lost braces in \itemize; \value handles \item{}{} directly checkRd: (-1) profileWithTaxonomy.Rd:17: Lost braces in \itemize; \value handles \item{}{} directly checkRd: (-1) profileWithTaxonomy.Rd:18: Lost braces in \itemize; \value handles \item{}{} directly checkRd: (-1) profileWithTaxonomy.Rd:19: Lost braces in \itemize; \value handles \item{}{} directly checkRd: (-1) profileWithTaxonomy.Rd:20: Lost braces in \itemize; \value handles \item{}{} directly checkRd: (-1) profileWithTaxonomy.Rd:21: Lost braces in \itemize; \value handles \item{}{} directly checkRd: (-1) profileWithTaxonomy.Rd:22-23: Lost braces in \itemize; \value handles \item{}{} directly checkRd: (-1) profileWithTaxonomy.Rd:24: Lost braces in \itemize; \value handles \item{}{} directly checkRd: (-1) profileWithTaxonomy.Rd:25: Lost braces in \itemize; \value handles \item{}{} directly checkRd: (-1) rankIndexing.Rd:29: Lost braces; missing escapes or markup? 29 | Vinh Tran {tran@bio.uni-frankfurt.de} | ^ checkRd: (-1) reduceProfile.Rd:33: Lost braces; missing escapes or markup? 33 | Vinh Tran {tran@bio.uni-frankfurt.de} | ^ checkRd: (-1) singleDomainPlotting.Rd:78: Lost braces; missing escapes or markup? 78 | Vinh Tran {tran@bio.uni-frankfurt.de} | ^ checkRd: (-1) sortDomains.Rd:41: Lost braces; missing escapes or markup? 41 | Vinh Tran {tran@bio.uni-frankfurt.de} | ^ checkRd: (-1) sortInputTaxa.Rd:45: Lost braces; missing escapes or markup? 45 | Vinh Tran {tran@bio.uni-frankfurt.de} | ^ checkRd: (-1) sortTaxaFromTree.Rd:30: Lost braces; missing escapes or markup? 30 | Vinh Tran {tran@bio.uni-frankfurt.de} | ^ checkRd: (-1) taxonNamesReduced.Rd:13: Lost braces in \itemize; \value handles \item{}{} directly checkRd: (-1) taxonNamesReduced.Rd:14: Lost braces in \itemize; \value handles \item{}{} directly checkRd: (-1) taxonNamesReduced.Rd:15: Lost braces in \itemize; \value handles \item{}{} directly checkRd: (-1) taxonNamesReduced.Rd:16: Lost braces in \itemize; \value handles \item{}{} directly checkRd: (-1) taxonomyTableCreator.Rd:39: Lost braces; missing escapes or markup? 39 | Vinh Tran {tran@bio.uni-frankfurt.de} | ^ checkRd: (-1) varDistTaxPlot.Rd:50: Lost braces; missing escapes or markup? 50 | Vinh Tran {tran@bio.uni-frankfurt.de} | ^ checkRd: (-1) wideToLong.Rd:27: Lost braces; missing escapes or markup? 27 | Vinh Tran {tran@bio.uni-frankfurt.de} | ^ checkRd: (-1) xmlParser.Rd:27: Lost braces; missing escapes or markup? 27 | Vinh Tran {tran@bio.uni-frankfurt.de} | ^ * checking Rd metadata ... OK * checking Rd cross-references ... OK * checking for missing documentation entries ... OK * checking for code/documentation mismatches ... OK * checking Rd \usage sections ... OK * checking Rd contents ... OK * checking for unstated dependencies in examples ... OK * checking contents of 'data' directory ... OK * checking data for non-ASCII characters ... OK * checking data for ASCII and uncompressed saves ... OK * checking files in 'vignettes' ... OK * checking examples ... OK * checking for unstated dependencies in 'tests' ... OK * checking tests ... Running 'testthat.R' OK * checking for unstated dependencies in vignettes ... OK * checking package vignettes ... OK * checking running R code from vignettes ... SKIPPED * checking re-building of vignette outputs ... SKIPPED * checking PDF version of manual ... OK * DONE Status: 2 NOTEs See 'F:/biocbuild/bbs-3.19-bioc/meat/PhyloProfile.Rcheck/00check.log' for details.
PhyloProfile.Rcheck/00install.out
############################################################################## ############################################################################## ### ### Running command: ### ### F:\biocbuild\bbs-3.19-bioc\R\bin\R.exe CMD INSTALL PhyloProfile ### ############################################################################## ############################################################################## * installing to library 'F:/biocbuild/bbs-3.19-bioc/R/library' * installing *source* package 'PhyloProfile' ... ** using staged installation ** R ** data ** inst ** byte-compile and prepare package for lazy loading ** help *** installing help indices ** building package indices ** installing vignettes ** testing if installed package can be loaded from temporary location ** testing if installed package can be loaded from final location ** testing if installed package keeps a record of temporary installation path * DONE (PhyloProfile)
PhyloProfile.Rcheck/tests/testthat.Rout
R version 4.4.0 (2024-04-24 ucrt) -- "Puppy Cup" Copyright (C) 2024 The R Foundation for Statistical Computing Platform: x86_64-w64-mingw32/x64 R is free software and comes with ABSOLUTELY NO WARRANTY. You are welcome to redistribute it under certain conditions. Type 'license()' or 'licence()' for distribution details. R is a collaborative project with many contributors. Type 'contributors()' for more information and 'citation()' on how to cite R or R packages in publications. Type 'demo()' for some demos, 'help()' for on-line help, or 'help.start()' for an HTML browser interface to help. Type 'q()' to quit R. > library(testthat) > library(PhyloProfile) > > test_check("PhyloProfile") [ FAIL 0 | WARN 0 | SKIP 0 | PASS 20 ] > > proc.time() user system elapsed 7.32 1.03 8.39
PhyloProfile.Rcheck/PhyloProfile-Ex.timings
name | user | system | elapsed | |
addRankDivisionPlot | 1.24 | 0.14 | 1.37 | |
calcPresSpec | 0.02 | 0.01 | 0.04 | |
checkInputValidity | 0.04 | 0.00 | 0.03 | |
checkNewick | 0 | 0 | 0 | |
checkOmaID | 0.00 | 0.02 | 0.02 | |
clusterDataDend | 0.01 | 0.00 | 0.01 | |
compareMedianTaxonGroups | 0.02 | 0.03 | 0.05 | |
compareTaxonGroups | 0.03 | 0.05 | 0.08 | |
createArchiPlot | 0.67 | 0.03 | 0.70 | |
createGeneAgePlot | 0.20 | 0.00 | 0.21 | |
createLongMatrix | 0.03 | 0.00 | 0.03 | |
createPercentageDistributionData | 0.10 | 0.00 | 0.09 | |
createProfileFromOma | 0.01 | 0.00 | 0.02 | |
createUnrootedTree | 0 | 0 | 0 | |
createVarDistPlot | 0.13 | 0.01 | 0.14 | |
createVariableDistributionData | 0.01 | 0.00 | 0.01 | |
createVariableDistributionDataSubset | 0.00 | 0.02 | 0.01 | |
dataCustomizedPlot | 0.02 | 0.00 | 0.02 | |
dataFeatureTaxGroup | 0.02 | 0.00 | 0.01 | |
dataMainPlot | 0.03 | 0.00 | 0.04 | |
dataVarDistTaxGroup | 0.01 | 0.00 | 0.01 | |
estimateGeneAge | 0.10 | 0.01 | 0.11 | |
fastaParser | 0.06 | 0.00 | 0.06 | |
featureDistTaxPlot | 0.28 | 0.02 | 0.30 | |
filterProfileData | 0.11 | 0.04 | 0.16 | |
fromInputToProfile | 0.11 | 0.02 | 0.12 | |
geneAgePlotDf | 0 | 0 | 0 | |
generateSinglePlot | 0.62 | 0.01 | 0.64 | |
getAllDomainsOma | 0 | 0 | 0 | |
getAllFastaOma | 0 | 0 | 0 | |
getCommonAncestor | 0.04 | 0.00 | 0.03 | |
getCoreGene | 0.04 | 0.02 | 0.07 | |
getDataClustering | 0.02 | 0.00 | 0.01 | |
getDataForOneOma | 0 | 0 | 0 | |
getDendrogram | 0.06 | 0.02 | 0.08 | |
getDistanceMatrix | 0.02 | 0.00 | 0.02 | |
getDomainFolder | 0 | 0 | 0 | |
getFastaFromFasInput | 0.03 | 0.00 | 0.03 | |
getFastaFromFile | 0.01 | 0.00 | 0.01 | |
getFastaFromFolder | 0.05 | 0.00 | 0.05 | |
getIDsRank | 0.03 | 0.00 | 0.03 | |
getInputTaxaID | 0.00 | 0.01 | 0.02 | |
getInputTaxaName | 0.02 | 0.00 | 0.01 | |
getNameList | 0.06 | 0.02 | 0.08 | |
getOmaDataForOneOrtholog | 0 | 0 | 0 | |
getOmaDomainFromURL | 0 | 0 | 0 | |
getOmaMembers | 0 | 0 | 0 | |
getQualColForVector | 0 | 0 | 0 | |
getSelectedFastaOma | 0 | 0 | 0 | |
getSelectedTaxonNames | 0.03 | 0.01 | 0.05 | |
getTaxHierarchy | 0.02 | 0.00 | 0.01 | |
getTaxonomyInfo | 0.00 | 0.00 | 0.02 | |
getTaxonomyMatrix | 0.14 | 0.07 | 0.20 | |
getTaxonomyRanks | 0 | 0 | 0 | |
gridArrangeSharedLegend | 0.81 | 0.04 | 0.86 | |
heatmapPlotting | 0.23 | 0.00 | 0.23 | |
highlightProfilePlot | 0.27 | 0.02 | 0.29 | |
id2name | 0 | 0 | 0 | |
mainTaxonomyRank | 0 | 0 | 0 | |
modifyFeatureName | 0 | 0 | 0 | |
pairDomainPlotting | 0 | 0 | 0 | |
parseDomainInput | 0.03 | 0.00 | 0.03 | |
parseInfoProfile | 0.06 | 0.02 | 0.08 | |
processNcbiTaxonomy | 0.11 | 0.08 | 1.27 | |
processOrthoID | 0.14 | 0.06 | 0.22 | |
qualitativeColours | 0 | 0 | 0 | |
rankIndexing | 0 | 0 | 0 | |
reduceProfile | 0.02 | 0.02 | 0.03 | |
runPhyloProfile | 0.17 | 0.04 | 0.22 | |
singleDomainPlotting | 0 | 0 | 0 | |
sortDomains | 0 | 0 | 0 | |
sortInputTaxa | 0.04 | 0.02 | 0.06 | |
sortTaxaFromTree | 0.02 | 0.00 | 0.02 | |
taxonomyTableCreator | 0.19 | 0.01 | 0.20 | |
varDistTaxPlot | 0.95 | 0.02 | 0.97 | |
wideToLong | 0.01 | 0.00 | 0.02 | |
xmlParser | 0.02 | 0.01 | 0.03 | |