Back to Multiple platform build/check report for BioC 3.19: simplified long |
|
This page was generated on 2024-10-18 20:42 -0400 (Fri, 18 Oct 2024).
Hostname | OS | Arch (*) | R version | Installed pkgs |
---|---|---|---|---|
nebbiolo1 | Linux (Ubuntu 22.04.3 LTS) | x86_64 | 4.4.1 (2024-06-14) -- "Race for Your Life" | 4763 |
palomino7 | Windows Server 2022 Datacenter | x64 | 4.4.1 (2024-06-14 ucrt) -- "Race for Your Life" | 4500 |
merida1 | macOS 12.7.5 Monterey | x86_64 | 4.4.1 (2024-06-14) -- "Race for Your Life" | 4530 |
kjohnson1 | macOS 13.6.6 Ventura | arm64 | 4.4.1 (2024-06-14) -- "Race for Your Life" | 4480 |
Click on any hostname to see more info about the system (e.g. compilers) (*) as reported by 'uname -p', except on Windows and Mac OS X |
Package 1455/2300 | Hostname | OS / Arch | INSTALL | BUILD | CHECK | BUILD BIN | ||||||||
OLIN 1.82.0 (landing page) Matthias Futschik
| nebbiolo1 | Linux (Ubuntu 22.04.3 LTS) / x86_64 | OK | OK | OK | |||||||||
palomino7 | Windows Server 2022 Datacenter / x64 | OK | OK | OK | OK | |||||||||
merida1 | macOS 12.7.5 Monterey / x86_64 | OK | OK | OK | OK | |||||||||
kjohnson1 | macOS 13.6.6 Ventura / arm64 | OK | OK | OK | OK | |||||||||
To the developers/maintainers of the OLIN package: - Allow up to 24 hours (and sometimes 48 hours) for your latest push to git@git.bioconductor.org:packages/OLIN.git to reflect on this report. See Troubleshooting Build Report for more information. - Use the following Renviron settings to reproduce errors and warnings. - If 'R CMD check' started to fail recently on the Linux builder(s) over a missing dependency, add the missing dependency to 'Suggests:' in your DESCRIPTION file. See Renviron.bioc for more information. |
Package: OLIN |
Version: 1.82.0 |
Command: /Library/Frameworks/R.framework/Resources/bin/R CMD check --install=check:OLIN.install-out.txt --library=/Library/Frameworks/R.framework/Resources/library --no-vignettes --timings OLIN_1.82.0.tar.gz |
StartedAt: 2024-10-18 06:19:32 -0400 (Fri, 18 Oct 2024) |
EndedAt: 2024-10-18 06:20:42 -0400 (Fri, 18 Oct 2024) |
EllapsedTime: 69.7 seconds |
RetCode: 0 |
Status: OK |
CheckDir: OLIN.Rcheck |
Warnings: 0 |
############################################################################## ############################################################################## ### ### Running command: ### ### /Library/Frameworks/R.framework/Resources/bin/R CMD check --install=check:OLIN.install-out.txt --library=/Library/Frameworks/R.framework/Resources/library --no-vignettes --timings OLIN_1.82.0.tar.gz ### ############################################################################## ############################################################################## * using log directory ‘/Users/biocbuild/bbs-3.19-bioc/meat/OLIN.Rcheck’ * using R version 4.4.1 (2024-06-14) * using platform: aarch64-apple-darwin20 * R was compiled by Apple clang version 14.0.0 (clang-1400.0.29.202) GNU Fortran (GCC) 12.2.0 * running under: macOS Ventura 13.6.6 * using session charset: UTF-8 * using option ‘--no-vignettes’ * checking for file ‘OLIN/DESCRIPTION’ ... OK * this is package ‘OLIN’ version ‘1.82.0’ * checking package namespace information ... OK * checking package dependencies ... OK * checking if this is a source package ... OK * checking if there is a namespace ... OK * checking for hidden files and directories ... OK * checking for portable file names ... OK * checking for sufficient/correct file permissions ... OK * checking whether package ‘OLIN’ can be installed ... OK * checking installed package size ... OK * checking package directory ... OK * checking ‘build’ directory ... OK * checking DESCRIPTION meta-information ... NOTE Malformed Description field: should contain one or more complete sentences. Packages listed in more than one of Depends, Imports, Suggests, Enhances: ‘marray’ ‘methods’ A package should be listed in only one of these fields. * checking top-level files ... OK * checking for left-over files ... OK * checking index information ... OK * checking package subdirectories ... OK * checking code files for non-ASCII characters ... OK * checking R files for syntax errors ... OK * checking whether the package can be loaded ... OK * checking whether the package can be loaded with stated dependencies ... OK * checking whether the package can be unloaded cleanly ... OK * checking whether the namespace can be loaded with stated dependencies ... OK * checking whether the namespace can be unloaded cleanly ... OK * checking dependencies in R code ... NOTE 'library' or 'require' call to ‘convert’ in package code. Please use :: or requireNamespace() instead. See section 'Suggested packages' in the 'Writing R Extensions' manual. Package in Depends field not imported from: ‘locfit’ These packages need to be imported from (in the NAMESPACE file) for when this namespace is loaded but not attached. * checking S3 generic/method consistency ... OK * checking replacement functions ... OK * checking foreign function calls ... OK * checking R code for possible problems ... NOTE ino: no visible global function definition for ‘locfit’ ino: no visible global function definition for ‘predict’ lin: no visible global function definition for ‘locfit’ lin: no visible global function definition for ‘predict’ oin: no visible global function definition for ‘gcvplot’ oin: no visible global function definition for ‘locfit’ oin: no visible global function definition for ‘predict’ olin: no visible global function definition for ‘gcv’ olin: no visible global function definition for ‘locfit’ olin: no visible global function definition for ‘predict’ Undefined global functions or variables: gcv gcvplot locfit predict Consider adding importFrom("stats", "predict") to your NAMESPACE file. * checking Rd files ... OK * checking Rd metadata ... OK * checking Rd cross-references ... OK * checking for missing documentation entries ... OK * checking for code/documentation mismatches ... OK * checking Rd \usage sections ... OK * checking Rd contents ... OK * checking for unstated dependencies in examples ... OK * checking contents of ‘data’ directory ... OK * checking data for non-ASCII characters ... OK * checking data for ASCII and uncompressed saves ... OK * checking sizes of PDF files under ‘inst/doc’ ... OK * checking files in ‘vignettes’ ... OK * checking examples ... OK Examples with CPU (user + system) or elapsed time > 5s user system elapsed olin 19.814 0.417 20.458 * checking for unstated dependencies in vignettes ... OK * checking package vignettes ... OK * checking running R code from vignettes ... SKIPPED * checking re-building of vignette outputs ... SKIPPED * checking PDF version of manual ... OK * DONE Status: 3 NOTEs See ‘/Users/biocbuild/bbs-3.19-bioc/meat/OLIN.Rcheck/00check.log’ for details.
OLIN.Rcheck/00install.out
############################################################################## ############################################################################## ### ### Running command: ### ### /Library/Frameworks/R.framework/Resources/bin/R CMD INSTALL OLIN ### ############################################################################## ############################################################################## * installing to library ‘/Library/Frameworks/R.framework/Versions/4.4-arm64/Resources/library’ * installing *source* package ‘OLIN’ ... ** using staged installation ** R ** data ** inst ** byte-compile and prepare package for lazy loading ** help *** installing help indices ** building package indices ** installing vignettes ** testing if installed package can be loaded from temporary location ** testing if installed package can be loaded from final location ** testing if installed package keeps a record of temporary installation path * DONE (OLIN)
OLIN.Rcheck/OLIN-Ex.timings
name | user | system | elapsed | |
anovaint | 0.143 | 0.017 | 0.161 | |
anovapin | 0.186 | 0.009 | 0.194 | |
anovaplate | 0.104 | 0.008 | 0.113 | |
anovaspatial | 0.232 | 0.021 | 0.254 | |
backgroundCorrect2 | 0.524 | 0.053 | 0.585 | |
bas | 0.364 | 0.009 | 0.376 | |
colorbar.mxy | 0.062 | 0.007 | 0.068 | |
fdr.int | 0.000 | 0.001 | 0.000 | |
fdr.int2 | 0 | 0 | 0 | |
fdr.spatial | 0.000 | 0.001 | 0.000 | |
fdr.spatial2 | 0 | 0 | 0 | |
fgbg.visu | 0.115 | 0.013 | 0.128 | |
ino | 0.407 | 0.031 | 0.440 | |
lin | 0.801 | 0.066 | 0.870 | |
m2v | 0.070 | 0.008 | 0.078 | |
ma.matrix | 0.215 | 0.012 | 0.226 | |
ma.vector | 0.354 | 0.039 | 0.395 | |
mxy.abs.plot | 0.416 | 0.019 | 0.438 | |
mxy.plot | 0.084 | 0.011 | 0.098 | |
mxy2.plot | 0.068 | 0.009 | 0.079 | |
oin | 1.196 | 0.060 | 1.261 | |
olin | 19.814 | 0.417 | 20.458 | |
p.int | 0.001 | 0.001 | 0.001 | |
p.int2 | 0.000 | 0.001 | 0.000 | |
p.spatial | 0 | 0 | 0 | |
p.spatial2 | 0.000 | 0.001 | 0.000 | |
sig.mask | 0 | 0 | 0 | |
sigint.plot | 0.000 | 0.000 | 0.001 | |
sigint.plot2 | 0.000 | 0.000 | 0.001 | |
sigxy.plot | 0.001 | 0.000 | 0.001 | |
sigxy.plot2 | 0.000 | 0.001 | 0.000 | |
v2m | 0.071 | 0.006 | 0.081 | |