Back to Multiple platform build/check report for BioC 3.19: simplified long |
|
This page was generated on 2024-10-18 20:38 -0400 (Fri, 18 Oct 2024).
Hostname | OS | Arch (*) | R version | Installed pkgs |
---|---|---|---|---|
nebbiolo1 | Linux (Ubuntu 22.04.3 LTS) | x86_64 | 4.4.1 (2024-06-14) -- "Race for Your Life" | 4763 |
palomino7 | Windows Server 2022 Datacenter | x64 | 4.4.1 (2024-06-14 ucrt) -- "Race for Your Life" | 4500 |
merida1 | macOS 12.7.5 Monterey | x86_64 | 4.4.1 (2024-06-14) -- "Race for Your Life" | 4530 |
kjohnson1 | macOS 13.6.6 Ventura | arm64 | 4.4.1 (2024-06-14) -- "Race for Your Life" | 4480 |
Click on any hostname to see more info about the system (e.g. compilers) (*) as reported by 'uname -p', except on Windows and Mac OS X |
Package 980/2300 | Hostname | OS / Arch | INSTALL | BUILD | CHECK | BUILD BIN | ||||||||
HiTC 1.48.0 (landing page) Nicolas Servant
| nebbiolo1 | Linux (Ubuntu 22.04.3 LTS) / x86_64 | OK | OK | WARNINGS | |||||||||
palomino7 | Windows Server 2022 Datacenter / x64 | OK | OK | WARNINGS | OK | |||||||||
merida1 | macOS 12.7.5 Monterey / x86_64 | OK | OK | WARNINGS | OK | |||||||||
kjohnson1 | macOS 13.6.6 Ventura / arm64 | OK | OK | WARNINGS | OK | |||||||||
To the developers/maintainers of the HiTC package: - Allow up to 24 hours (and sometimes 48 hours) for your latest push to git@git.bioconductor.org:packages/HiTC.git to reflect on this report. See Troubleshooting Build Report for more information. - Use the following Renviron settings to reproduce errors and warnings. - If 'R CMD check' started to fail recently on the Linux builder(s) over a missing dependency, add the missing dependency to 'Suggests:' in your DESCRIPTION file. See Renviron.bioc for more information. |
Package: HiTC |
Version: 1.48.0 |
Command: /home/biocbuild/bbs-3.19-bioc/R/bin/R CMD check --install=check:HiTC.install-out.txt --library=/home/biocbuild/bbs-3.19-bioc/R/site-library --timings HiTC_1.48.0.tar.gz |
StartedAt: 2024-10-17 01:25:44 -0400 (Thu, 17 Oct 2024) |
EndedAt: 2024-10-17 01:31:50 -0400 (Thu, 17 Oct 2024) |
EllapsedTime: 365.8 seconds |
RetCode: 0 |
Status: WARNINGS |
CheckDir: HiTC.Rcheck |
Warnings: 2 |
############################################################################## ############################################################################## ### ### Running command: ### ### /home/biocbuild/bbs-3.19-bioc/R/bin/R CMD check --install=check:HiTC.install-out.txt --library=/home/biocbuild/bbs-3.19-bioc/R/site-library --timings HiTC_1.48.0.tar.gz ### ############################################################################## ############################################################################## * using log directory ‘/home/biocbuild/bbs-3.19-bioc/meat/HiTC.Rcheck’ * using R version 4.4.1 (2024-06-14) * using platform: x86_64-pc-linux-gnu * R was compiled by gcc (Ubuntu 11.4.0-1ubuntu1~22.04) 11.4.0 GNU Fortran (Ubuntu 11.4.0-1ubuntu1~22.04) 11.4.0 * running under: Ubuntu 22.04.5 LTS * using session charset: UTF-8 * checking for file ‘HiTC/DESCRIPTION’ ... OK * checking extension type ... Package * this is package ‘HiTC’ version ‘1.48.0’ * checking package namespace information ... OK * checking package dependencies ... OK * checking if this is a source package ... OK * checking if there is a namespace ... OK * checking for hidden files and directories ... OK * checking for portable file names ... OK * checking for sufficient/correct file permissions ... OK * checking whether package ‘HiTC’ can be installed ... OK * checking installed package size ... OK * checking package directory ... OK * checking ‘build’ directory ... OK * checking DESCRIPTION meta-information ... OK * checking top-level files ... OK * checking for left-over files ... OK * checking index information ... OK * checking package subdirectories ... NOTE Problems with news in ‘NEWS’: Cannot process chunk/lines: SIGNIFICANT USER-VISIBLE CHANGES Cannot process chunk/lines: BUG FIXES Cannot process chunk/lines: NEW FEATURES * checking code files for non-ASCII characters ... OK * checking R files for syntax errors ... OK * checking whether the package can be loaded ... OK * checking whether the package can be loaded with stated dependencies ... OK * checking whether the package can be unloaded cleanly ... OK * checking whether the namespace can be loaded with stated dependencies ... OK * checking whether the namespace can be unloaded cleanly ... OK * checking loading without being on the library search path ... OK * checking dependencies in R code ... OK * checking S3 generic/method consistency ... OK * checking replacement functions ... OK * checking foreign function calls ... OK * checking R code for possible problems ... NOTE directionalityIndex: no visible global function definition for ‘subjectHits’ directionalityIndex: no visible global function definition for ‘queryHits’ getBlocsIndex: no visible global function definition for ‘Rle’ getExpectedCountsMean: no visible global function definition for ‘Rle’ normLGF: no visible global function definition for ‘glm.nb’ slidingWindow: no visible binding for global variable ‘consV’ splitCombinedContacts : <anonymous>: no visible global function definition for ‘seqlevels<-’ divide,HTCexp-HTCexp: no visible global function definition for ‘queryHits’ divide,HTCexp-HTCexp: no visible global function definition for ‘subjectHits’ isBinned,HTCexp: no visible global function definition for ‘countMatches’ substract,HTCexp-HTCexp: no visible global function definition for ‘queryHits’ substract,HTCexp-HTCexp: no visible global function definition for ‘subjectHits’ Undefined global functions or variables: Rle consV countMatches glm.nb queryHits seqlevels<- subjectHits * checking Rd files ... WARNING checkRd: (5) HTClist-class.Rd:52-54: \item in \describe must have non-empty label * checking Rd metadata ... OK * checking Rd cross-references ... OK * checking for missing documentation entries ... OK * checking for code/documentation mismatches ... OK * checking Rd \usage sections ... OK * checking Rd contents ... OK * checking for unstated dependencies in examples ... OK * checking contents of ‘data’ directory ... OK * checking data for non-ASCII characters ... OK * checking data for ASCII and uncompressed saves ... OK * checking files in ‘vignettes’ ... OK * checking examples ... OK Examples with CPU (user + system) or elapsed time > 5s user system elapsed directionalityIndex 17.410 1.152 18.564 CQC 5.162 0.132 5.294 * checking for unstated dependencies in vignettes ... OK * checking package vignettes ... OK * checking re-building of vignette outputs ... WARNING Warnings in re-building vignettes: Warning: file stem ‘./HiTC-plot1’ is not portable Warning: file stem ‘./HiTC-plot2’ is not portable Warning: file stem ‘./HiTC-normICE’ is not portable Warning: file stem ‘./HiTC-tads’ is not portable Warning: file stem ‘./HiTC-di’ is not portable Warning: file stem ‘./HiTC-qcc’ is not portable Warning: file stem ‘./HiTC-bin5C’ is not portable Warning: file stem ‘./HiTC-norm5Cznorm’ is not portable Warning: file stem ‘./HiTC-annot5C’ is not portable Warning: file stem ‘./HiTC-comp5C’ is not portable Warning: file stem ‘./HiTC-mapClist’ is not portable Warning: file stem ‘./HiTC-mapChic’ is not portable Warning: file stem ‘./HiTC-mapNormhic’ is not portable Warning: file stem ‘./HiTC-mapCorhic’ is not portable Warning: file stem ‘./HiTC-mapPCAhic’ is not portable * checking PDF version of manual ... OK * DONE Status: 2 WARNINGs, 2 NOTEs See ‘/home/biocbuild/bbs-3.19-bioc/meat/HiTC.Rcheck/00check.log’ for details.
HiTC.Rcheck/00install.out
############################################################################## ############################################################################## ### ### Running command: ### ### /home/biocbuild/bbs-3.19-bioc/R/bin/R CMD INSTALL HiTC ### ############################################################################## ############################################################################## * installing to library ‘/home/biocbuild/bbs-3.19-bioc/R/site-library’ * installing *source* package ‘HiTC’ ... ** using staged installation ** R ** data ** inst ** byte-compile and prepare package for lazy loading ** help *** installing help indices ** building package indices ** installing vignettes ** testing if installed package can be loaded from temporary location ** testing if installed package can be loaded from final location ** testing if installed package keeps a record of temporary installation path * DONE (HiTC)
HiTC.Rcheck/HiTC-Ex.timings
name | user | system | elapsed | |
CQC | 5.162 | 0.132 | 5.294 | |
HTCexp-class | 2.697 | 0.127 | 2.825 | |
HTClist-class | 1.081 | 0.024 | 1.107 | |
Nora_5C | 0.169 | 0.000 | 0.169 | |
binningC | 0.914 | 0.008 | 0.923 | |
directionalityIndex | 17.410 | 1.152 | 18.564 | |
discretize | 0 | 0 | 0 | |
export.my5C | 0.000 | 0.000 | 0.001 | |
exportC | 0.000 | 0.001 | 0.000 | |
extractRegion | 0.290 | 0.062 | 0.352 | |
getAnnotatedRestrictionSites | 0 | 0 | 0 | |
getExpectedCounts | 1.749 | 0.783 | 2.411 | |
getPearsonMap | 0.441 | 0.043 | 0.485 | |
getRestrictionFragmentsPerChromosome | 0 | 0 | 0 | |
import.my5C | 0.076 | 0.004 | 0.080 | |
importC | 0.000 | 0.000 | 0.001 | |
intervalsDist | 0.343 | 0.091 | 0.435 | |
mapC | 3.221 | 0.533 | 3.752 | |
normICE | 0 | 0 | 0 | |
normLGF | 0.000 | 0.000 | 0.001 | |
pca.hic | 0.405 | 0.004 | 0.409 | |
removeIntervals | 0.214 | 0.000 | 0.214 | |
setGenomicFeatures | 0.001 | 0.000 | 0.001 | |
setIntervalScale | 0.74 | 0.00 | 0.74 | |