Back to Multiple platform build/check report for BioC 3.19: simplified long |
|
This page was generated on 2024-05-09 11:40:52 -0400 (Thu, 09 May 2024).
Hostname | OS | Arch (*) | R version | Installed pkgs |
---|---|---|---|---|
nebbiolo1 | Linux (Ubuntu 22.04.3 LTS) | x86_64 | 4.4.0 (2024-04-24) -- "Puppy Cup" | 4748 |
palomino3 | Windows Server 2022 Datacenter | x64 | 4.4.0 (2024-04-24 ucrt) -- "Puppy Cup" | 4484 |
lconway | macOS 12.7.1 Monterey | x86_64 | 4.4.0 (2024-04-24) -- "Puppy Cup" | 4514 |
kunpeng2 | Linux (openEuler 22.03 LTS-SP1) | aarch64 | 4.4.0 beta (2024-04-15 r86425) -- "Puppy Cup" | 4480 |
Click on any hostname to see more info about the system (e.g. compilers) (*) as reported by 'uname -p', except on Windows and Mac OS X |
Package 806/2300 | Hostname | OS / Arch | INSTALL | BUILD | CHECK | BUILD BIN | ||||||||
GeneGeneInteR 1.30.0 (landing page) Mathieu Emily
| nebbiolo1 | Linux (Ubuntu 22.04.3 LTS) / x86_64 | OK | OK | OK | |||||||||
palomino3 | Windows Server 2022 Datacenter / x64 | OK | ERROR | skipped | skipped | |||||||||
lconway | macOS 12.7.1 Monterey / x86_64 | OK | OK | OK | OK | |||||||||
kunpeng2 | Linux (openEuler 22.03 LTS-SP1) / aarch64 | OK | OK | OK | ||||||||||
kjohnson3 | macOS 13.6.5 Ventura / arm64 | see weekly results here | ||||||||||||
To the developers/maintainers of the GeneGeneInteR package: - Allow up to 24 hours (and sometimes 48 hours) for your latest push to git@git.bioconductor.org:packages/GeneGeneInteR.git to reflect on this report. See Troubleshooting Build Report for more information. - Use the following Renviron settings to reproduce errors and warnings. - If 'R CMD check' started to fail recently on the Linux builder(s) over a missing dependency, add the missing dependency to 'Suggests:' in your DESCRIPTION file. See Renviron.bioc for more information. - See Martin Grigorov's blog post for how to debug Linux ARM64 related issues on a x86_64 host. |
Package: GeneGeneInteR |
Version: 1.30.0 |
Command: /home/biocbuild/R/R-beta-2024-04-15_r86425/bin/R CMD check --install=check:GeneGeneInteR.install-out.txt --library=/home/biocbuild/R/R-beta-2024-04-15_r86425/site-library --no-vignettes --timings GeneGeneInteR_1.30.0.tar.gz |
StartedAt: 2024-05-09 07:39:15 -0000 (Thu, 09 May 2024) |
EndedAt: 2024-05-09 07:42:54 -0000 (Thu, 09 May 2024) |
EllapsedTime: 218.5 seconds |
RetCode: 0 |
Status: OK |
CheckDir: GeneGeneInteR.Rcheck |
Warnings: 0 |
############################################################################## ############################################################################## ### ### Running command: ### ### /home/biocbuild/R/R-beta-2024-04-15_r86425/bin/R CMD check --install=check:GeneGeneInteR.install-out.txt --library=/home/biocbuild/R/R-beta-2024-04-15_r86425/site-library --no-vignettes --timings GeneGeneInteR_1.30.0.tar.gz ### ############################################################################## ############################################################################## * using log directory ‘/home/biocbuild/bbs-3.19-bioc/meat/GeneGeneInteR.Rcheck’ * using R version 4.4.0 beta (2024-04-15 r86425) * using platform: aarch64-unknown-linux-gnu * R was compiled by gcc (GCC) 10.3.1 GNU Fortran (GCC) 10.3.1 * running under: openEuler 22.03 (LTS-SP1) * using session charset: UTF-8 * using option ‘--no-vignettes’ * checking for file ‘GeneGeneInteR/DESCRIPTION’ ... OK * checking extension type ... Package * this is package ‘GeneGeneInteR’ version ‘1.30.0’ * checking package namespace information ... OK * checking package dependencies ... OK * checking if this is a source package ... OK * checking if there is a namespace ... OK * checking for hidden files and directories ... OK * checking for portable file names ... OK * checking for sufficient/correct file permissions ... OK * checking whether package ‘GeneGeneInteR’ can be installed ... OK * used C++ compiler: ‘g++ (GCC) 10.3.1’ * checking installed package size ... OK * checking package directory ... OK * checking ‘build’ directory ... OK * checking DESCRIPTION meta-information ... OK * checking top-level files ... OK * checking for left-over files ... OK * checking index information ... OK * checking package subdirectories ... OK * checking code files for non-ASCII characters ... OK * checking R files for syntax errors ... OK * checking whether the package can be loaded ... OK * checking whether the package can be loaded with stated dependencies ... OK * checking whether the package can be unloaded cleanly ... OK * checking whether the namespace can be loaded with stated dependencies ... OK * checking whether the namespace can be unloaded cleanly ... OK * checking loading without being on the library search path ... OK * checking dependencies in R code ... OK * checking S3 generic/method consistency ... OK * checking replacement functions ... OK * checking foreign function calls ... OK * checking R code for possible problems ... NOTE get_PLSR: no visible global function definition for ‘cor’ get_PLSR_NA: no visible global function definition for ‘cor’ get_boot_stats: no visible binding for global variable ‘sd’ get_boots: no visible global function definition for ‘cor’ get_num_scale: no visible global function definition for ‘na.omit’ get_path_scheme: no visible global function definition for ‘lm’ get_path_scheme: no visible global function definition for ‘cor’ get_paths: no visible global function definition for ‘lm’ get_scores: no visible global function definition for ‘cor’ get_treated_data: no visible binding for global variable ‘sd’ get_unidim: no visible binding for global variable ‘sd’ get_unidim: no visible global function definition for ‘princomp’ get_unidim: no visible global function definition for ‘cor’ get_weights: no visible binding for global variable ‘sd’ get_weights: no visible global function definition for ‘cor’ get_weights_nonmetric: no visible binding for global variable ‘normalize’ get_weights_nonmetric: no visible global function definition for ‘cor’ get_weights_nonmetric: no visible global function definition for ‘lm’ get_weights_nonmetric: no visible binding for global variable ‘sd’ plspm: no visible global function definition for ‘cor’ Undefined global functions or variables: cor lm na.omit normalize princomp sd Consider adding importFrom("stats", "cor", "lm", "na.omit", "princomp", "sd") to your NAMESPACE file. * checking Rd files ... OK * checking Rd metadata ... OK * checking Rd cross-references ... NOTE Package unavailable to check Rd xrefs: ‘plspm’ Unknown package ‘GGtools’ in Rd xrefs * checking for missing documentation entries ... OK * checking for code/documentation mismatches ... OK * checking Rd \usage sections ... OK * checking Rd contents ... OK * checking for unstated dependencies in examples ... OK * checking contents of ‘data’ directory ... OK * checking data for non-ASCII characters ... OK * checking LazyData ... OK * checking data for ASCII and uncompressed saves ... OK * checking line endings in C/C++/Fortran sources/headers ... OK * checking compiled code ... NOTE Note: information on .o files is not available * checking files in ‘vignettes’ ... OK * checking examples ... OK * checking for unstated dependencies in vignettes ... OK * checking package vignettes ... OK * checking running R code from vignettes ... SKIPPED * checking re-building of vignette outputs ... SKIPPED * checking PDF version of manual ... OK * DONE Status: 3 NOTEs See ‘/home/biocbuild/bbs-3.19-bioc/meat/GeneGeneInteR.Rcheck/00check.log’ for details.
GeneGeneInteR.Rcheck/00install.out
############################################################################## ############################################################################## ### ### Running command: ### ### /home/biocbuild/R/R-beta-2024-04-15_r86425/bin/R CMD INSTALL GeneGeneInteR ### ############################################################################## ############################################################################## * installing to library ‘/home/biocbuild/R/R-beta-2024-04-15_r86425/site-library’ * installing *source* package ‘GeneGeneInteR’ ... ** using staged installation ** libs using C++ compiler: ‘g++ (GCC) 10.3.1’ g++ -std=gnu++17 -I"/home/biocbuild/R/R-beta-2024-04-15_r86425/include" -DNDEBUG -I/usr/local/include -fPIC -g -O2 -Wall -c chclust.cpp -o chclust.o g++ -std=gnu++17 -shared -L/home/biocbuild/R/R-beta-2024-04-15_r86425/lib -L/usr/local/lib -o GeneGeneInteR.so chclust.o -L/home/biocbuild/R/R-beta-2024-04-15_r86425/lib -lR installing to /home/biocbuild/R/R-beta-2024-04-15_r86425/site-library/00LOCK-GeneGeneInteR/00new/GeneGeneInteR/libs ** R ** data *** moving datasets to lazyload DB ** inst ** byte-compile and prepare package for lazy loading ** help *** installing help indices ** building package indices ** installing vignettes ** testing if installed package can be loaded from temporary location ** checking absolute paths in shared objects and dynamic libraries ** testing if installed package can be loaded from final location ** testing if installed package keeps a record of temporary installation path * DONE (GeneGeneInteR)
GeneGeneInteR.Rcheck/GeneGeneInteR-Ex.timings
name | user | system | elapsed | |
CCA.test | 1.369 | 0.023 | 1.408 | |
CLD.test | 4.807 | 0.074 | 4.926 | |
GBIGM.test | 3.716 | 0.067 | 3.803 | |
GGI | 1.300 | 0.011 | 1.322 | |
KCCA.test | 0.001 | 0.000 | 0.001 | |
PCA.test | 0.043 | 0.000 | 0.043 | |
PLSPM.test | 4.144 | 0.047 | 4.225 | |
gates.test | 0.374 | 0.019 | 0.397 | |
importFile | 0.295 | 0.004 | 0.304 | |
imputeSnpMatrix | 0.736 | 0.008 | 0.754 | |
minP.test | 0.537 | 0.011 | 0.555 | |
plot.GGInetwork | 0.106 | 0.000 | 0.108 | |
print.GGItest | 0.038 | 0.000 | 0.038 | |
selectSnps | 0.006 | 0.000 | 0.007 | |
snpMatrixScour | 0.035 | 0.000 | 0.035 | |
summary.GGInetwork | 0.006 | 0.000 | 0.006 | |
summary.GGItest | 0.023 | 0.000 | 0.022 | |
tProd.test | 0.408 | 0.008 | 0.420 | |
tTS.test | 0.451 | 0.000 | 0.455 | |