Back to Multiple platform build/check report for BioC 3.19: simplified long |
|
This page was generated on 2024-06-25 17:41 -0400 (Tue, 25 Jun 2024).
Hostname | OS | Arch (*) | R version | Installed pkgs |
---|---|---|---|---|
nebbiolo1 | Linux (Ubuntu 22.04.3 LTS) | x86_64 | 4.4.0 (2024-04-24) -- "Puppy Cup" | 4760 |
palomino3 | Windows Server 2022 Datacenter | x64 | 4.4.0 (2024-04-24 ucrt) -- "Puppy Cup" | 4494 |
merida1 | macOS 12.7.4 Monterey | x86_64 | 4.4.0 (2024-04-24) -- "Puppy Cup" | 4508 |
kjohnson1 | macOS 13.6.6 Ventura | arm64 | 4.4.0 (2024-04-24) -- "Puppy Cup" | 4466 |
Click on any hostname to see more info about the system (e.g. compilers) (*) as reported by 'uname -p', except on Windows and Mac OS X |
Package 277/2300 | Hostname | OS / Arch | INSTALL | BUILD | CHECK | BUILD BIN | ||||||||
CATALYST 1.28.0 (landing page) Helena L. Crowell
| nebbiolo1 | Linux (Ubuntu 22.04.3 LTS) / x86_64 | OK | OK | OK | |||||||||
palomino3 | Windows Server 2022 Datacenter / x64 | OK | OK | OK | OK | |||||||||
merida1 | macOS 12.7.4 Monterey / x86_64 | OK | OK | OK | OK | |||||||||
kjohnson1 | macOS 13.6.6 Ventura / arm64 | OK | OK | ERROR | OK | |||||||||
To the developers/maintainers of the CATALYST package: - Allow up to 24 hours (and sometimes 48 hours) for your latest push to git@git.bioconductor.org:packages/CATALYST.git to reflect on this report. See Troubleshooting Build Report for more information. - Use the following Renviron settings to reproduce errors and warnings. - If 'R CMD check' started to fail recently on the Linux builder(s) over a missing dependency, add the missing dependency to 'Suggests:' in your DESCRIPTION file. See Renviron.bioc for more information. |
Package: CATALYST |
Version: 1.28.0 |
Command: /Library/Frameworks/R.framework/Resources/bin/R CMD check --install=check:CATALYST.install-out.txt --library=/Library/Frameworks/R.framework/Resources/library --no-vignettes --timings CATALYST_1.28.0.tar.gz |
StartedAt: 2024-06-24 01:30:55 -0400 (Mon, 24 Jun 2024) |
EndedAt: 2024-06-24 01:56:11 -0400 (Mon, 24 Jun 2024) |
EllapsedTime: 1516.7 seconds |
RetCode: 0 |
Status: OK |
CheckDir: CATALYST.Rcheck |
Warnings: 0 |
############################################################################## ############################################################################## ### ### Running command: ### ### /Library/Frameworks/R.framework/Resources/bin/R CMD check --install=check:CATALYST.install-out.txt --library=/Library/Frameworks/R.framework/Resources/library --no-vignettes --timings CATALYST_1.28.0.tar.gz ### ############################################################################## ############################################################################## * using log directory ‘/Users/biocbuild/bbs-3.19-bioc/meat/CATALYST.Rcheck’ * using R version 4.4.0 (2024-04-24) * using platform: x86_64-apple-darwin20 * R was compiled by Apple clang version 14.0.0 (clang-1400.0.29.202) GNU Fortran (GCC) 12.2.0 * running under: macOS Monterey 12.7.4 * using session charset: UTF-8 * using option ‘--no-vignettes’ * checking for file ‘CATALYST/DESCRIPTION’ ... OK * checking extension type ... Package * this is package ‘CATALYST’ version ‘1.28.0’ * package encoding: UTF-8 * checking package namespace information ... OK * checking package dependencies ... OK * checking if this is a source package ... OK * checking if there is a namespace ... OK * checking for hidden files and directories ... OK * checking for portable file names ... OK * checking for sufficient/correct file permissions ... OK * checking whether package ‘CATALYST’ can be installed ... OK * checking installed package size ... OK * checking package directory ... OK * checking ‘build’ directory ... OK * checking DESCRIPTION meta-information ... OK * checking top-level files ... OK * checking for left-over files ... OK * checking index information ... OK * checking package subdirectories ... OK * checking code files for non-ASCII characters ... OK * checking R files for syntax errors ... OK * checking whether the package can be loaded ... OK * checking whether the package can be loaded with stated dependencies ... OK * checking whether the package can be unloaded cleanly ... OK * checking whether the namespace can be loaded with stated dependencies ... OK * checking whether the namespace can be unloaded cleanly ... OK * checking dependencies in R code ... OK * checking S3 generic/method consistency ... OK * checking replacement functions ... OK * checking foreign function calls ... OK * checking R code for possible problems ... OK * checking Rd files ... NOTE checkRd: (-1) plotDiffHeatmap.Rd:87: Lost braces in \itemize; meant \describe ? checkRd: (-1) plotDiffHeatmap.Rd:88: Lost braces in \itemize; meant \describe ? * checking Rd metadata ... OK * checking Rd cross-references ... OK * checking for missing documentation entries ... OK * checking for code/documentation mismatches ... OK * checking Rd \usage sections ... OK * checking Rd contents ... OK * checking for unstated dependencies in examples ... OK * checking contents of ‘data’ directory ... OK * checking data for non-ASCII characters ... OK * checking LazyData ... OK * checking data for ASCII and uncompressed saves ... OK * checking files in ‘vignettes’ ... OK * checking examples ... OK Examples with CPU (user + system) or elapsed time > 5s user system elapsed plotMultiHeatmap 32.194 0.808 36.796 plotPbExprs 31.627 0.756 36.296 plotDiffHeatmap 28.950 0.944 32.437 sce2fcs 24.740 0.874 28.697 plotExprHeatmap 23.129 0.727 25.616 plotDR 22.730 0.693 25.581 plotClusterExprs 17.211 0.681 19.229 plotFreqHeatmap 15.255 0.711 17.212 mergeClusters 14.994 0.539 19.458 plotAbundances 14.782 0.589 16.721 clrDR 14.700 0.563 16.702 pbMDS 14.320 0.662 16.242 plotCodes 14.098 0.602 16.003 SCE-accessors 13.666 0.839 15.669 plotMahal 14.211 0.217 15.683 filterSCE 12.392 0.512 14.069 compCytof 12.307 0.289 13.684 extractClusters 10.945 0.618 12.338 estCutoffs 10.938 0.140 12.138 plotScatter 10.615 0.235 12.188 plotYields 10.606 0.192 12.050 cluster 10.325 0.417 11.618 plotSpillmat 10.270 0.213 11.824 computeSpillmat 10.065 0.234 11.123 adaptSpillmat 9.483 0.321 10.722 applyCutoffs 8.557 0.157 9.423 plotExprs 8.551 0.127 9.300 runDR 6.707 0.103 7.660 normCytof 5.961 0.086 6.553 plotEvents 5.704 0.056 6.263 assignPrelim 5.067 0.047 5.499 * checking for unstated dependencies in ‘tests’ ... OK * checking tests ... Running ‘testthat.R’ OK * checking for unstated dependencies in vignettes ... OK * checking package vignettes ... OK * checking running R code from vignettes ... SKIPPED * checking re-building of vignette outputs ... SKIPPED * checking PDF version of manual ... OK * DONE Status: 1 NOTE See ‘/Users/biocbuild/bbs-3.19-bioc/meat/CATALYST.Rcheck/00check.log’ for details.
CATALYST.Rcheck/00install.out
############################################################################## ############################################################################## ### ### Running command: ### ### /Library/Frameworks/R.framework/Resources/bin/R CMD INSTALL CATALYST ### ############################################################################## ############################################################################## * installing to library ‘/Library/Frameworks/R.framework/Versions/4.4-x86_64/Resources/library’ * installing *source* package ‘CATALYST’ ... ** using staged installation ** R ** data *** moving datasets to lazyload DB ** inst ** byte-compile and prepare package for lazy loading ** help *** installing help indices ** building package indices ** installing vignettes ** testing if installed package can be loaded from temporary location ** testing if installed package can be loaded from final location ** testing if installed package keeps a record of temporary installation path * DONE (CATALYST)
CATALYST.Rcheck/tests/testthat.Rout
R version 4.4.0 (2024-04-24) -- "Puppy Cup" Copyright (C) 2024 The R Foundation for Statistical Computing Platform: x86_64-apple-darwin20 R is free software and comes with ABSOLUTELY NO WARRANTY. You are welcome to redistribute it under certain conditions. Type 'license()' or 'licence()' for distribution details. R is a collaborative project with many contributors. Type 'contributors()' for more information and 'citation()' on how to cite R or R packages in publications. Type 'demo()' for some demos, 'help()' for on-line help, or 'help.start()' for an HTML browser interface to help. Type 'q()' to quit R. > library(testthat) > library(CATALYST) Loading required package: SingleCellExperiment Loading required package: SummarizedExperiment Loading required package: MatrixGenerics Loading required package: matrixStats Attaching package: 'MatrixGenerics' The following objects are masked from 'package:matrixStats': colAlls, colAnyNAs, colAnys, colAvgsPerRowSet, colCollapse, colCounts, colCummaxs, colCummins, colCumprods, colCumsums, colDiffs, colIQRDiffs, colIQRs, colLogSumExps, colMadDiffs, colMads, colMaxs, colMeans2, colMedians, colMins, colOrderStats, colProds, colQuantiles, colRanges, colRanks, colSdDiffs, colSds, colSums2, colTabulates, colVarDiffs, colVars, colWeightedMads, colWeightedMeans, colWeightedMedians, colWeightedSds, colWeightedVars, rowAlls, rowAnyNAs, rowAnys, rowAvgsPerColSet, rowCollapse, rowCounts, rowCummaxs, rowCummins, rowCumprods, rowCumsums, rowDiffs, rowIQRDiffs, rowIQRs, rowLogSumExps, rowMadDiffs, rowMads, rowMaxs, rowMeans2, rowMedians, rowMins, rowOrderStats, rowProds, rowQuantiles, rowRanges, rowRanks, rowSdDiffs, rowSds, rowSums2, rowTabulates, rowVarDiffs, rowVars, rowWeightedMads, rowWeightedMeans, rowWeightedMedians, rowWeightedSds, rowWeightedVars Loading required package: GenomicRanges Loading required package: stats4 Loading required package: BiocGenerics Attaching package: 'BiocGenerics' The following objects are masked from 'package:stats': IQR, mad, sd, var, xtabs The following objects are masked from 'package:base': Filter, Find, Map, Position, Reduce, anyDuplicated, aperm, append, as.data.frame, basename, cbind, colnames, dirname, do.call, duplicated, eval, evalq, get, grep, grepl, intersect, is.unsorted, lapply, mapply, match, mget, order, paste, pmax, pmax.int, pmin, pmin.int, rank, rbind, rownames, sapply, setdiff, table, tapply, union, unique, unsplit, which.max, which.min Loading required package: S4Vectors Attaching package: 'S4Vectors' The following object is masked from 'package:utils': findMatches The following objects are masked from 'package:base': I, expand.grid, unname Loading required package: IRanges Loading required package: GenomeInfoDb Loading required package: Biobase Welcome to Bioconductor Vignettes contain introductory material; view with 'browseVignettes()'. To cite Bioconductor, see 'citation("Biobase")', and for packages 'citation("pkgname")'. Attaching package: 'Biobase' The following object is masked from 'package:MatrixGenerics': rowMedians The following objects are masked from 'package:matrixStats': anyMissing, rowMedians > > test_check("CATALYST") [ FAIL 0 | WARN 1 | SKIP 0 | PASS 746 ] [ FAIL 0 | WARN 1 | SKIP 0 | PASS 746 ] > > proc.time() user system elapsed 409.207 9.896 458.188
CATALYST.Rcheck/CATALYST-Ex.timings
name | user | system | elapsed | |
SCE-accessors | 13.666 | 0.839 | 15.669 | |
adaptSpillmat | 9.483 | 0.321 | 10.722 | |
applyCutoffs | 8.557 | 0.157 | 9.423 | |
assignPrelim | 5.067 | 0.047 | 5.499 | |
clrDR | 14.700 | 0.563 | 16.702 | |
cluster | 10.325 | 0.417 | 11.618 | |
compCytof | 12.307 | 0.289 | 13.684 | |
computeSpillmat | 10.065 | 0.234 | 11.123 | |
data | 0.016 | 0.028 | 0.049 | |
estCutoffs | 10.938 | 0.140 | 12.138 | |
extractClusters | 10.945 | 0.618 | 12.338 | |
filterSCE | 12.392 | 0.512 | 14.069 | |
guessPanel | 0.047 | 0.009 | 0.061 | |
mergeClusters | 14.994 | 0.539 | 19.458 | |
normCytof | 5.961 | 0.086 | 6.553 | |
pbMDS | 14.320 | 0.662 | 16.242 | |
plotAbundances | 14.782 | 0.589 | 16.721 | |
plotClusterExprs | 17.211 | 0.681 | 19.229 | |
plotCodes | 14.098 | 0.602 | 16.003 | |
plotCounts | 2.529 | 0.029 | 2.788 | |
plotDR | 22.730 | 0.693 | 25.581 | |
plotDiffHeatmap | 28.950 | 0.944 | 32.437 | |
plotEvents | 5.704 | 0.056 | 6.263 | |
plotExprHeatmap | 23.129 | 0.727 | 25.616 | |
plotExprs | 8.551 | 0.127 | 9.300 | |
plotFreqHeatmap | 15.255 | 0.711 | 17.212 | |
plotMahal | 14.211 | 0.217 | 15.683 | |
plotMultiHeatmap | 32.194 | 0.808 | 36.796 | |
plotNRS | 3.349 | 0.036 | 3.927 | |
plotPbExprs | 31.627 | 0.756 | 36.296 | |
plotScatter | 10.615 | 0.235 | 12.188 | |
plotSpillmat | 10.270 | 0.213 | 11.824 | |
plotYields | 10.606 | 0.192 | 12.050 | |
prepData | 4.293 | 0.061 | 4.867 | |
runDR | 6.707 | 0.103 | 7.660 | |
sce2fcs | 24.740 | 0.874 | 28.697 | |