Back to Multiple platform build/check report for BioC 3.19: simplified long |
|
This page was generated on 2024-06-28 17:41 -0400 (Fri, 28 Jun 2024).
Hostname | OS | Arch (*) | R version | Installed pkgs |
---|---|---|---|---|
nebbiolo1 | Linux (Ubuntu 22.04.3 LTS) | x86_64 | 4.4.0 (2024-04-24) -- "Puppy Cup" | 4760 |
palomino3 | Windows Server 2022 Datacenter | x64 | 4.4.0 (2024-04-24 ucrt) -- "Puppy Cup" | 4494 |
merida1 | macOS 12.7.4 Monterey | x86_64 | 4.4.0 (2024-04-24) -- "Puppy Cup" | 4508 |
kjohnson1 | macOS 13.6.6 Ventura | arm64 | 4.4.0 (2024-04-24) -- "Puppy Cup" | 4466 |
palomino7 | Windows Server 2022 Datacenter | x64 | 4.4.1 (2024-06-14 ucrt) -- "Race for Your Life" | 4362 |
Click on any hostname to see more info about the system (e.g. compilers) (*) as reported by 'uname -p', except on Windows and Mac OS X |
Package 262/2300 | Hostname | OS / Arch | INSTALL | BUILD | CHECK | BUILD BIN | ||||||||
CAGEfightR 1.24.0 (landing page) Malte Thodberg
| nebbiolo1 | Linux (Ubuntu 22.04.3 LTS) / x86_64 | OK | OK | OK | |||||||||
palomino3 | Windows Server 2022 Datacenter / x64 | OK | OK | OK | OK | |||||||||
merida1 | macOS 12.7.4 Monterey / x86_64 | OK | OK | OK | OK | |||||||||
kjohnson1 | macOS 13.6.6 Ventura / arm64 | OK | OK | OK | OK | |||||||||
palomino7 | Windows Server 2022 Datacenter / x64 | OK | OK | OK | OK | |||||||||
To the developers/maintainers of the CAGEfightR package: - Allow up to 24 hours (and sometimes 48 hours) for your latest push to git@git.bioconductor.org:packages/CAGEfightR.git to reflect on this report. See Troubleshooting Build Report for more information. - Use the following Renviron settings to reproduce errors and warnings. - If 'R CMD check' started to fail recently on the Linux builder(s) over a missing dependency, add the missing dependency to 'Suggests:' in your DESCRIPTION file. See Renviron.bioc for more information. |
Package: CAGEfightR |
Version: 1.24.0 |
Command: F:\biocbuild\bbs-3.19-bioc\R\bin\R.exe CMD check --no-multiarch --install=check:CAGEfightR.install-out.txt --library=F:\biocbuild\bbs-3.19-bioc\R\library --no-vignettes --timings CAGEfightR_1.24.0.tar.gz |
StartedAt: 2024-06-26 23:42:25 -0400 (Wed, 26 Jun 2024) |
EndedAt: 2024-06-26 23:50:54 -0400 (Wed, 26 Jun 2024) |
EllapsedTime: 508.7 seconds |
RetCode: 0 |
Status: OK |
CheckDir: CAGEfightR.Rcheck |
Warnings: 0 |
############################################################################## ############################################################################## ### ### Running command: ### ### F:\biocbuild\bbs-3.19-bioc\R\bin\R.exe CMD check --no-multiarch --install=check:CAGEfightR.install-out.txt --library=F:\biocbuild\bbs-3.19-bioc\R\library --no-vignettes --timings CAGEfightR_1.24.0.tar.gz ### ############################################################################## ############################################################################## * using log directory 'F:/biocbuild/bbs-3.19-bioc/meat/CAGEfightR.Rcheck' * using R version 4.4.0 (2024-04-24 ucrt) * using platform: x86_64-w64-mingw32 * R was compiled by gcc.exe (GCC) 13.2.0 GNU Fortran (GCC) 13.2.0 * running under: Windows Server 2022 x64 (build 20348) * using session charset: UTF-8 * using option '--no-vignettes' * checking for file 'CAGEfightR/DESCRIPTION' ... OK * checking extension type ... Package * this is package 'CAGEfightR' version '1.24.0' * package encoding: UTF-8 * checking package namespace information ... OK * checking package dependencies ... OK * checking if this is a source package ... OK * checking if there is a namespace ... OK * checking for hidden files and directories ... OK * checking for portable file names ... OK * checking whether package 'CAGEfightR' can be installed ... OK * checking installed package size ... OK * checking package directory ... OK * checking 'build' directory ... OK * checking DESCRIPTION meta-information ... OK * checking top-level files ... OK * checking for left-over files ... OK * checking index information ... OK * checking package subdirectories ... OK * checking code files for non-ASCII characters ... OK * checking R files for syntax errors ... OK * checking whether the package can be loaded ... OK * checking whether the package can be loaded with stated dependencies ... OK * checking whether the package can be unloaded cleanly ... OK * checking whether the namespace can be loaded with stated dependencies ... OK * checking whether the namespace can be unloaded cleanly ... OK * checking whether startup messages can be suppressed ... OK * checking dependencies in R code ... OK * checking S3 generic/method consistency ... OK * checking replacement functions ... OK * checking foreign function calls ... OK * checking R code for possible problems ... OK * checking Rd files ... OK * checking Rd metadata ... OK * checking Rd cross-references ... OK * checking for missing documentation entries ... OK * checking for code/documentation mismatches ... OK * checking Rd \usage sections ... OK * checking Rd contents ... OK * checking for unstated dependencies in examples ... OK * checking contents of 'data' directory ... OK * checking data for non-ASCII characters ... OK * checking LazyData ... OK * checking data for ASCII and uncompressed saves ... OK * checking files in 'vignettes' ... OK * checking examples ... OK Examples with CPU (user + system) or elapsed time > 5s user system elapsed findLinks 6.86 0.18 52.59 assignGeneID 4.40 0.19 9.42 trackLinks 2.05 0.10 25.02 * checking for unstated dependencies in vignettes ... OK * checking package vignettes ... OK * checking running R code from vignettes ... SKIPPED * checking re-building of vignette outputs ... SKIPPED * checking PDF version of manual ... OK * DONE Status: OK
CAGEfightR.Rcheck/00install.out
############################################################################## ############################################################################## ### ### Running command: ### ### F:\biocbuild\bbs-3.19-bioc\R\bin\R.exe CMD INSTALL CAGEfightR ### ############################################################################## ############################################################################## * installing to library 'F:/biocbuild/bbs-3.19-bioc/R/library' * installing *source* package 'CAGEfightR' ... ** using staged installation ** R ** data *** moving datasets to lazyload DB ** inst ** byte-compile and prepare package for lazy loading ** help *** installing help indices ** building package indices ** installing vignettes ** testing if installed package can be loaded from temporary location ** testing if installed package can be loaded from final location ** testing if installed package keeps a record of temporary installation path * DONE (CAGEfightR)
CAGEfightR.Rcheck/CAGEfightR-Ex.timings
name | user | system | elapsed | |
assignGeneID | 4.40 | 0.19 | 9.42 | |
assignMissingID | 0.99 | 0.04 | 1.03 | |
assignTxID | 1.09 | 0.07 | 1.15 | |
assignTxType | 0 | 0 | 0 | |
balanceBC | 0 | 0 | 0 | |
balanceD | 0 | 0 | 0 | |
bwCommonGenome | 0 | 0 | 0 | |
bwGenomeCompatibility | 0 | 0 | 0 | |
bwValid | 0.02 | 0.01 | 0.03 | |
calcBidirectionality | 0.43 | 0.03 | 0.47 | |
calcComposition | 1.32 | 0.11 | 1.42 | |
calcPooled | 0.09 | 0.02 | 0.11 | |
calcShape | 2.58 | 0.20 | 2.78 | |
calcSupport | 0.09 | 0.00 | 0.09 | |
calcTPM | 0.13 | 0.02 | 0.16 | |
calcTotalTags | 0.12 | 0.01 | 0.14 | |
checkCTSSs | 0.02 | 0.00 | 0.02 | |
checkPeaked | 0.08 | 0.00 | 0.07 | |
checkPooled | 0.09 | 0.00 | 0.10 | |
clusterBidirectionally | 0 | 0 | 0 | |
clusterUnidirectionally | 3.06 | 0.05 | 3.12 | |
combineClusters | 1.03 | 0.09 | 1.13 | |
convertBAM2BigWig | 0 | 0 | 0 | |
convertBED2BigWig | 0 | 0 | 0 | |
convertGRanges2GPos | 0.13 | 0.00 | 0.12 | |
exampleDesign | 0.01 | 0.03 | 0.05 | |
findLinks | 6.86 | 0.18 | 52.59 | |
findStretches | 0.53 | 0.00 | 0.54 | |
quantifyCTSSs | 0 | 0 | 0 | |
quantifyCTSSs2 | 0 | 0 | 0 | |
quantifyClusters | 0.55 | 0.07 | 0.62 | |
quantifyGenes | 1.59 | 0.18 | 1.77 | |
quickEnhancers | 0 | 0 | 0 | |
quickGenes | 0 | 0 | 0 | |
quickTSSs | 0 | 0 | 0 | |
shapeEntropy | 0 | 0 | 0 | |
shapeIQR | 0 | 0 | 0 | |
shapeMean | 0 | 0 | 0 | |
shapeMultimodality | 0 | 0 | 0 | |
subsetByBidirectionality | 0.57 | 0.03 | 0.60 | |
subsetByComposition | 1.53 | 0.02 | 1.54 | |
subsetBySupport | 0.11 | 0.01 | 0.13 | |
swapRanges | 0.22 | 0.04 | 0.25 | |
swapScores | 0.11 | 0.00 | 0.11 | |
trackBalance | 0 | 0 | 0 | |
trackCTSS | 3.73 | 0.05 | 3.78 | |
trackClusters | 2.17 | 0.01 | 2.19 | |
trackLinks | 2.05 | 0.10 | 25.02 | |
trimToPeak | 0.83 | 0.03 | 0.86 | |
trimToPercentiles | 2.45 | 0.06 | 2.51 | |
tuneTagClustering | 0 | 0 | 0 | |
utilsAggregateRows | 0.67 | 0.31 | 0.99 | |
utilsDeStrand | 0.14 | 0.00 | 0.14 | |
utilsScoreOverlaps | 0.07 | 0.00 | 0.06 | |
utilsSimplifyTxDb | 0 | 0 | 0 | |