Back to Multiple platform build/check report for BioC 3.19:   simplified   long
A[B]CDEFGHIJKLMNOPQRSTUVWXYZ

This page was generated on 2024-10-18 20:41 -0400 (Fri, 18 Oct 2024).

HostnameOSArch (*)R versionInstalled pkgs
nebbiolo1Linux (Ubuntu 22.04.3 LTS)x86_644.4.1 (2024-06-14) -- "Race for Your Life" 4763
palomino7Windows Server 2022 Datacenterx644.4.1 (2024-06-14 ucrt) -- "Race for Your Life" 4500
merida1macOS 12.7.5 Montereyx86_644.4.1 (2024-06-14) -- "Race for Your Life" 4530
kjohnson1macOS 13.6.6 Venturaarm644.4.1 (2024-06-14) -- "Race for Your Life" 4480
Click on any hostname to see more info about the system (e.g. compilers)      (*) as reported by 'uname -p', except on Windows and Mac OS X

Package 213/2300HostnameOS / ArchINSTALLBUILDCHECKBUILD BIN
BioNAR 1.6.3  (landing page)
Anatoly Sorokin
Snapshot Date: 2024-10-16 14:00 -0400 (Wed, 16 Oct 2024)
git_url: https://git.bioconductor.org/packages/BioNAR
git_branch: RELEASE_3_19
git_last_commit: 43afaeb
git_last_commit_date: 2024-07-26 02:00:17 -0400 (Fri, 26 Jul 2024)
nebbiolo1Linux (Ubuntu 22.04.3 LTS) / x86_64  OK    OK    OK  UNNEEDED, same version is already published
palomino7Windows Server 2022 Datacenter / x64  OK    OK    OK    OK  UNNEEDED, same version is already published
merida1macOS 12.7.5 Monterey / x86_64  OK    OK    OK    OK  UNNEEDED, same version is already published
kjohnson1macOS 13.6.6 Ventura / arm64  OK    OK    OK    OK  UNNEEDED, same version is already published


CHECK results for BioNAR on kjohnson1

To the developers/maintainers of the BioNAR package:
- Allow up to 24 hours (and sometimes 48 hours) for your latest push to git@git.bioconductor.org:packages/BioNAR.git to reflect on this report. See Troubleshooting Build Report for more information.
- Use the following Renviron settings to reproduce errors and warnings.
- If 'R CMD check' started to fail recently on the Linux builder(s) over a missing dependency, add the missing dependency to 'Suggests:' in your DESCRIPTION file. See Renviron.bioc for more information.

raw results


Summary

Package: BioNAR
Version: 1.6.3
Command: /Library/Frameworks/R.framework/Resources/bin/R CMD check --install=check:BioNAR.install-out.txt --library=/Library/Frameworks/R.framework/Resources/library --no-vignettes --timings BioNAR_1.6.3.tar.gz
StartedAt: 2024-10-17 14:07:28 -0400 (Thu, 17 Oct 2024)
EndedAt: 2024-10-17 14:14:45 -0400 (Thu, 17 Oct 2024)
EllapsedTime: 437.2 seconds
RetCode: 0
Status:   OK  
CheckDir: BioNAR.Rcheck
Warnings: 0

Command output

##############################################################################
##############################################################################
###
### Running command:
###
###   /Library/Frameworks/R.framework/Resources/bin/R CMD check --install=check:BioNAR.install-out.txt --library=/Library/Frameworks/R.framework/Resources/library --no-vignettes --timings BioNAR_1.6.3.tar.gz
###
##############################################################################
##############################################################################


* using log directory ‘/Users/biocbuild/bbs-3.19-bioc/meat/BioNAR.Rcheck’
* using R version 4.4.1 (2024-06-14)
* using platform: aarch64-apple-darwin20
* R was compiled by
    Apple clang version 14.0.0 (clang-1400.0.29.202)
    GNU Fortran (GCC) 12.2.0
* running under: macOS Ventura 13.6.6
* using session charset: UTF-8
* using option ‘--no-vignettes’
* checking for file ‘BioNAR/DESCRIPTION’ ... OK
* this is package ‘BioNAR’ version ‘1.6.3’
* package encoding: UTF-8
* checking package namespace information ... OK
* checking package dependencies ... OK
* checking if this is a source package ... OK
* checking if there is a namespace ... OK
* checking for hidden files and directories ... OK
* checking for portable file names ... OK
* checking for sufficient/correct file permissions ... OK
* checking whether package ‘BioNAR’ can be installed ... OK
* checking installed package size ... NOTE
  installed size is  6.8Mb
  sub-directories of 1Mb or more:
    extdata   6.1Mb
* checking package directory ... OK
* checking ‘build’ directory ... OK
* checking DESCRIPTION meta-information ... OK
* checking top-level files ... OK
* checking for left-over files ... OK
* checking index information ... OK
* checking package subdirectories ... OK
* checking code files for non-ASCII characters ... OK
* checking R files for syntax errors ... OK
* checking whether the package can be loaded ... OK
* checking whether the package can be loaded with stated dependencies ... OK
* checking whether the package can be unloaded cleanly ... OK
* checking whether the namespace can be loaded with stated dependencies ... OK
* checking whether the namespace can be unloaded cleanly ... OK
* checking dependencies in R code ... NOTE
Package in Depends field not imported from: ‘Rdpack’
  These packages need to be imported from (in the NAMESPACE file)
  for when this namespace is loaded but not attached.
There are ::: calls to the package's namespace in its code. A package
  almost never needs to use ::: for its own objects:
  ‘addNoise’ ‘gofs’ ‘highlightRate’ ‘plotSigmoid’
* checking S3 generic/method consistency ... OK
* checking replacement functions ... OK
* checking foreign function calls ... OK
* checking R code for possible problems ... NOTE
clusterORA : forafun: no visible binding for global variable ‘pathway’
clusterORA : forafun: no visible binding for global variable ‘size’
clusterORA : forafun: no visible binding for global variable ‘overlap’
clusterORA : forafun: no visible binding for global variable ‘pval’
clusterORA : forafun: no visible binding for global variable ‘padj’
clusterORA : forafun: no visible binding for global variable
  ‘overlapGenes’
clusterORA : forafun: no visible binding for global variable ‘FL’
clusterORA : forafun: no visible binding for global variable ‘N’
clusterORA : forafun: no visible binding for global variable ‘Fn’
clusterORA : forafun: no visible binding for global variable ‘Cn’
clusterORA : forafun: no visible binding for global variable ‘Mu’
clusterORA : forafun: no visible binding for global variable ‘OR’
clusterORA : forafun: no visible binding for global variable ‘CIw’
clusterORA : forafun: no visible binding for global variable ‘Fe’
clusterORA : forafun: no visible binding for global variable ‘Fc’
clusterORA : forafun: no visible binding for global variable ‘palt’
plotSigmoid: no visible binding for global variable ‘yiR1’
plotSigmoid: no visible binding for global variable ‘yiR2’
plotSigmoid: no visible binding for global variable ‘yiR3’
plotSigmoid: no visible binding for global variable ‘yiR4’
plotSigmoid: no visible binding for global variable ‘yiR5’
Undefined global functions or variables:
  CIw Cn FL Fc Fe Fn Mu N OR overlap overlapGenes padj palt pathway
  pval size yiR1 yiR2 yiR3 yiR4 yiR5
* checking Rd files ... NOTE
checkRd: (-1) FitDegree.Rd:34: Lost braces
    34 | \item{legpos}{position of the legend @seealso{legend}}
       |                                              ^
checkRd: (-1) calcEntropy.Rd:52: Lost braces; missing escapes or markup?
    52 | Other {Entropy Functions}: 
       |       ^
checkRd: (-1) getEntropy.Rd:66: Lost braces; missing escapes or markup?
    66 | Other {Entropy Functions}: 
       |       ^
checkRd: (-1) getEntropyRate.Rd:41: Lost braces; missing escapes or markup?
    41 | Other {Entropy Functions}: 
       |       ^
checkRd: (-1) getRobustness.Rd:49: Lost braces; missing escapes or markup?
    49 | Other {Robustness functions}: 
       |       ^
checkRd: (-1) makeConsensusMatrix.Rd:69: Lost braces; missing escapes or markup?
    69 | Other {Robustness functions}: 
       |       ^
checkRd: (-1) plotEntropy.Rd:57: Lost braces; missing escapes or markup?
    57 | Other {Entropy Functions}: 
       |       ^
* checking Rd metadata ... OK
* checking Rd cross-references ... OK
* checking for missing documentation entries ... OK
* checking for code/documentation mismatches ... OK
* checking Rd \usage sections ... OK
* checking Rd contents ... OK
* checking for unstated dependencies in examples ... OK
* checking contents of ‘data’ directory ... OK
* checking data for non-ASCII characters ... OK
* checking LazyData ... OK
* checking data for ASCII and uncompressed saves ... OK
* checking files in ‘vignettes’ ... OK
* checking examples ... OK
Examples with CPU (user + system) or elapsed time > 5s
                           user system elapsed
addEdgeAtts              12.215  3.842  16.243
plotEntropy              11.711  2.131  14.062
calcEntropy              11.772  1.799  13.765
getEntropy               11.100  1.890  13.160
clusteringSummary        12.344  0.047  12.564
annotateTopOntoOVG        9.292  1.501  11.013
getCentralityMatrix       8.564  1.271  10.031
getGraphCentralityECDF    8.555  0.832   9.475
runPermDisease            8.883  0.158   9.131
normModularity            5.647  1.258   7.019
annotateSCHanno           6.187  0.677   6.942
calcSparsness             5.037  1.314   6.433
annotateGOont             5.158  0.938   6.197
calcAllClustering         4.928  0.020   5.011
annotateGoBP              3.707  1.233   5.011
FitDegree                 0.950  0.058   5.733
getRandomGraphCentrality  0.412  0.032  13.058
* checking for unstated dependencies in ‘tests’ ... OK
* checking tests ...
  Running ‘testthat.R’
 OK
* checking for unstated dependencies in vignettes ... OK
* checking package vignettes ... OK
* checking running R code from vignettes ... SKIPPED
* checking re-building of vignette outputs ... SKIPPED
* checking PDF version of manual ... OK
* DONE

Status: 4 NOTEs
See
  ‘/Users/biocbuild/bbs-3.19-bioc/meat/BioNAR.Rcheck/00check.log’
for details.


Installation output

BioNAR.Rcheck/00install.out

##############################################################################
##############################################################################
###
### Running command:
###
###   /Library/Frameworks/R.framework/Resources/bin/R CMD INSTALL BioNAR
###
##############################################################################
##############################################################################


* installing to library ‘/Library/Frameworks/R.framework/Versions/4.4-arm64/Resources/library’
* installing *source* package ‘BioNAR’ ...
** using staged installation
** R
** data
*** moving datasets to lazyload DB
** inst
** byte-compile and prepare package for lazy loading
** help
*** installing help indices
** building package indices
** installing vignettes
** testing if installed package can be loaded from temporary location
** testing if installed package can be loaded from final location
** testing if installed package keeps a record of temporary installation path
* DONE (BioNAR)

Tests output

BioNAR.Rcheck/tests/testthat.Rout


R version 4.4.1 (2024-06-14) -- "Race for Your Life"
Copyright (C) 2024 The R Foundation for Statistical Computing
Platform: aarch64-apple-darwin20

R is free software and comes with ABSOLUTELY NO WARRANTY.
You are welcome to redistribute it under certain conditions.
Type 'license()' or 'licence()' for distribution details.

R is a collaborative project with many contributors.
Type 'contributors()' for more information and
'citation()' on how to cite R or R packages in publications.

Type 'demo()' for some demos, 'help()' for on-line help, or
'help.start()' for an HTML browser interface to help.
Type 'q()' to quit R.

> library(testthat)
> library(BioNAR)
Loading required package: igraph

Attaching package: 'igraph'

The following object is masked from 'package:testthat':

    compare

The following objects are masked from 'package:stats':

    decompose, spectrum

The following object is masked from 'package:base':

    union

Loading required package: poweRlaw
Loading required package: latex2exp
Loading required package: RSpectra
Loading required package: Rdpack



Attaching package: 'BioNAR'

The following object is masked from 'package:igraph':

    permute

> 
> test_check("BioNAR")
[ FAIL 0 | WARN 0 | SKIP 2 | PASS 129 ]

══ Skipped tests (2) ═══════════════════════════════════════════════════════════
• On CRAN (2): 'test_bridgeness.R:38:5', 'test_bridgeness.R:81:5'

[ FAIL 0 | WARN 0 | SKIP 2 | PASS 129 ]
> 
> proc.time()
   user  system elapsed 
 39.393   2.850  56.626 

Example timings

BioNAR.Rcheck/BioNAR-Ex.timings

nameusersystemelapsed
FitDegree0.9500.0585.733
addEdgeAtts12.215 3.84216.243
annotateGOont5.1580.9386.197
annotateGeneNames0.2870.0220.313
annotateGoBP3.7071.2335.011
annotateGoCC2.5681.1803.797
annotateGoMF3.2630.7784.092
annotatePresynaptic1.1170.2981.429
annotateSCHanno6.1870.6776.942
annotateTopOntoOVG 9.292 1.50111.013
annotateVertex0.0050.0010.006
applpMatrixToGraph0.0010.0000.002
buildNetwork0.0020.0000.003
calcAllClustering4.9280.0205.011
calcBridgeness0.0310.0020.035
calcCentrality0.0320.0020.036
calcCentralityExternalDistances0.2360.0100.248
calcCentralityInternalDistances0.2270.0110.246
calcClustering0.0040.0000.004
calcDiseasePairs0.5380.0120.573
calcEntropy11.772 1.79913.765
calcMembership0.0070.0010.009
calcReclusterMatrix0.0170.0020.019
calcSparsness5.0371.3146.433
clusterORA0.3720.0310.411
clusteringSummary12.344 0.04712.564
degreeBinnedGDAs0.2840.0200.312
escapeAnnotation0.0000.0000.001
evalCentralitySignificance0.3630.0330.401
findLCC0.0040.0010.005
getAnnotationList0.0580.0080.067
getAnnotationVertexList0.0720.0120.086
getBridgeness0.0580.0030.061
getCentralityMatrix 8.564 1.27110.031
getClusterSubgraphByID0.0040.0010.006
getClustering0.0070.0010.008
getCommunityGraph0.0080.0010.009
getDType0.0000.0000.001
getDYNAMO0.0410.0020.043
getDiseases000
getEntropy11.10 1.8913.16
getEntropyRate0.0060.0010.009
getGNP0.0020.0010.003
getGraphCentralityECDF8.5550.8329.475
getPA0.0030.0000.004
getRandomGraphCentrality 0.412 0.03213.058
getRobustness0.4770.0490.537
layoutByCluster0.0860.0020.091
layoutByRecluster0.0740.0040.080
makeConsensusMatrix0.4510.0320.487
metlMatrix0.0080.0020.009
normModularity5.6471.2587.019
permute000
plotBridgeness0.3550.0100.375
plotEntropy11.711 2.13114.062
prepareGDA0.2690.0190.293
recluster0.0130.0010.015
removeVertexTerm0.0050.0010.005
runPermDisease8.8830.1589.131
sampleDegBinnedGDA0.3650.0190.386
sampleGraphClust0.0070.0020.009
unescapeAnnotation0.0000.0010.001
zeroNA0.0000.0000.001