Back to Multiple platform build/check report for BioC 3.19:   simplified   long
[A]BCDEFGHIJKLMNOPQRSTUVWXYZ

This page was generated on 2024-10-18 20:40 -0400 (Fri, 18 Oct 2024).

HostnameOSArch (*)R versionInstalled pkgs
nebbiolo1Linux (Ubuntu 22.04.3 LTS)x86_644.4.1 (2024-06-14) -- "Race for Your Life" 4763
palomino7Windows Server 2022 Datacenterx644.4.1 (2024-06-14 ucrt) -- "Race for Your Life" 4500
merida1macOS 12.7.5 Montereyx86_644.4.1 (2024-06-14) -- "Race for Your Life" 4530
kjohnson1macOS 13.6.6 Venturaarm644.4.1 (2024-06-14) -- "Race for Your Life" 4480
Click on any hostname to see more info about the system (e.g. compilers)      (*) as reported by 'uname -p', except on Windows and Mac OS X

Package 9/2300HostnameOS / ArchINSTALLBUILDCHECKBUILD BIN
ABSSeq 1.58.0  (landing page)
Wentao Yang
Snapshot Date: 2024-10-16 14:00 -0400 (Wed, 16 Oct 2024)
git_url: https://git.bioconductor.org/packages/ABSSeq
git_branch: RELEASE_3_19
git_last_commit: 05f507f
git_last_commit_date: 2024-04-30 10:35:52 -0400 (Tue, 30 Apr 2024)
nebbiolo1Linux (Ubuntu 22.04.3 LTS) / x86_64  OK    OK    OK  UNNEEDED, same version is already published
palomino7Windows Server 2022 Datacenter / x64  OK    OK    OK    OK  UNNEEDED, same version is already published
merida1macOS 12.7.5 Monterey / x86_64  OK    OK    OK    OK  UNNEEDED, same version is already published
kjohnson1macOS 13.6.6 Ventura / arm64  OK    OK    OK    OK  UNNEEDED, same version is already published


CHECK results for ABSSeq on merida1

To the developers/maintainers of the ABSSeq package:
- Allow up to 24 hours (and sometimes 48 hours) for your latest push to git@git.bioconductor.org:packages/ABSSeq.git to reflect on this report. See Troubleshooting Build Report for more information.
- Use the following Renviron settings to reproduce errors and warnings.
- If 'R CMD check' started to fail recently on the Linux builder(s) over a missing dependency, add the missing dependency to 'Suggests:' in your DESCRIPTION file. See Renviron.bioc for more information.

raw results


Summary

Package: ABSSeq
Version: 1.58.0
Command: /Library/Frameworks/R.framework/Resources/bin/R CMD check --install=check:ABSSeq.install-out.txt --library=/Library/Frameworks/R.framework/Resources/library --no-vignettes --timings ABSSeq_1.58.0.tar.gz
StartedAt: 2024-10-17 00:50:14 -0400 (Thu, 17 Oct 2024)
EndedAt: 2024-10-17 00:55:02 -0400 (Thu, 17 Oct 2024)
EllapsedTime: 288.6 seconds
RetCode: 0
Status:   OK  
CheckDir: ABSSeq.Rcheck
Warnings: 0

Command output

##############################################################################
##############################################################################
###
### Running command:
###
###   /Library/Frameworks/R.framework/Resources/bin/R CMD check --install=check:ABSSeq.install-out.txt --library=/Library/Frameworks/R.framework/Resources/library --no-vignettes --timings ABSSeq_1.58.0.tar.gz
###
##############################################################################
##############################################################################


* using log directory ‘/Users/biocbuild/bbs-3.19-bioc/meat/ABSSeq.Rcheck’
* using R version 4.4.1 (2024-06-14)
* using platform: x86_64-apple-darwin20
* R was compiled by
    Apple clang version 14.0.0 (clang-1400.0.29.202)
    GNU Fortran (GCC) 12.2.0
* running under: macOS Monterey 12.7.6
* using session charset: UTF-8
* using option ‘--no-vignettes’
* checking for file ‘ABSSeq/DESCRIPTION’ ... OK
* checking extension type ... Package
* this is package ‘ABSSeq’ version ‘1.58.0’
* checking package namespace information ... OK
* checking package dependencies ... OK
* checking if this is a source package ... OK
* checking if there is a namespace ... OK
* checking for hidden files and directories ... OK
* checking for portable file names ... OK
* checking for sufficient/correct file permissions ... OK
* checking whether package ‘ABSSeq’ can be installed ... OK
* checking installed package size ... OK
* checking package directory ... OK
* checking ‘build’ directory ... OK
* checking DESCRIPTION meta-information ... OK
* checking top-level files ... OK
* checking for left-over files ... OK
* checking index information ... OK
* checking package subdirectories ... OK
* checking code files for non-ASCII characters ... OK
* checking R files for syntax errors ... OK
* checking whether the package can be loaded ... OK
* checking whether the package can be loaded with stated dependencies ... OK
* checking whether the package can be unloaded cleanly ... OK
* checking whether the namespace can be loaded with stated dependencies ... OK
* checking whether the namespace can be unloaded cleanly ... OK
* checking dependencies in R code ... NOTE
'library' or 'require' call to ‘edgeR’ in package code.
  Please use :: or requireNamespace() instead.
  See section 'Suggested packages' in the 'Writing R Extensions' manual.
Package in Depends field not imported from: ‘methods’
  These packages need to be imported from (in the NAMESPACE file)
  for when this namespace is loaded but not attached.
* checking S3 generic/method consistency ... OK
* checking replacement functions ... OK
* checking foreign function calls ... OK
* checking R code for possible problems ... NOTE
ABSDataSet: no visible global function definition for ‘new’
ABSSeqlm: no visible global function definition for ‘pnorm’
ABSSeqlm: no visible global function definition for ‘p.adjust’
ReplaceOutliersByMAD: no visible global function definition for ‘is’
ReplaceOutliersByMAD: no visible global function definition for
  ‘model.matrix’
ReplaceOutliersByMAD: no visible global function definition for
  ‘predict’
aFoldcomplexDesign: no visible binding for global variable ‘sd’
aFoldcomplexDesign: no visible binding for global variable ‘var’
aFoldcomplexDesign: no visible global function definition for ‘sd’
callDEs: no visible global function definition for ‘is’
callDEs: no visible binding for global variable ‘p.adjust.methods’
callDEs: no visible global function definition for ‘pnorm’
callDEs: no visible global function definition for ‘pnbinom’
callDEs: no visible global function definition for ‘p.adjust’
callParameter: no visible global function definition for ‘is’
callParameter: no visible binding for global variable ‘var’
callParameter: no visible global function definition for ‘quantile’
callParameter: no visible global function definition for ‘predict’
callParameter: no visible global function definition for ‘model.matrix’
callParameterwithoutReplicates: no visible global function definition
  for ‘is’
callParameterwithoutReplicates: no visible binding for global variable
  ‘sd’
callParameterwithoutReplicates: no visible global function definition
  for ‘predict’
callParameterwithoutReplicates: no visible binding for global variable
  ‘var’
callParameterwithoutReplicates: no visible global function definition
  for ‘quantile’
callParameterwithoutReplicates: no visible global function definition
  for ‘model.matrix’
callPergroup: no visible binding for global variable ‘var’
estimateSizeFactorsForMatrix: no visible binding for global variable
  ‘median’
genAFold: no visible binding for global variable ‘var’
genAFold: no visible binding for global variable ‘sd’
genAFold: no visible global function definition for ‘sd’
normalFactors: no visible global function definition for ‘is’
normalFactors: no visible global function definition for ‘validObject’
normalFactors : rowQuar: no visible global function definition for
  ‘quantile’
normalFactors: no visible global function definition for
  ‘calcNormFactors’
plotDifftoBase: no visible global function definition for ‘is’
preAFold: no visible global function definition for ‘quantile’
preAFold: no visible global function definition for ‘var’
preAFold: no visible global function definition for ‘predict’
preAFoldComplex: no visible global function definition for ‘quantile’
preAFoldComplex: no visible global function definition for ‘var’
preAFoldComplex: no visible global function definition for ‘predict’
qtotalNormalized : rowQuar: no visible global function definition for
  ‘quantile’
qtotalNormalized : rowQuar: no visible global function definition for
  ‘sd’
qtotalNormalized : rowQuar: no visible global function definition for
  ‘median’
qtotalNormalized : rowQuar : <anonymous>: no visible global function
  definition for ‘median’
replaceByrow: no visible global function definition for ‘median’
replaceByrow: no visible global function definition for ‘mad’
LevelstoNormFC<-,ABSDataSet-numeric: no visible global function
  definition for ‘validObject’
[[<-,SumInfo-character-missing: no visible global function definition
  for ‘as’
counts<-,ABSDataSet-matrix: no visible global function definition for
  ‘validObject’
excounts<-,ABSDataSet-matrix: no visible global function definition for
  ‘validObject’
groups<-,ABSDataSet-factor: no visible global function definition for
  ‘validObject’
maxRates<-,ABSDataSet-numeric: no visible global function definition
  for ‘validObject’
minRates<-,ABSDataSet-numeric: no visible global function definition
  for ‘validObject’
minimalDispersion<-,ABSDataSet-numeric: no visible global function
  definition for ‘validObject’
normMethod<-,ABSDataSet-character: no visible global function
  definition for ‘validObject’
paired<-,ABSDataSet-logical: no visible global function definition for
  ‘validObject’
sFactors<-,ABSDataSet-numeric: no visible global function definition
  for ‘validObject’
Undefined global functions or variables:
  as calcNormFactors is mad median model.matrix new p.adjust
  p.adjust.methods pnbinom pnorm predict quantile sd validObject var
Consider adding
  importFrom("methods", "as", "is", "new", "validObject")
  importFrom("stats", "mad", "median", "model.matrix", "p.adjust",
             "p.adjust.methods", "pnbinom", "pnorm", "predict",
             "quantile", "sd", "var")
to your NAMESPACE file (and ensure that your DESCRIPTION Imports field
contains 'methods').
* checking Rd files ... OK
* checking Rd metadata ... OK
* checking Rd cross-references ... OK
* checking for missing documentation entries ... OK
* checking for code/documentation mismatches ... OK
* checking Rd \usage sections ... OK
* checking Rd contents ... OK
* checking for unstated dependencies in examples ... OK
* checking contents of ‘data’ directory ... OK
* checking data for non-ASCII characters ... OK
* checking data for ASCII and uncompressed saves ... OK
* checking sizes of PDF files under ‘inst/doc’ ... OK
* checking files in ‘vignettes’ ... OK
* checking examples ... OK
Examples with CPU (user + system) or elapsed time > 5s
                       user system elapsed
callParameter        19.639  0.705  24.584
plotDifftoBase       19.384  0.727  24.680
ABSSeq               19.295  0.806  23.516
results              19.139  0.673  22.816
callDEs              19.155  0.637  23.450
excounts             14.308  0.645  17.267
ReplaceOutliersByMAD 14.306  0.645  18.217
ABSSeqlm             10.454  0.529  13.360
genAFold              7.246  0.371   9.904
aFoldcomplexDesign    6.884  0.304   8.243
normalFactors         3.603  0.335   5.164
* checking for unstated dependencies in vignettes ... OK
* checking package vignettes ... OK
* checking running R code from vignettes ... SKIPPED
* checking re-building of vignette outputs ... SKIPPED
* checking PDF version of manual ... OK
* DONE

Status: 2 NOTEs
See
  ‘/Users/biocbuild/bbs-3.19-bioc/meat/ABSSeq.Rcheck/00check.log’
for details.


Installation output

ABSSeq.Rcheck/00install.out

##############################################################################
##############################################################################
###
### Running command:
###
###   /Library/Frameworks/R.framework/Resources/bin/R CMD INSTALL ABSSeq
###
##############################################################################
##############################################################################


* installing to library ‘/Library/Frameworks/R.framework/Versions/4.4-x86_64/Resources/library’
* installing *source* package ‘ABSSeq’ ...
** using staged installation
** R
** data
** inst
** byte-compile and prepare package for lazy loading
** help
*** installing help indices
** building package indices
** installing vignettes
** testing if installed package can be loaded from temporary location
** testing if installed package can be loaded from final location
** testing if installed package keeps a record of temporary installation path
* DONE (ABSSeq)

Tests output


Example timings

ABSSeq.Rcheck/ABSSeq-Ex.timings

nameusersystemelapsed
ABSDataSet0.0630.0050.085
ABSSeq19.295 0.80623.516
ABSSeqlm10.454 0.52913.360
LevelstoNormFC0.0560.0030.075
ReplaceOutliersByMAD14.306 0.64518.217
aFoldcomplexDesign6.8840.3048.243
callDEs19.155 0.63723.450
callParameter19.639 0.70524.584
callParameterwithoutReplicates2.9530.0773.460
counts0.0550.0050.071
estimateSizeFactorsForMatrix0.0780.0060.090
excounts14.308 0.64517.267
genAFold7.2460.3719.904
groups0.0580.0030.072
maxRates0.0550.0030.067
minRates0.0560.0030.073
minimalDispersion0.0580.0040.076
normMethod0.0560.0030.072
normalFactors3.6030.3355.164
paired0.0590.0040.067
plotDifftoBase19.384 0.72724.680
qtotalNormalized3.7780.2554.816
results19.139 0.67322.816
sFactors3.7200.3714.947
simuN50.0470.0030.055