Back to Multiple platform build/check report for BioC 3.18: simplified long |
|
This page was generated on 2024-04-17 11:38:19 -0400 (Wed, 17 Apr 2024).
Hostname | OS | Arch (*) | R version | Installed pkgs |
---|---|---|---|---|
nebbiolo2 | Linux (Ubuntu 22.04.3 LTS) | x86_64 | 4.3.3 (2024-02-29) -- "Angel Food Cake" | 4676 |
palomino4 | Windows Server 2022 Datacenter | x64 | 4.3.3 (2024-02-29 ucrt) -- "Angel Food Cake" | 4414 |
merida1 | macOS 12.7.1 Monterey | x86_64 | 4.3.3 (2024-02-29) -- "Angel Food Cake" | 4437 |
Click on any hostname to see more info about the system (e.g. compilers) (*) as reported by 'uname -p', except on Windows and Mac OS X |
Package 2109/2266 | Hostname | OS / Arch | INSTALL | BUILD | CHECK | BUILD BIN | ||||||||
TargetSearch 2.4.2 (landing page) Alvaro Cuadros-Inostroza
| nebbiolo2 | Linux (Ubuntu 22.04.3 LTS) / x86_64 | OK | OK | OK | |||||||||
palomino4 | Windows Server 2022 Datacenter / x64 | OK | OK | OK | OK | |||||||||
merida1 | macOS 12.7.1 Monterey / x86_64 | OK | OK | OK | OK | |||||||||
kjohnson1 | macOS 13.6.1 Ventura / arm64 | see weekly results here | ||||||||||||
To the developers/maintainers of the TargetSearch package: - Allow up to 24 hours (and sometimes 48 hours) for your latest push to git@git.bioconductor.org:packages/TargetSearch.git to reflect on this report. See Troubleshooting Build Report for more information. - Use the following Renviron settings to reproduce errors and warnings. - If 'R CMD check' started to fail recently on the Linux builder(s) over a missing dependency, add the missing dependency to 'Suggests:' in your DESCRIPTION file. See Renviron.bioc for more information. |
Package: TargetSearch |
Version: 2.4.2 |
Command: /Library/Frameworks/R.framework/Resources/bin/R CMD check --install=check:TargetSearch.install-out.txt --library=/Library/Frameworks/R.framework/Resources/library --no-vignettes --timings TargetSearch_2.4.2.tar.gz |
StartedAt: 2024-04-16 09:47:47 -0400 (Tue, 16 Apr 2024) |
EndedAt: 2024-04-16 09:50:25 -0400 (Tue, 16 Apr 2024) |
EllapsedTime: 158.2 seconds |
RetCode: 0 |
Status: OK |
CheckDir: TargetSearch.Rcheck |
Warnings: 0 |
############################################################################## ############################################################################## ### ### Running command: ### ### /Library/Frameworks/R.framework/Resources/bin/R CMD check --install=check:TargetSearch.install-out.txt --library=/Library/Frameworks/R.framework/Resources/library --no-vignettes --timings TargetSearch_2.4.2.tar.gz ### ############################################################################## ############################################################################## * using log directory ‘/Users/biocbuild/bbs-3.18-bioc/meat/TargetSearch.Rcheck’ * using R version 4.3.3 (2024-02-29) * using platform: x86_64-apple-darwin20 (64-bit) * R was compiled by Apple clang version 14.0.0 (clang-1400.0.29.202) GNU Fortran (GCC) 12.2.0 * running under: macOS Monterey 12.7.1 * using session charset: UTF-8 * using option ‘--no-vignettes’ * checking for file ‘TargetSearch/DESCRIPTION’ ... OK * checking extension type ... Package * this is package ‘TargetSearch’ version ‘2.4.2’ * checking package namespace information ... OK * checking package dependencies ... OK * checking if this is a source package ... OK * checking if there is a namespace ... OK * checking for hidden files and directories ... OK * checking for portable file names ... OK * checking for sufficient/correct file permissions ... OK * checking whether package ‘TargetSearch’ can be installed ... OK * used C compiler: ‘Apple clang version 14.0.0 (clang-1400.0.29.202)’ * used SDK: ‘MacOSX11.3.sdk’ * checking installed package size ... OK * checking package directory ... OK * checking ‘build’ directory ... OK * checking DESCRIPTION meta-information ... OK * checking top-level files ... OK * checking for left-over files ... OK * checking index information ... OK * checking package subdirectories ... OK * checking R files for non-ASCII characters ... OK * checking R files for syntax errors ... OK * checking whether the package can be loaded ... OK * checking whether the package can be loaded with stated dependencies ... OK * checking whether the package can be unloaded cleanly ... OK * checking whether the namespace can be loaded with stated dependencies ... OK * checking whether the namespace can be unloaded cleanly ... OK * checking dependencies in R code ... OK * checking S3 generic/method consistency ... OK * checking replacement functions ... OK * checking foreign function calls ... OK * checking R code for possible problems ... OK * checking Rd files ... OK * checking Rd metadata ... OK * checking Rd cross-references ... OK * checking for missing documentation entries ... OK * checking for code/documentation mismatches ... OK * checking Rd \usage sections ... OK * checking Rd contents ... OK * checking for unstated dependencies in examples ... OK * checking contents of ‘data’ directory ... OK * checking data for non-ASCII characters ... OK * checking data for ASCII and uncompressed saves ... OK * checking line endings in C/C++/Fortran sources/headers ... OK * checking compiled code ... NOTE Note: information on .o files is not available * checking sizes of PDF files under ‘inst/doc’ ... OK * checking installed files from ‘inst/doc’ ... OK * checking files in ‘vignettes’ ... OK * checking examples ... OK Examples with CPU (user + system) or elapsed time > 5s user system elapsed RIcorrect 20.853 2.791 25.060 ncdf4_convert_from_path 4.402 1.264 6.147 * checking for unstated dependencies in ‘tests’ ... OK * checking tests ... Running ‘tinytest.R’ OK * checking for unstated dependencies in vignettes ... OK * checking package vignettes in ‘inst/doc’ ... OK * checking running R code from vignettes ... SKIPPED * checking re-building of vignette outputs ... SKIPPED * checking PDF version of manual ... OK * DONE Status: 1 NOTE See ‘/Users/biocbuild/bbs-3.18-bioc/meat/TargetSearch.Rcheck/00check.log’ for details.
TargetSearch.Rcheck/00install.out
############################################################################## ############################################################################## ### ### Running command: ### ### /Library/Frameworks/R.framework/Resources/bin/R CMD INSTALL TargetSearch ### ############################################################################## ############################################################################## * installing to library ‘/Library/Frameworks/R.framework/Versions/4.3-x86_64/Resources/library’ * installing *source* package ‘TargetSearch’ ... ** using staged installation ** libs using C compiler: ‘Apple clang version 14.0.0 (clang-1400.0.29.202)’ using SDK: ‘MacOSX11.3.sdk’ clang -arch x86_64 -I"/Library/Frameworks/R.framework/Resources/include" -DNDEBUG -I/opt/R/x86_64/include -fPIC -falign-functions=64 -Wall -g -O2 -c Rinit.c -o Rinit.o clang -arch x86_64 -I"/Library/Frameworks/R.framework/Resources/include" -DNDEBUG -I/opt/R/x86_64/include -fPIC -falign-functions=64 -Wall -g -O2 -c baseline.c -o baseline.o clang -arch x86_64 -I"/Library/Frameworks/R.framework/Resources/include" -DNDEBUG -I/opt/R/x86_64/include -fPIC -falign-functions=64 -Wall -g -O2 -c detection.c -o detection.o clang -arch x86_64 -I"/Library/Frameworks/R.framework/Resources/include" -DNDEBUG -I/opt/R/x86_64/include -fPIC -falign-functions=64 -Wall -g -O2 -c file.c -o file.o clang -arch x86_64 -I"/Library/Frameworks/R.framework/Resources/include" -DNDEBUG -I/opt/R/x86_64/include -fPIC -falign-functions=64 -Wall -g -O2 -c find.c -o find.o clang -arch x86_64 -I"/Library/Frameworks/R.framework/Resources/include" -DNDEBUG -I/opt/R/x86_64/include -fPIC -falign-functions=64 -Wall -g -O2 -c get_line.c -o get_line.o clang -arch x86_64 -I"/Library/Frameworks/R.framework/Resources/include" -DNDEBUG -I/opt/R/x86_64/include -fPIC -falign-functions=64 -Wall -g -O2 -c hpf.c -o hpf.o clang -arch x86_64 -I"/Library/Frameworks/R.framework/Resources/include" -DNDEBUG -I/opt/R/x86_64/include -fPIC -falign-functions=64 -Wall -g -O2 -c matrix.c -o matrix.o clang -arch x86_64 -I"/Library/Frameworks/R.framework/Resources/include" -DNDEBUG -I/opt/R/x86_64/include -fPIC -falign-functions=64 -Wall -g -O2 -c ncdf.c -o ncdf.o clang -arch x86_64 -I"/Library/Frameworks/R.framework/Resources/include" -DNDEBUG -I/opt/R/x86_64/include -fPIC -falign-functions=64 -Wall -g -O2 -c peak.c -o peak.o clang -arch x86_64 -I"/Library/Frameworks/R.framework/Resources/include" -DNDEBUG -I/opt/R/x86_64/include -fPIC -falign-functions=64 -Wall -g -O2 -c spectrum.c -o spectrum.o clang -arch x86_64 -I"/Library/Frameworks/R.framework/Resources/include" -DNDEBUG -I/opt/R/x86_64/include -fPIC -falign-functions=64 -Wall -g -O2 -c strutils.c -o strutils.o clang -arch x86_64 -I"/Library/Frameworks/R.framework/Resources/include" -DNDEBUG -I/opt/R/x86_64/include -fPIC -falign-functions=64 -Wall -g -O2 -c utils.c -o utils.o clang -arch x86_64 -dynamiclib -Wl,-headerpad_max_install_names -undefined dynamic_lookup -L/Library/Frameworks/R.framework/Resources/lib -L/opt/R/x86_64/lib -o TargetSearch.so Rinit.o baseline.o detection.o file.o find.o get_line.o hpf.o matrix.o ncdf.o peak.o spectrum.o strutils.o utils.o -F/Library/Frameworks/R.framework/.. -framework R -Wl,-framework -Wl,CoreFoundation installing to /Library/Frameworks/R.framework/Versions/4.3-x86_64/Resources/library/00LOCK-TargetSearch/00new/TargetSearch/libs ** R ** data ** inst ** byte-compile and prepare package for lazy loading ** help *** installing help indices ** building package indices ** installing vignettes ** testing if installed package can be loaded from temporary location ** checking absolute paths in shared objects and dynamic libraries ** testing if installed package can be loaded from final location ** testing if installed package keeps a record of temporary installation path * DONE (TargetSearch)
TargetSearch.Rcheck/tests/tinytest.Rout
R version 4.3.3 (2024-02-29) -- "Angel Food Cake" Copyright (C) 2024 The R Foundation for Statistical Computing Platform: x86_64-apple-darwin20 (64-bit) R is free software and comes with ABSOLUTELY NO WARRANTY. You are welcome to redistribute it under certain conditions. Type 'license()' or 'licence()' for distribution details. R is a collaborative project with many contributors. Type 'contributors()' for more information and 'citation()' on how to cite R or R packages in publications. Type 'demo()' for some demos, 'help()' for on-line help, or 'help.start()' for an HTML browser interface to help. Type 'q()' to quit R. > if ( requireNamespace("tinytest", quietly=TRUE) && requireNamespace("TargetSearchData", quietly=TRUE)) { + tinytest::test_package("TargetSearch", color=FALSE, verbose=1) + } Loading required package: TargetSearchData test_FindAllPeaks.R........... 19 tests OK 3.0s test_file.R................... 4 tests OK 0.2s test_ncdf4_plot_peak.R........ 7 tests OK 0.8s test_quantMatrix.R............ 6 tests OK 0.2s test_ri_data_extract.R........ 6 tests OK 9.5s test_ri_plot_peak.R........... 22 tests OK 0.3s test_tsLib.R.................. 12 tests OK 31ms test_tsRim.R.................. 6 tests OK 8ms test_tsSample.R............... 9 tests OK 19ms test_write_ri_file.R.......... 6 tests OK 18ms All ok, 97 results (14.1s) > > proc.time() user system elapsed 13.603 0.495 14.771
TargetSearch.Rcheck/TargetSearch-Ex.timings
name | user | system | elapsed | |
FAMEoutliers | 0.073 | 0.013 | 0.088 | |
FindAllPeaks | 2.223 | 0.088 | 2.447 | |
FindPeaks | 0.381 | 0.016 | 0.410 | |
ImportFameSettings | 0.022 | 0.002 | 0.026 | |
ImportLibrary | 0.042 | 0.002 | 0.047 | |
ImportSamples | 0.020 | 0.004 | 0.025 | |
NetCDFPeakFinding | 0.441 | 0.071 | 0.543 | |
Profile | 1.619 | 0.046 | 1.947 | |
ProfileCleanUp | 1.363 | 0.039 | 1.461 | |
RIcorrect | 20.853 | 2.791 | 25.060 | |
TSExample | 2.964 | 0.353 | 3.483 | |
Write.Results | 0.120 | 0.013 | 0.139 | |
baseline | 0.567 | 0.039 | 0.636 | |
baselineCorrection | 0.603 | 0.032 | 0.685 | |
baselineCorrectionQuant | 0.617 | 0.031 | 0.685 | |
checkRimLim | 2.121 | 0.133 | 2.373 | |
file | 0.157 | 0.022 | 0.188 | |
fixRI | 2.076 | 0.129 | 2.319 | |
medianRILib | 0.786 | 0.032 | 0.856 | |
ncdf4Convert-method | 0.161 | 0.013 | 0.177 | |
ncdf4_convert | 0.045 | 0.003 | 0.053 | |
ncdf4_convert_from_path | 4.402 | 1.264 | 6.147 | |
ncdf4_data_extract | 0.792 | 0.181 | 1.007 | |
ncdf4_plot_peak | 2.096 | 0.428 | 2.648 | |
ncdf4_update_ri | 0.568 | 0.065 | 0.656 | |
peakCDFextraction | 0.990 | 0.097 | 1.147 | |
peakFind | 0.410 | 0.029 | 0.463 | |
plotFAME | 0.013 | 0.008 | 0.021 | |
plotPeak | 0.435 | 0.028 | 0.486 | |
plotPeakRI | 1.517 | 0.061 | 1.665 | |
plotPeakSimple | 0.817 | 0.047 | 0.897 | |
plotRIdev | 0.722 | 0.030 | 0.788 | |
plotSpectra | 0.422 | 0.023 | 0.465 | |
quantMatrix | 1.359 | 0.045 | 1.465 | |
ri2rt | 0.007 | 0.000 | 0.008 | |
riMatrix | 1.857 | 0.109 | 2.050 | |
ri_data_extract | 0.080 | 0.005 | 0.091 | |
ri_plot_peak | 2.252 | 0.080 | 2.454 | |
rt2ri | 0.007 | 0.000 | 0.008 | |
sampleRI | 0.829 | 0.032 | 0.895 | |
tsLib-class | 0.047 | 0.006 | 0.054 | |
tsMSdata-class | 0.024 | 0.060 | 0.086 | |
tsProfile-class | 0.017 | 0.008 | 0.025 | |
tsRim-class | 0.005 | 0.001 | 0.006 | |
tsSample-class | 0.043 | 0.006 | 0.050 | |
tsUpdate-method | 0.000 | 0.001 | 0.001 | |
updateRI | 1.633 | 0.145 | 1.859 | |
writeLibText | 0.038 | 0.002 | 0.044 | |
writeMSP | 0.044 | 0.007 | 0.054 | |